BEGIN:VCALENDAR
VERSION:2.0
PRODID:-//KI Science Park - ECPv6.15.0.1//NONSGML v1.0//EN
CALSCALE:GREGORIAN
METHOD:PUBLISH
X-ORIGINAL-URL:https://www.kisciencepark.kisciencepark.hemsida.eu
X-WR-CALDESC:Events for KI Science Park
REFRESH-INTERVAL;VALUE=DURATION:PT1H
X-Robots-Tag:noindex
X-PUBLISHED-TTL:PT1H
BEGIN:VTIMEZONE
TZID:Europe/Stockholm
BEGIN:DAYLIGHT
TZOFFSETFROM:+0100
TZOFFSETTO:+0200
TZNAME:CEST
DTSTART:20240331T010000
END:DAYLIGHT
BEGIN:STANDARD
TZOFFSETFROM:+0200
TZOFFSETTO:+0100
TZNAME:CET
DTSTART:20241027T010000
END:STANDARD
END:VTIMEZONE
BEGIN:VEVENT
DTSTART;TZID=Europe/Stockholm:20240419T120000
DTEND;TZID=Europe/Stockholm:20240419T125500
DTSTAMP:20260421T064020
CREATED:20240329T105901Z
LAST-MODIFIED:20240415T095559Z
UID:10000072-1713528000-1713531300@www.kisciencepark.kisciencepark.hemsida.eu
SUMMARY:KI Science Park's CEO and Business Leader Lunch at KI Innovations with special guests: JointCells\, ToxoTech True Dose.
DESCRIPTION:Welcome to KI Science Park CEO and Business Leader Lunch at KI Innovations with special guests: JointCells\, ToxoTech True Dose. \nKI Science Park member network  | By invitation only \nJohan Weigelt\, CEO\, KI Holding and KI Innovations\, will give a brief introduction with a focus in the DRIVE incubator and then we will welcome some of the most recently accepted DRIVE incubator companies (class of 2024): Jose\, Inzunza\, CEO at JointCells\, Geoffrey Masuyer CEO at ToxoTech and Azita Hedayatu at True Dose. They will present them self’s and their company. \nAs always\, we will have time for questions and an open discussion round the table. A light lunch will be served. \nWe look forward to welcoming you! \nJohan Weigelt\, CEO at KI Innovations\nSara Gunnerås\, COO at KI Science Park \n\nABOUT\nThe CEO and Business Leader Lunch is a monthly networking event exclusively for CEOs and business leaders of our community. It fosters connections\, strengthens networks among KI Science Park members\, and welcomes new companies on Campus Solna. It provides a platform for insightful discussions\, idea exchange\, and potential collaborations. \nContact Sara Gunnerås for more information and invitation.
URL:https://www.kisciencepark.kisciencepark.hemsida.eu/event/ki-science-park-ceo-and-business-leader-lunch-april24/
LOCATION:KI Innovations AB\, Nanna Svarts Väg 2\, floor 4\, Solna\, 17165\, Sweden
ATTACH;FMTTYPE=image/jpeg:https://www.kisciencepark.kisciencepark.hemsida.eu/wp-content/uploads/2024/03/2024-ceo-lunch-flyers-april-24.jpg
ORGANIZER;CN="KI Science Park":MAILTO:event@kisciencepark.se
END:VEVENT
END:VCALENDAR