BEGIN:VCALENDAR
VERSION:2.0
PRODID:-//KI Science Park - ECPv6.15.0.1//NONSGML v1.0//EN
CALSCALE:GREGORIAN
METHOD:PUBLISH
X-WR-CALNAME:KI Science Park
X-ORIGINAL-URL:https://www.kisciencepark.kisciencepark.hemsida.eu
X-WR-CALDESC:Events for KI Science Park
REFRESH-INTERVAL;VALUE=DURATION:PT1H
X-Robots-Tag:noindex
X-PUBLISHED-TTL:PT1H
BEGIN:VTIMEZONE
TZID:Europe/Stockholm
BEGIN:DAYLIGHT
TZOFFSETFROM:+0100
TZOFFSETTO:+0200
TZNAME:CEST
DTSTART:20250330T010000
END:DAYLIGHT
BEGIN:STANDARD
TZOFFSETFROM:+0200
TZOFFSETTO:+0100
TZNAME:CET
DTSTART:20251026T010000
END:STANDARD
END:VTIMEZONE
BEGIN:VEVENT
DTSTART;TZID=Europe/Stockholm:20251202T113000
DTEND;TZID=Europe/Stockholm:20251202T125000
DTSTAMP:20260420T233527
CREATED:20250915T195227Z
LAST-MODIFIED:20251023T200825Z
UID:10000177-1764675000-1764679800@www.kisciencepark.kisciencepark.hemsida.eu
SUMMARY:Lab Network Lunch meeting
DESCRIPTION:Lab Network Lunch – Practical minds\, shared solutions!\nJoin us for an informal and engaging lunch where lab enthusiasts come together to share experiences\, exchange ideas\, and connect with like-minded peers. Whether you’re a seasoned expert or just passionate about lab work\, this is a great opportunity to expand your network and be part of a supportive community. \nTopics we will cover during the session: \n\n– Update by organisers.\n– Lab Life: Discussion on daily lab operations. Share challenges and solutions.\n– R&D Exchange: Learn and get inspired by peers – research tech\, science and more.\n\nInvitations\, including reminder is sent to previous participants. A light lunch will be served. \nThis is a place holder. Registration opens closer to the meeting date.  \nWhether you’re a regular participant or new to the group\, your presence will be greatly valued. \nWe look forward to seeing you there! \n________________________ \nAbout the Lab Network\nA community for employees at our member companies who live and breathe lab life. Whether it’s lab coat logistics or sustainable R&D\, this is where we exchange experiences and explore smarter ways of working – together. \nContact Sara Gunnerås\, Director KI Science Park or Satya Silcock\, Lab Manager A Working Lab for more information.\nContact info: event@kisciencepark.se \n 
URL:https://www.kisciencepark.kisciencepark.hemsida.eu/event/lab-network-lunch-meeting-dec-25/
LOCATION:Innomedicum\, AWL\, Nanna Svartz väg 2\, Solna\, 17165\, Sweden
ATTACH;FMTTYPE=image/jpeg:https://www.kisciencepark.kisciencepark.hemsida.eu/wp-content/uploads/2025/09/placeholder-lab-network-calender.jpg
ORGANIZER;CN="KI Science Park":MAILTO:event@kisciencepark.se
END:VEVENT
END:VCALENDAR