BEGIN:VCALENDAR
VERSION:2.0
PRODID:-//KI Science Park - ECPv6.15.0.1//NONSGML v1.0//EN
CALSCALE:GREGORIAN
METHOD:PUBLISH
X-ORIGINAL-URL:https://www.kisciencepark.kisciencepark.hemsida.eu
X-WR-CALDESC:Events for KI Science Park
REFRESH-INTERVAL;VALUE=DURATION:PT1H
X-Robots-Tag:noindex
X-PUBLISHED-TTL:PT1H
BEGIN:VTIMEZONE
TZID:Europe/Stockholm
BEGIN:DAYLIGHT
TZOFFSETFROM:+0100
TZOFFSETTO:+0200
TZNAME:CEST
DTSTART:20250330T010000
END:DAYLIGHT
BEGIN:STANDARD
TZOFFSETFROM:+0200
TZOFFSETTO:+0100
TZNAME:CET
DTSTART:20251026T010000
END:STANDARD
END:VTIMEZONE
BEGIN:VEVENT
DTSTART;TZID=Europe/Stockholm:20251016T123000
DTEND;TZID=Europe/Stockholm:20251016T170000
DTSTAMP:20260421T030000
CREATED:20250917T124331Z
LAST-MODIFIED:20250917T125001Z
UID:10000178-1760617800-1760634000@www.kisciencepark.kisciencepark.hemsida.eu
SUMMARY:TEF Health: Deploying Trustworthy AI in Healthcare – Validation and Adoption
DESCRIPTION:Welcome to an afternoon focused on how to develop\, validate\, and adopt AI in healthcare. This gathering will bring together healthcare providers\, companies\, policymakers\, and service providers promoting AI development. \n\nIn today’s rapidly evolving healthcare landscape\, artificial intelligence (AI) and robotics are transforming diagnostics\, treatment\, and patient care. However\, the journey from prototype to clinical practice can feel like navigating a maze of regulatory\, technical\, and financial barriers. \nThe event is arranged by TEF-Health together with Health Data Sweden. Both organisations are initiatives within the European Commission programs for a digital Europe (DIGITAL)\, with co-funding from Vinnova. The event is also supported by KI Science Park and KI Innovations. \n\nMore information and registration here! \nThis meeting is in-person only\, so make sure to join us at the venue at Karolinska Institutet! \n_______ \nSupport for bringing AI solutions to the market: TEF-Health and HDS \n\nAbout TEF-Health – an implementation instrument according to the EU AI Act \nTEF-Health (Testing and Experimentation Facility for Health AI and Robotics) is a European Commission-funded platform offering real-world testing environments\, regulatory support\, and business development services to help SMEs bring trustworthy AI to market faster. \nWith over 50 partners – including top hospitals\, research institutes\, and innovation hubs – TEF-Health provides a single-entry point to a network of physical and virtual testing facilities across EuroDeploying Trustworthy AI in Healht. The Swedish node is run by Karolinska Institutet together with SciLifeLab and RISE. \nAbout Health Data Sweden \nHealth Data Sweden (HDS) is a national ecosystem that brings together leading actors from all over Sweden to help SMEs and the public sector focus on health data. This European Digital Innovation Hub (EDIH) facilitates innovation and development with a high digital maturity in Sweden and Europe. Helps companies and public stakeholders develop\, test and validate health data ideas\, products\, services and business processes.
URL:https://www.kisciencepark.kisciencepark.hemsida.eu/event/tef-health-deploying-trustworthy-ai-in-healthcare-validation-and-adoption/
LOCATION:Biomedicum\, Eva & Georg Klein\,\, Solnavägen 9\, Solna\, Sweden
ATTACH;FMTTYPE=image/jpeg:https://www.kisciencepark.kisciencepark.hemsida.eu/wp-content/uploads/2025/09/251016-tef-event.jpg
END:VEVENT
END:VCALENDAR