BEGIN:VCALENDAR
VERSION:2.0
PRODID:-//KI Science Park - ECPv6.15.0.1//NONSGML v1.0//EN
CALSCALE:GREGORIAN
METHOD:PUBLISH
X-ORIGINAL-URL:https://www.kisciencepark.kisciencepark.hemsida.eu
X-WR-CALDESC:Events for KI Science Park
REFRESH-INTERVAL;VALUE=DURATION:PT1H
X-Robots-Tag:noindex
X-PUBLISHED-TTL:PT1H
BEGIN:VTIMEZONE
TZID:Europe/Stockholm
BEGIN:DAYLIGHT
TZOFFSETFROM:+0100
TZOFFSETTO:+0200
TZNAME:CEST
DTSTART:20250330T010000
END:DAYLIGHT
BEGIN:STANDARD
TZOFFSETFROM:+0200
TZOFFSETTO:+0100
TZNAME:CET
DTSTART:20251026T010000
END:STANDARD
END:VTIMEZONE
BEGIN:VEVENT
DTSTART;TZID=Europe/Stockholm:20251106T113000
DTEND;TZID=Europe/Stockholm:20251106T130000
DTSTAMP:20260421T003010
CREATED:20251005T202941Z
LAST-MODIFIED:20251010T151213Z
UID:10000180-1762428600-1762434000@www.kisciencepark.kisciencepark.hemsida.eu
SUMMARY:A New Starting Point for Research: Mavatar Discovery - Lunch & Learn with Mavatar
DESCRIPTION:A New Starting Point for Research: Mavatar Discovery\nWhat if you could move from raw transcriptomic data to actionable biomedical insights – in hours instead of months? \nThat’s the promise of Mavatar Discovery\, a next-generation research platform now available to researchers\, innovators\, and clinicians. \nJoin us for an engaging lunch session where experts from Mavatar will share how cutting-edge AI and data-driven methods are transforming precision medicine – from early research to real-world impact. \nRegister here \nAbout the lunch:  \nMost research methods today rely heavily on existing knowledge\, making the path to new insights slow and complex — requiring deep expertise and months of manual analysis. \nMavatar Discovery was created to solve exactly this problem — in a fully data-driven way. \nThe platform integrates vast amounts of published transcriptomic data into one cohesive resource\, with large-scale analyses performed a priori. When you log in\, you arrive at a “set table” of ready-to-use biological networks and context. \nInstead of starting from scratch with clustering or differential expression\, Discovery takes you straight to biologically meaningful insights — enabling faster\, simpler\, and more powerful discoveries. \nAt this Lunch & Learn\, we will share concrete cases and demonstrate why Mavatar Discovery is the new starting point for research. \nThis session is designed for researchers who want to spend less time on data crunching and more time driving real breakthroughs. Perfect for companies\, researchers\, and innovators working with biotech\, drug development or precision medicine and any researcher who performs bioinformatic or computational biology research\, whether they are academic or clinical researchers working with pharma. \nKEY TAKEAWAYS \n\nThe DINA Method in Action – Discover how Mavatar’s unique Deep Integrated Network Analysis unlocks the hidden mechanisms of disease.\nTurning Public Data into Insight – See how vast\, unbiased datasets are mined and transformed into curated resources available at a click.\nFrom Challenges to Solutions – Learn how a fully data-driven approach solves common research bottlenecks in biomarker discovery and translational research.\nSmarter\, Faster\, More Cost-Effective – Explore how the newest technology saves both time and resources\, accelerating your path to impact.\n\nAGENDA \n11.30 – 11.45 Registration\, lunch wraps served\n11.45 – 11.50 Welcome and introduction by KI Science Park\n11.50 – 12.30 Presentation by Max Garvell and Parham Pourbozorgi\, Mavatar\n12.30 – 13.00 Q&A\, closing\, coffee/tea & networking. \n SPEAKERs \nMax Garvell\, Business Development Manager\, with 20 years’ experience from the Pharma industry in companies such as Novartis and GSK \nParham Pourbozorgi has a Ph.D. in Medical Biochemistry with years of experience in R&D bioinformatics\, and AI computer technology. \nAbout Mavatar \nMavatar is a global specialist in AI- and data driven precision medicine solutions. Built on more than 20 years of scientific innovation\, our proprietary platform transforms how we understand and treat disease. By creating high-resolution digital twins of both patients and diseases\, Mavatar enables faster\, smarter decisions across the entire healthcare spectrum – from research labs to real-world care. \nAt the core is our proprietary framework DINA (Deep Integrated Network Analysis)\, which powers the creation of digital twins and enables data-driven insights across the health care spectrum. \nRead more here: www.mavatar.com   \nDon’t miss this opportunity to network\, learn\, and enjoy a delicious meal with industry experts! \nWelcome!  \n————————————————– \nLunch & Learn – Feed your mind over lunch.\nExperts from industry\, services\, and suppliers share insights\, tools\, and trends. Enjoy a light lunch while expanding your knowledge and connections.
URL:https://www.kisciencepark.kisciencepark.hemsida.eu/event/lunch-learn-with-mavatar/
LOCATION:Innomedicum\,  A Working Lab Cafe  |\, Nanna Svarts Väg 4\, Solna\, 17165\, Sweden
ATTACH;FMTTYPE=image/jpeg:https://www.kisciencepark.kisciencepark.hemsida.eu/wp-content/uploads/2025/10/mavatar-lunch-learn-flyers-original.jpg
ORGANIZER;CN="KI Science Park":MAILTO:event@kisciencepark.se
END:VEVENT
BEGIN:VEVENT
DTSTART;TZID=Europe/Stockholm:20251016T114500
DTEND;TZID=Europe/Stockholm:20251016T130000
DTSTAMP:20260421T003010
CREATED:20250804T174607Z
LAST-MODIFIED:20250913T122701Z
UID:10000164-1760615100-1760619600@www.kisciencepark.kisciencepark.hemsida.eu
SUMMARY:Lessons learnt from pharmacovigilance audits and inspections - Lunch & Learn with Capish
DESCRIPTION:Welcome to join us for an engaging lunch session with Capish!\nIn drug development\, maintaining high data quality is essential for regulatory success and patient safety. Discover key lessons and strategies helping sponsors and marketing authorization holders to navigate audits and inspections more confidently—from early development to post-approval activities. \nTakeaways \n\n– Gain insight into impacts of poor vs. high-quality -pharmacovigilance data\n– Understand the importance of readiness for audits and inspections\n– Know how to avoid other common pitfalls related to pharmacovigilance data\n\n  \nRegister here! \n  \nAgenda\n11.45 – 12.00 Registration\, lunch wraps served\n12.00 – 12.05 Welcome and introduction by KI Science Park\n12.05 – 12.40 Presentations by Elvira Santic\, pharmacovigilance expert and Eva Kelt\, CEO of Capish.\n12.40 – 13.00 Q&A\, closing\, coffee & networking. \n  \nAbout Capish \nCapish is a software company\, developing innovative products for exploration and visualization of drug development data. Capish offers customer specific solutions as well as standardized application setups for data repositories and for monitoring purposes. Capish also provides an extensive range of services related to purposeful utilization and future-proof management of clinical data and safety data. Read more here: www.capish.com \nSpeakers \nElvira Santic is a pharmacovigilance expert with over 15 years of experience in drug safety across global and local settings. She has led PV operations in multinational clinical trials and managed access programs and has gained deep expertise in optimizing safety processes. Elvira also has in-depth knowledge of regulatory pathways\, including FDA product registrations and EMA marketing authorization applications. View profile on LinkedIn. \nEva Kelty\, the CEO of Capish\, holds a Bachelor of Science in Statistics and boasts an extensive career in Life Sciences. With expertise spanning biostatistics\, clinical study design\, and management roles at CROs\, she recognizes the pivotal role of rapid access to democratized data in driving project success. View profile on LinkedIn. \n_________________________________________ \nLunch & Learn – Feed your mind over lunch.\nExperts from industry\, services\, and suppliers share insights\, tools\, and trends. Enjoy a light lunch while expanding your knowledge and connections.
URL:https://www.kisciencepark.kisciencepark.hemsida.eu/event/lunch-learn-3/
LOCATION:Innomedicum\,  A Working Lab Cafe  |\, Nanna Svarts Väg 4\, Solna\, 17165\, Sweden
ATTACH;FMTTYPE=image/png:https://www.kisciencepark.kisciencepark.hemsida.eu/wp-content/uploads/2025/08/251015-ll-capish-flyer.png
ORGANIZER;CN="KI Science Park":MAILTO:event@kisciencepark.se
END:VEVENT
END:VCALENDAR