BEGIN:VCALENDAR
VERSION:2.0
PRODID:-//KI Science Park - ECPv6.15.0.1//NONSGML v1.0//EN
CALSCALE:GREGORIAN
METHOD:PUBLISH
X-ORIGINAL-URL:https://www.kisciencepark.kisciencepark.hemsida.eu
X-WR-CALDESC:Events for KI Science Park
REFRESH-INTERVAL;VALUE=DURATION:PT1H
X-Robots-Tag:noindex
X-PUBLISHED-TTL:PT1H
BEGIN:VTIMEZONE
TZID:Europe/Stockholm
BEGIN:DAYLIGHT
TZOFFSETFROM:+0100
TZOFFSETTO:+0200
TZNAME:CEST
DTSTART:20260329T010000
END:DAYLIGHT
BEGIN:STANDARD
TZOFFSETFROM:+0200
TZOFFSETTO:+0100
TZNAME:CET
DTSTART:20261025T010000
END:STANDARD
END:VTIMEZONE
BEGIN:VEVENT
DTSTART;VALUE=DATE:20260501
DTEND;VALUE=DATE:20260502
DTSTAMP:20260420T200512
CREATED:20260106T144656Z
LAST-MODIFIED:20260106T144656Z
UID:10000200-1777593600-1777679999@www.kisciencepark.kisciencepark.hemsida.eu
SUMMARY:May: Group training at Campus Solna – every Tuesday and Thursday
DESCRIPTION:Invitation by Akademiska Hus: Take the chance to recharge and boost your energy! \nAt Campus Solna\, Akademiska Hus offers free training sessions every week\, led by professional coaches from Urban Tribes. \nThe sessions are open to everyone working och studying on Campus Solna – regardless of fitness level – and aim to bring energy and wellbeing into your day. \nCircuit traning – every Tuesday\nA full-body workout where you rotate through different stations with exercises focusing on strength\, mobility\, and recovery – such as bodyweight training\, resistance bands\, and core exercises. A perfect break in the middle of your day to boost both energy and focus. \nTime: 11.30 AM\nTraining time: 60 minutes\nLocation: the pétanque courts located in the Pelousen area\nContact: johanna.billberg@akademiskahus.se \nYoga sessions – every Thursday\nWhether you are a beginner or experienced in yoga\, you are most welcome. Our classes are designed to make everyone feel comfortable and inspired. Here you will have the opportunity to strengthen your body\, improve your mobility\, and find a moment of calm in the midst of everyday life. Bring: Your own yoga mat. \nTime: 11.00 AM\nTraining time: 60 minutes\nLocation: Liljestrands väg 4\, Fysiologen. 4th floor.\nContact: johanna.billberg@akademiskahus.se \nBy participating\, you consent to Akademiska Hus and Urban Tribes taking photographs during the sessions. If you prefer not to be photographed\, please let us know in advance \n 
URL:https://www.kisciencepark.kisciencepark.hemsida.eu/event/may-group-training-at-campus-solna-every-tuesday-and-thursday/
ATTACH;FMTTYPE=image/jpeg:https://www.kisciencepark.kisciencepark.hemsida.eu/wp-content/uploads/2025/09/ag-aktiv-oct-dec.jpg
END:VEVENT
BEGIN:VEVENT
DTSTART;VALUE=DATE:20260601
DTEND;VALUE=DATE:20260602
DTSTAMP:20260420T200512
CREATED:20260106T144801Z
LAST-MODIFIED:20260106T144801Z
UID:10000201-1780272000-1780358399@www.kisciencepark.kisciencepark.hemsida.eu
SUMMARY:June: Group training at Campus Solna – every Tuesday and Thursday
DESCRIPTION:Invitation by Akademiska Hus: Take the chance to recharge and boost your energy! \nAt Campus Solna\, Akademiska Hus offers free training sessions every week\, led by professional coaches from Urban Tribes. \nThe sessions are open to everyone working och studying on Campus Solna – regardless of fitness level – and aim to bring energy and wellbeing into your day. \nCircuit traning – every Tuesday\nA full-body workout where you rotate through different stations with exercises focusing on strength\, mobility\, and recovery – such as bodyweight training\, resistance bands\, and core exercises. A perfect break in the middle of your day to boost both energy and focus. \nTime: 11.30 AM\nTraining time: 60 minutes\nLocation: the pétanque courts located in the Pelousen area\nContact: johanna.billberg@akademiskahus.se \nYoga sessions – every Thursday\nWhether you are a beginner or experienced in yoga\, you are most welcome. Our classes are designed to make everyone feel comfortable and inspired. Here you will have the opportunity to strengthen your body\, improve your mobility\, and find a moment of calm in the midst of everyday life. Bring: Your own yoga mat. \nTime: 11.00 AM\nTraining time: 60 minutes\nLocation: Liljestrands väg 4\, Fysiologen. 4th floor.\nContact: johanna.billberg@akademiskahus.se \nBy participating\, you consent to Akademiska Hus and Urban Tribes taking photographs during the sessions. If you prefer not to be photographed\, please let us know in advance \n 
URL:https://www.kisciencepark.kisciencepark.hemsida.eu/event/jun-group-training-at-campus-solna-every-tuesday-and-thursday-2/
ATTACH;FMTTYPE=image/jpeg:https://www.kisciencepark.kisciencepark.hemsida.eu/wp-content/uploads/2025/09/ag-aktiv-oct-dec.jpg
END:VEVENT
END:VCALENDAR