BEGIN:VCALENDAR
VERSION:2.0
PRODID:-//KI Science Park - ECPv6.15.0.1//NONSGML v1.0//EN
CALSCALE:GREGORIAN
METHOD:PUBLISH
X-WR-CALNAME:KI Science Park
X-ORIGINAL-URL:https://www.kisciencepark.kisciencepark.hemsida.eu
X-WR-CALDESC:Events for KI Science Park
REFRESH-INTERVAL;VALUE=DURATION:PT1H
X-Robots-Tag:noindex
X-PUBLISHED-TTL:PT1H
BEGIN:VTIMEZONE
TZID:Europe/Stockholm
BEGIN:DAYLIGHT
TZOFFSETFROM:+0100
TZOFFSETTO:+0200
TZNAME:CEST
DTSTART:20230326T010000
END:DAYLIGHT
BEGIN:STANDARD
TZOFFSETFROM:+0200
TZOFFSETTO:+0100
TZNAME:CET
DTSTART:20231029T010000
END:STANDARD
BEGIN:DAYLIGHT
TZOFFSETFROM:+0100
TZOFFSETTO:+0200
TZNAME:CEST
DTSTART:20240331T010000
END:DAYLIGHT
BEGIN:STANDARD
TZOFFSETFROM:+0200
TZOFFSETTO:+0100
TZNAME:CET
DTSTART:20241027T010000
END:STANDARD
BEGIN:DAYLIGHT
TZOFFSETFROM:+0100
TZOFFSETTO:+0200
TZNAME:CEST
DTSTART:20250330T010000
END:DAYLIGHT
BEGIN:STANDARD
TZOFFSETFROM:+0200
TZOFFSETTO:+0100
TZNAME:CET
DTSTART:20251026T010000
END:STANDARD
BEGIN:DAYLIGHT
TZOFFSETFROM:+0100
TZOFFSETTO:+0200
TZNAME:CEST
DTSTART:20260329T010000
END:DAYLIGHT
BEGIN:STANDARD
TZOFFSETFROM:+0200
TZOFFSETTO:+0100
TZNAME:CET
DTSTART:20261025T010000
END:STANDARD
END:VTIMEZONE
BEGIN:VEVENT
DTSTART;VALUE=DATE:20260401
DTEND;VALUE=DATE:20260402
DTSTAMP:20260420T214852
CREATED:20260106T144546Z
LAST-MODIFIED:20260106T144546Z
UID:10000199-1775001600-1775087999@www.kisciencepark.kisciencepark.hemsida.eu
SUMMARY:April: Group training at Campus Solna – every Tuesday and Thursday
DESCRIPTION:Invitation by Akademiska Hus: Take the chance to recharge and boost your energy! \nAt Campus Solna\, Akademiska Hus offers free training sessions every week\, led by professional coaches from Urban Tribes. \nThe sessions are open to everyone working och studying on Campus Solna – regardless of fitness level – and aim to bring energy and wellbeing into your day. \nCircuit traning – every Tuesday\nA full-body workout where you rotate through different stations with exercises focusing on strength\, mobility\, and recovery – such as bodyweight training\, resistance bands\, and core exercises. A perfect break in the middle of your day to boost both energy and focus. \nTime: 11.30 AM\nTraining time: 60 minutes\nLocation: the pétanque courts located in the Pelousen area\nContact: johanna.billberg@akademiskahus.se \nYoga sessions – every Thursday\nWhether you are a beginner or experienced in yoga\, you are most welcome. Our classes are designed to make everyone feel comfortable and inspired. Here you will have the opportunity to strengthen your body\, improve your mobility\, and find a moment of calm in the midst of everyday life. Bring: Your own yoga mat. \nTime: 11.00 AM\nTraining time: 60 minutes\nLocation: Liljestrands väg 4\, Fysiologen. 4th floor.\nContact: johanna.billberg@akademiskahus.se \nBy participating\, you consent to Akademiska Hus and Urban Tribes taking photographs during the sessions. If you prefer not to be photographed\, please let us know in advance \n 
URL:https://www.kisciencepark.kisciencepark.hemsida.eu/event/apr-group-training-at-campus-solna-every-tuesday-and-thursday/
ATTACH;FMTTYPE=image/jpeg:https://www.kisciencepark.kisciencepark.hemsida.eu/wp-content/uploads/2025/09/ag-aktiv-oct-dec.jpg
END:VEVENT
BEGIN:VEVENT
DTSTART;VALUE=DATE:20260301
DTEND;VALUE=DATE:20260302
DTSTAMP:20260420T214852
CREATED:20260106T144510Z
LAST-MODIFIED:20260106T144510Z
UID:10000198-1772323200-1772409599@www.kisciencepark.kisciencepark.hemsida.eu
SUMMARY:March: Group training at Campus Solna – every Tuesday and Thursday
DESCRIPTION:Invitation by Akademiska Hus: Take the chance to recharge and boost your energy! \nAt Campus Solna\, Akademiska Hus offers free training sessions every week\, led by professional coaches from Urban Tribes. \nThe sessions are open to everyone working och studying on Campus Solna – regardless of fitness level – and aim to bring energy and wellbeing into your day. \nCircuit traning – every Tuesday\nA full-body workout where you rotate through different stations with exercises focusing on strength\, mobility\, and recovery – such as bodyweight training\, resistance bands\, and core exercises. A perfect break in the middle of your day to boost both energy and focus. \nTime: 11.30 AM\nTraining time: 60 minutes\nLocation: the pétanque courts located in the Pelousen area\nContact: johanna.billberg@akademiskahus.se \nYoga sessions – every Thursday\nWhether you are a beginner or experienced in yoga\, you are most welcome. Our classes are designed to make everyone feel comfortable and inspired. Here you will have the opportunity to strengthen your body\, improve your mobility\, and find a moment of calm in the midst of everyday life. Bring: Your own yoga mat. \nTime: 11.00 AM\nTraining time: 60 minutes\nLocation: Liljestrands väg 4\, Fysiologen. 4th floor.\nContact: johanna.billberg@akademiskahus.se \nBy participating\, you consent to Akademiska Hus and Urban Tribes taking photographs during the sessions. If you prefer not to be photographed\, please let us know in advance \n 
URL:https://www.kisciencepark.kisciencepark.hemsida.eu/event/mar-group-training-at-campus-solna-every-tuesday-and-thursday/
ATTACH;FMTTYPE=image/jpeg:https://www.kisciencepark.kisciencepark.hemsida.eu/wp-content/uploads/2025/09/ag-aktiv-oct-dec.jpg
END:VEVENT
BEGIN:VEVENT
DTSTART;VALUE=DATE:20260201
DTEND;VALUE=DATE:20260202
DTSTAMP:20260420T214852
CREATED:20260106T144402Z
LAST-MODIFIED:20260106T144612Z
UID:10000197-1769904000-1769990399@www.kisciencepark.kisciencepark.hemsida.eu
SUMMARY:February: Group training at Campus Solna – every Tuesday and Thursday
DESCRIPTION:Invitation by Akademiska Hus: Take the chance to recharge and boost your energy! \nAt Campus Solna\, Akademiska Hus offers free training sessions every week\, led by professional coaches from Urban Tribes. \nThe sessions are open to everyone working och studying on Campus Solna – regardless of fitness level – and aim to bring energy and wellbeing into your day. \nCircuit traning – every Tuesday\nA full-body workout where you rotate through different stations with exercises focusing on strength\, mobility\, and recovery – such as bodyweight training\, resistance bands\, and core exercises. A perfect break in the middle of your day to boost both energy and focus. \nTime: 11.30 AM\nTraining time: 60 minutes\nLocation: the pétanque courts located in the Pelousen area\nContact: johanna.billberg@akademiskahus.se \nYoga sessions – every Thursday\nWhether you are a beginner or experienced in yoga\, you are most welcome. Our classes are designed to make everyone feel comfortable and inspired. Here you will have the opportunity to strengthen your body\, improve your mobility\, and find a moment of calm in the midst of everyday life. Bring: Your own yoga mat. \nTime: 11.00 AM\nTraining time: 60 minutes\nLocation: Liljestrands väg 4\, Fysiologen. 4th floor.\nContact: johanna.billberg@akademiskahus.se \nBy participating\, you consent to Akademiska Hus and Urban Tribes taking photographs during the sessions. If you prefer not to be photographed\, please let us know in advance \n 
URL:https://www.kisciencepark.kisciencepark.hemsida.eu/event/feb-group-training-at-campus-solna-every-tuesday-and-thursday/
ATTACH;FMTTYPE=image/jpeg:https://www.kisciencepark.kisciencepark.hemsida.eu/wp-content/uploads/2025/09/ag-aktiv-oct-dec.jpg
END:VEVENT
BEGIN:VEVENT
DTSTART;VALUE=DATE:20260101
DTEND;VALUE=DATE:20260102
DTSTAMP:20260420T214852
CREATED:20260106T143718Z
LAST-MODIFIED:20260106T144301Z
UID:10000195-1767225600-1767311999@www.kisciencepark.kisciencepark.hemsida.eu
SUMMARY:January: Group training at Campus Solna – every Tuesday and Thursday
DESCRIPTION:Invitation by Akademiska Hus: Take the chance to recharge and boost your energy! \nAt Campus Solna\, Akademiska Hus offers free training sessions every week\, led by professional coaches from Urban Tribes. \nThe sessions are open to everyone working och studying on Campus Solna – regardless of fitness level – and aim to bring energy and wellbeing into your day. \nCircuit traning – every Tuesday from Jan 13\, 2026.\nA full-body workout where you rotate through different stations with exercises focusing on strength\, mobility\, and recovery – such as bodyweight training\, resistance bands\, and core exercises. A perfect break in the middle of your day to boost both energy and focus. \nTime: 11.30 AM\nTraining time: 60 minutes\nLocation: the pétanque courts located in the Pelousen area\nContact: johanna.billberg@akademiskahus.se \nYoga sessions – every Thursday from Jan 15\, 2026.\nWhether you are a beginner or experienced in yoga\, you are most welcome. Our classes are designed to make everyone feel comfortable and inspired. Here you will have the opportunity to strengthen your body\, improve your mobility\, and find a moment of calm in the midst of everyday life. Bring: Your own yoga mat. \nTime: 11.00 AM\nTraining time: 60 minutes\nLocation: Liljestrands väg 4\, Fysiologen. 4th floor.\nContact: johanna.billberg@akademiskahus.se \nBy participating\, you consent to Akademiska Hus and Urban Tribes taking photographs during the sessions. If you prefer not to be photographed\, please let us know in advance \n 
URL:https://www.kisciencepark.kisciencepark.hemsida.eu/event/stay-active-on-campus-solna-jan-2026/
ATTACH;FMTTYPE=image/jpeg:https://www.kisciencepark.kisciencepark.hemsida.eu/wp-content/uploads/2025/09/ag-aktiv-oct-dec.jpg
END:VEVENT
BEGIN:VEVENT
DTSTART;TZID=Europe/Stockholm:20251216T160000
DTEND;TZID=Europe/Stockholm:20251216T180000
DTSTAMP:20260420T214852
CREATED:20251023T201818Z
LAST-MODIFIED:20251112T095556Z
UID:10000192-1765900800-1765908000@www.kisciencepark.kisciencepark.hemsida.eu
SUMMARY:KI Science Park Winter Mingle 2025
DESCRIPTION:Community activity: \nBefore we all take a well-deserved break\, let’s get together for a cozy Winter Mingel! \nJoin us for a relaxed afternoon with good company\, snacks\, and drinks as we round off the year together. \nA seasonal highlight — our annual glögg tasting — will of course be part of the celebration. \nThis is a great opportunity to connect with others in our community\, share highlights from the past year\, and simply enjoy some time together before the holidays. \nAn invitation is sent to our members\, tenants and partners – let’s celebrate the season and the people that make our community thrive! \nWarm welcome! \nKI Science Park\, KI Innovations\, Akademiska Hus and A Working Lab \n 
URL:https://www.kisciencepark.kisciencepark.hemsida.eu/event/ki-science-park-winter-mingle-2025/
LOCATION:Innomedicum\, A Working Lab Cafe  |\, Nanna Svartz Väg 4\, Solna\, 171 65
ATTACH;FMTTYPE=image/jpeg:https://www.kisciencepark.kisciencepark.hemsida.eu/wp-content/uploads/2025/10/251216-winter-mingel-1.jpg
ORGANIZER;CN="KI Science Park":MAILTO:event@kisciencepark.se
END:VEVENT
BEGIN:VEVENT
DTSTART;VALUE=DATE:20251201
DTEND;VALUE=DATE:20251202
DTSTAMP:20260420T214852
CREATED:20251006T151519Z
LAST-MODIFIED:20251006T151525Z
UID:10000184-1764547200-1764633599@www.kisciencepark.kisciencepark.hemsida.eu
SUMMARY:Stay active on Campus Solna! Every Tuesday and Thursday during December
DESCRIPTION:Invitation by Akademiska Hus: Take the chance to recharge and boost your energy! \nAt Campus Solna\, Akademiska Hus offers free training sessions every week\, led by professional coaches from Urban Tribes. The sessions are open to everyone working och studying on Campus Solna – regardless of fitness level – and aim to bring energy and wellbeing into your day. \nCircuit traning – every Tuesday \nA full-body workout where you rotate through different stations with exercises focusing on strength\, mobility\, and recovery – such as bodyweight training\, resistance bands\, and core exercises. A perfect break in the middle of your day to boost both energy and focus. \nTime: 11.30 AM\nTraining time: 60 minutes\nLocation: the pétanque courts located in the Pelousen area\nContact: johanna.billberg@akademiskahus.se \nPlay tennis with us! – every Thursday.\nA class for beginners and those with a little tennis experience who can rally a few times over the net with a partner. It’s all about having fun and giving it a go – no pressure\, just play. \nPlease bring your own racket. We only have limited spots available – don’t forget to sign up. \nTime: 11.00 AM\nTraining time: 60 minutes\nLocation: Tennis courts at Campus Solna\nContact: johanna.billberg@akademiskahus.se \nBy participating\, you consent to Akademiska Hus and Urban Tribes taking photographs during the sessions. If you prefer not to be photographed\, please let us know in advance \n 
URL:https://www.kisciencepark.kisciencepark.hemsida.eu/event/stay-active-on-campus-solna-every-tuesday-and-thursday-during-december/
ATTACH;FMTTYPE=image/jpeg:https://www.kisciencepark.kisciencepark.hemsida.eu/wp-content/uploads/2025/09/ag-aktiv-oct-dec.jpg
END:VEVENT
BEGIN:VEVENT
DTSTART;VALUE=DATE:20251101
DTEND;VALUE=DATE:20251102
DTSTAMP:20260420T214852
CREATED:20251006T151453Z
LAST-MODIFIED:20251006T151453Z
UID:10000183-1761955200-1762041599@www.kisciencepark.kisciencepark.hemsida.eu
SUMMARY:Stay active on Campus Solna! Every Tuesday and Thursday during November
DESCRIPTION:Invitation by Akademiska Hus: Take the chance to recharge and boost your energy! \nAt Campus Solna\, Akademiska Hus offers free training sessions every week\, led by professional coaches from Urban Tribes. The sessions are open to everyone working och studying on Campus Solna – regardless of fitness level – and aim to bring energy and wellbeing into your day. \nCircuit traning – every Tuesday \nA full-body workout where you rotate through different stations with exercises focusing on strength\, mobility\, and recovery – such as bodyweight training\, resistance bands\, and core exercises. A perfect break in the middle of your day to boost both energy and focus. \nTime: 11.30 AM\nTraining time: 60 minutes\nLocation: the pétanque courts located in the Pelousen area\nContact: johanna.billberg@akademiskahus.se \nPlay tennis with us! – every Thursday.\nA class for beginners and those with a little tennis experience who can rally a few times over the net with a partner. It’s all about having fun and giving it a go – no pressure\, just play. \nPlease bring your own racket. We only have limited spots available – don’t forget to sign up. \nTime: 11.00 AM\nTraining time: 60 minutes\nLocation: Tennis courts at Campus Solna\nContact: johanna.billberg@akademiskahus.se \nBy participating\, you consent to Akademiska Hus and Urban Tribes taking photographs during the sessions. If you prefer not to be photographed\, please let us know in advance \n 
URL:https://www.kisciencepark.kisciencepark.hemsida.eu/event/stay-active-on-campus-solna-every-tuesday-and-thursday-during-november-2/
ATTACH;FMTTYPE=image/jpeg:https://www.kisciencepark.kisciencepark.hemsida.eu/wp-content/uploads/2025/09/ag-aktiv-oct-dec.jpg
END:VEVENT
BEGIN:VEVENT
DTSTART;VALUE=DATE:20251001
DTEND;VALUE=DATE:20251002
DTSTAMP:20260420T214852
CREATED:20251006T151415Z
LAST-MODIFIED:20251006T151550Z
UID:10000182-1759276800-1759363199@www.kisciencepark.kisciencepark.hemsida.eu
SUMMARY:Stay active on Campus Solna! Every Tuesday and Thursday during October
DESCRIPTION:Invitation by Akademiska Hus: Take the chance to recharge and boost your energy! \nAt Campus Solna\, Akademiska Hus offers free training sessions every week\, led by professional coaches from Urban Tribes. The sessions are open to everyone working och studying on Campus Solna – regardless of fitness level – and aim to bring energy and wellbeing into your day. \nCircuit traning – every Tuesday \nA full-body workout where you rotate through different stations with exercises focusing on strength\, mobility\, and recovery – such as bodyweight training\, resistance bands\, and core exercises. A perfect break in the middle of your day to boost both energy and focus. \nTime: 11.30 AM\nTraining time: 60 minutes\nLocation: the pétanque courts located in the Pelousen area\nContact: johanna.billberg@akademiskahus.se \nPlay tennis with us! – every Thursday.\nA class for beginners and those with a little tennis experience who can rally a few times over the net with a partner. It’s all about having fun and giving it a go – no pressure\, just play. \nPlease bring your own racket. We only have limited spots available – don’t forget to sign up. \nTime: 11.00 AM\nTraining time: 60 minutes\nLocation: Tennis courts at Campus Solna\nContact: johanna.billberg@akademiskahus.se \nBy participating\, you consent to Akademiska Hus and Urban Tribes taking photographs during the sessions. If you prefer not to be photographed\, please let us know in advance \n 
URL:https://www.kisciencepark.kisciencepark.hemsida.eu/event/stay-active-on-campus-solna-every-tuesday-and-thursday-during-october-2/
ATTACH;FMTTYPE=image/jpeg:https://www.kisciencepark.kisciencepark.hemsida.eu/wp-content/uploads/2025/09/ag-aktiv-oct-dec.jpg
END:VEVENT
BEGIN:VEVENT
DTSTART;VALUE=DATE:20250901
DTEND;VALUE=DATE:20250902
DTSTAMP:20260420T214852
CREATED:20250915T130619Z
LAST-MODIFIED:20250915T130754Z
UID:10000173-1756684800-1756771199@www.kisciencepark.kisciencepark.hemsida.eu
SUMMARY:Stay active on Campus Solna! Every Tuesday and Thursday during September
DESCRIPTION:Invitation by Akademiska Hus: Take the chance to recharge and boost your energy! \nAt Campus Solna\, Akademiska Hus offers free training sessions every week\, led by professional coaches from Urban Tribes. The sessions are open to everyone working och studying on Campus Solna – regardless of fitness level – and aim to bring energy and wellbeing into your day. \nCircuit traning – every Tuesday \nA full-body workout where you rotate through different stations with exercises focusing on strength\, mobility\, and recovery – such as bodyweight training\, resistance bands\, and core exercises. A perfect break in the middle of your day to boost both energy and focus. \nTime: 11.30 AM\nTraining time: 60 minutes\nLocation: the pétanque courts located in the Pelousen area\nContact: johanna.billberg@akademiskahus.se \nPlay tennis with us! – every Thursday.\nA class for beginners and those with a little tennis experience who can rally a few times over the net with a partner. It’s all about having fun and giving it a go – no pressure\, just play. \nPlease bring your own racket. We only have limited spots available – don’t forget to sign up. \nTime: 11.00 AM\nTraining time: 60 minutes\nLocation: Tennis courts at Campus Solna\nContact: johanna.billberg@akademiskahus.se \nBy participating\, you consent to Akademiska Hus and Urban Tribes taking photographs during the sessions. If you prefer not to be photographed\, please let us know in advance \n 
URL:https://www.kisciencepark.kisciencepark.hemsida.eu/event/stay-active-on-campus-solna-every-tuesday-and-thursday-during-september/
ATTACH;FMTTYPE=image/jpeg:https://www.kisciencepark.kisciencepark.hemsida.eu/wp-content/uploads/2025/09/ah-traning.jpg
END:VEVENT
BEGIN:VEVENT
DTSTART;TZID=Europe/Stockholm:20250827T140000
DTEND;TZID=Europe/Stockholm:20250827T170000
DTSTAMP:20260420T214852
CREATED:20250624T113328Z
LAST-MODIFIED:20250707T135549Z
UID:10000149-1756303200-1756314000@www.kisciencepark.kisciencepark.hemsida.eu
SUMMARY:Game\, set\, match - join Campus Solna Open!
DESCRIPTION:Campus Solna Open is back – the annual tennis tournament that invites you to an afternoon of movement\, community and sunshine (plus free ice cream!). Whether you’re playing to win or simply cheering from the sidelines\, you’re warmly welcome. \nOn 27 August\, it’s time to dust off your racket and lace up your shoes – the Campus Solna Open returns for another year. This fun doubles tournament is open to everyone on campus\, regardless of playing level. \nYou can register with a partner or on your own – we’ll help you find someone to team up with. The winners walk away with the tournament trophy and eternal glory\, but all participants are treated to free ice cream from StikkiNikki. The winner not only claims the tournament title\, but also earns a place on the prestigious Solna Open Trophy. \nCome along to play\, cheer\, enjoy a fika or simply hang out in the sun. See you on the court! \nRegistration is required. Sign up via the link below. \nRead more and register here! \nContact: johanna.billberg@akademiskahus.se \nBy participating\, you consent to Akademiska Hus and Urban Tribes taking photographs during the sessions. If you prefer not to be photographed\, please let us know in advance
URL:https://www.kisciencepark.kisciencepark.hemsida.eu/event/campus-solna-open-2025/
LOCATION:Tennis courts by KI Student Housing (59°20’59.6″N 18°01’08.9″E)\, Campus Solna\, Solna\, 17165\, Sweden
ATTACH;FMTTYPE=image/jpeg:https://www.kisciencepark.kisciencepark.hemsida.eu/wp-content/uploads/2025/06/campus-solna-open-ah-2025.jpg
END:VEVENT
BEGIN:VEVENT
DTSTART;TZID=Europe/Stockholm:20250617T160000
DTEND;TZID=Europe/Stockholm:20250617T190000
DTSTAMP:20260420T214853
CREATED:20250428T211845Z
LAST-MODIFIED:20250428T213213Z
UID:10000144-1750176000-1750186800@www.kisciencepark.kisciencepark.hemsida.eu
SUMMARY:KI Science Park Summer BBQ 2025
DESCRIPTION:Join us for a Summer BBQ in Nanna’s Blossoming Garden on Campus Solna!\nKI Science Park\, together with KI Innovations\, A Working Lab\, and Akademiska Hus\, warmly invites you to a festive Summer BBQ. \nEnjoy a delicious BBQ on the terrace of A Working Lab\, along with a refreshing selection of beverages to keep you cool. And don’t forget to save room for ice cream! We’ll also have games and fun activities to keep the summer spirit alive. \nThe networking area is beautifully set beneath the trees surrounding Nanna’s medicinal garden – in full summer bloom! Put on your favourite summer outfit\, bring your best mood\, and come celebrate with us! \nThis event is our way of saying thank you for being part of our vibrant life science community. It’s through our meetings and our conversations this community comes to life. Together\, we make this a place full of ideas\, energy\, and opportunities! \nWe can’t wait to see you there! Let’s catch up\, meet new people\, and enjoy a great summer evening together! \nAn invitation is sent out to our members. If you did not get it\, contact: event@kisciencepark.se \n  \nThis event is made possible through the generous support of our sponsors. \n \n \n\n\nThis event is organized by:\n         \n   
URL:https://www.kisciencepark.kisciencepark.hemsida.eu/event/ki-science-park-summer-bbq-2025/
LOCATION:Innomedicum\, Nanna Svartz väg 2\, Solna\, 17165\, Sweden
ATTACH;FMTTYPE=image/jpeg:https://www.kisciencepark.kisciencepark.hemsida.eu/wp-content/uploads/2025/04/save-the-date-summer-bbq-2025.jpg
ORGANIZER;CN="KI Science Park":MAILTO:event@kisciencepark.se
END:VEVENT
BEGIN:VEVENT
DTSTART;TZID=Europe/Stockholm:20241217T160000
DTEND;TZID=Europe/Stockholm:20241217T180000
DTSTAMP:20260420T214853
CREATED:20241121T114014Z
LAST-MODIFIED:20241205T203810Z
UID:10000115-1734451200-1734458400@www.kisciencepark.kisciencepark.hemsida.eu
SUMMARY:KI Science Park Winter Mingle
DESCRIPTION:Join Us for a Cozy Winter Gathering!\n\nDear members\, klients and tenants\, as the year draws to a close\, we invite you for a festive mingle with glögg tasting\, seasonal treats\, warmth\, connection\, and holiday cheer\, and an opportunity to meet old and new friends with us at the KI Science Park Winter Mingle. \n\nWarm welcome! \nKI Science Park\, KI Innovations\, Akademiska Hus and A Working Lab \n____________________________________________ \nCheck your email for the invitation and registration.
URL:https://www.kisciencepark.kisciencepark.hemsida.eu/event/ki-science-park-winter-mingle-2/
LOCATION:Innomedicum\, A Working Lab Cafe  |\, Nanna Svartz Väg 4\, Solna\, 171 65
ATTACH;FMTTYPE=image/jpeg:https://www.kisciencepark.kisciencepark.hemsida.eu/wp-content/uploads/2024/11/241217-winter-mingel.jpg
ORGANIZER;CN="KI Science Park":MAILTO:event@kisciencepark.se
END:VEVENT
BEGIN:VEVENT
DTSTART;TZID=Europe/Stockholm:20240828T140000
DTEND;TZID=Europe/Stockholm:20240828T180000
DTSTAMP:20260420T214853
CREATED:20240717T152217Z
LAST-MODIFIED:20240828T105655Z
UID:10000093-1724853600-1724868000@www.kisciencepark.kisciencepark.hemsida.eu
SUMMARY:Game\, set\, match - join Campus Solna Open!
DESCRIPTION:Akademiska Hus invites you to participate in the premiere of Akademiska Hus tennis tournament. Join this event for a day filled with exciting matches and enjoyable company. \nWe compete in mixed double matches and each team is guaranteed at least two matches. \nAlongside a day of thrilling tennis matches and great company\, there will be ice cream from StikkiNikki for everyone on site! \nEveryone is welcome\, even if you’re not taking part – it will be a delightful day for all to enjoy So\, come along to support the players and enjoy an afternoon dedicated to movement! \nDuring the afternoon Akademiska Hus is our guest content creator at the  KI Science Park instagram account. Follow the event. \n 
URL:https://www.kisciencepark.kisciencepark.hemsida.eu/event/game-set-match-join-campus-solna-open/
LOCATION:Tennis courts by KI Student Housing (59°20’59.6″N 18°01’08.9″E)\, Campus Solna\, Solna\, 17165\, Sweden
ATTACH;FMTTYPE=image/jpeg:https://www.kisciencepark.kisciencepark.hemsida.eu/wp-content/uploads/2024/07/tennis.jpg
END:VEVENT
BEGIN:VEVENT
DTSTART;TZID=Europe/Stockholm:20231219T160000
DTEND;TZID=Europe/Stockholm:20231219T180000
DTSTAMP:20260420T214853
CREATED:20231214T103503Z
LAST-MODIFIED:20231214T103624Z
UID:10000046-1703001600-1703008800@www.kisciencepark.kisciencepark.hemsida.eu
SUMMARY:KI Science Park Winter Mingle
DESCRIPTION:Welcome to KI Science Park Winter Mingle\n\nDear Life Science members\, tenants\, supporters\, friends\, you are warmly welcome to celebrate the season and the end of the year with us at the KI Science Park Winter Mingle. \nJoin us for a nice\, relaxed mingle with glögg tasting\, wine and snacks. \n\nRegister here! \n\n  \nWarm welcome!
URL:https://www.kisciencepark.kisciencepark.hemsida.eu/event/ki-science-park-winter-mingle/
LOCATION:Innomedicum\, A Working Lab Cafe  |\, Nanna Svartz Väg 4\, Solna\, 171 65
ATTACH;FMTTYPE=image/jpeg:https://www.kisciencepark.kisciencepark.hemsida.eu/wp-content/uploads/2023/12/231019-wintermingle-flyer.jpeg
ORGANIZER;CN="KI Science Park":MAILTO:event@kisciencepark.se
END:VEVENT
BEGIN:VEVENT
DTSTART;TZID=Europe/Stockholm:20230621T160000
DTEND;TZID=Europe/Stockholm:20230621T190000
DTSTAMP:20260420T214853
CREATED:20230601T113541Z
LAST-MODIFIED:20231103T184129Z
UID:10000007-1687363200-1687374000@www.kisciencepark.kisciencepark.hemsida.eu
SUMMARY:🎉 KI Science Park Summer BBQ!
DESCRIPTION:SAVE THE DATE! – Invitation and program soon in your inbox – so keep an eye on your mailbox! 👀 But\, registration is open so you can sequre your ticket already today! \nThis event is exclusively for the life science community on campus Solna. So if you are working at a KI Science Park member company\, including AWL members and DRIVE Incubator companies and if you work at any company or organisations with adress on campus Solna including KI – sign up today to sequre your ticket! \n  \n 
URL:https://www.kisciencepark.kisciencepark.hemsida.eu/event/summer-bbq/
ATTACH;FMTTYPE=image/jpeg:https://www.kisciencepark.kisciencepark.hemsida.eu/wp-content/uploads/2023/06/BBQ2033-invitation.jpg
ORGANIZER;CN="KI Science Park":MAILTO:event@kisciencepark.se
END:VEVENT
END:VCALENDAR