BEGIN:VCALENDAR
VERSION:2.0
PRODID:-//KI Science Park - ECPv6.15.0.1//NONSGML v1.0//EN
CALSCALE:GREGORIAN
METHOD:PUBLISH
X-ORIGINAL-URL:https://www.kisciencepark.kisciencepark.hemsida.eu
X-WR-CALDESC:Events for KI Science Park
REFRESH-INTERVAL;VALUE=DURATION:PT1H
X-Robots-Tag:noindex
X-PUBLISHED-TTL:PT1H
BEGIN:VTIMEZONE
TZID:Europe/Stockholm
BEGIN:DAYLIGHT
TZOFFSETFROM:+0100
TZOFFSETTO:+0200
TZNAME:CEST
DTSTART:20260329T010000
END:DAYLIGHT
BEGIN:STANDARD
TZOFFSETFROM:+0200
TZOFFSETTO:+0100
TZNAME:CET
DTSTART:20261025T010000
END:STANDARD
END:VTIMEZONE
BEGIN:VEVENT
DTSTART;TZID=Europe/Stockholm:20260512T163000
DTEND;TZID=Europe/Stockholm:20260512T190000
DTSTAMP:20260420T212036
CREATED:20260130T131158Z
LAST-MODIFIED:20260401T104153Z
UID:10000037-1778603400-1778612400@www.kisciencepark.kisciencepark.hemsida.eu
SUMMARY:Science After Work: Unravelling the Molecular Secrets of Exercise
DESCRIPTION:Welcome to KI Science Park Science After Work!\nJoin us for an engaging Science After Work with Dr. Jessica Norrbom\, molecular biologist and Senior Lecturer at Karolinska Institutet. Dr. Norrbom’s research explores the molecular responses in human skeletal muscle to different types of physical activity — helping us understand why exercise has such powerful effects on our bodies at a cellular level. \nIn this relaxed setting\, Jessica will dive into her current research — from the molecular signals that shape muscle adaptation to the latest insights her work has uncovered on exercise physiology. \nBeyond the lab bench\, she is also an acclaimed science communicator\, co-author of books on health and training and co-host of the podcast Frisk utan flum\, where she bridges the world of science and everyday life. \nWhether you’re curious about the science behind exercise or how research translates to everyday health\, this is a great opportunity to learn from one of Sweden’s active voices in physiology and public science communication. \nInvitation and Registration\nMembers receive early access through a personal invitation. If you haven’t received one\, you can sign up here to receive future invitations to upcoming events. One week before the event\, registration will open here on the website for non-members. \nHow it works\n16:30 – Doors are open and snacks and beer is on the menu.\n17:00 – 17:05 Welcome by KI Science Park\n17:05 – 17:35 Presentation by invited guest\n17:35 – 18:00 Q&A\n18:00 – 19:00 The bar is open and music is on. \nTime & Place\nAWL Café\, Innomedicum\, Nanna Svartz Väg 4\, Campus Solna. \nMaximize the value of this knowledge sharing session by actively participating in the Q&A session and utilizing the opportunity by asking any questions you may have.
URL:https://www.kisciencepark.kisciencepark.hemsida.eu/event/saw-may-2026/
LOCATION:Innomedicum\, A Working Lab Cafe  |\, Nanna Svartz Väg 4\, Solna\, 171 65
ATTACH;FMTTYPE=image/jpeg:https://www.kisciencepark.kisciencepark.hemsida.eu/wp-content/uploads/2026/01/260514-saw-flyer-jessica.jpg
ORGANIZER;CN="KI Science Park":MAILTO:event@kisciencepark.se
END:VEVENT
END:VCALENDAR