BEGIN:VCALENDAR
VERSION:2.0
PRODID:-//KI Science Park - ECPv6.15.0.1//NONSGML v1.0//EN
CALSCALE:GREGORIAN
METHOD:PUBLISH
X-WR-CALNAME:KI Science Park
X-ORIGINAL-URL:https://www.kisciencepark.kisciencepark.hemsida.eu
X-WR-CALDESC:Events for KI Science Park
REFRESH-INTERVAL;VALUE=DURATION:PT1H
X-Robots-Tag:noindex
X-PUBLISHED-TTL:PT1H
BEGIN:VTIMEZONE
TZID:Europe/Stockholm
BEGIN:DAYLIGHT
TZOFFSETFROM:+0100
TZOFFSETTO:+0200
TZNAME:CEST
DTSTART:20260329T010000
END:DAYLIGHT
BEGIN:STANDARD
TZOFFSETFROM:+0200
TZOFFSETTO:+0100
TZNAME:CET
DTSTART:20261025T010000
END:STANDARD
END:VTIMEZONE
BEGIN:VEVENT
DTSTART;TZID=Europe/Stockholm:20260121T140000
DTEND;TZID=Europe/Stockholm:20260121T163000
DTSTAMP:20260420T225455
CREATED:20260106T150526Z
LAST-MODIFIED:20260106T150837Z
UID:10000203-1769004000-1769013000@www.kisciencepark.kisciencepark.hemsida.eu
SUMMARY:Cancer Research KI: Intellectual Property Seminar for Scientists
DESCRIPTION:Welcome to the upcoming seminar on Intellectual Property\, part of the Cancer Research KI Industry-Academia Collaboration Series. \n\n\n\nConfirmed Speakers: \nFrantzeska Papadopoulou Skarp (KI\, Stockholm University)\, \nFernando Farieta (EEO) \nAndreas Lundquist (KI Innovations). \nThe final program will be announced soon. \nCollaboration betveen: Cancer Research KI\, the External Engagement office (EEO)\, and KI Innovations. \n\n\n\n\n\nRegistration\nRegistration is required for this event due to limited seating
URL:https://www.kisciencepark.kisciencepark.hemsida.eu/event/cancer-research-ki-intellectual-property-seminar-for-scientists/
LOCATION:Ragnar Granit\, Biomedicum\, Solnavägen 9\, Campus Solna\, Solna
ATTACH;FMTTYPE=image/jpeg:https://www.kisciencepark.kisciencepark.hemsida.eu/wp-content/uploads/2026/01/ipsem-flyer.jpg
END:VEVENT
END:VCALENDAR