BEGIN:VCALENDAR
VERSION:2.0
PRODID:-//KI Science Park - ECPv6.15.0.1//NONSGML v1.0//EN
CALSCALE:GREGORIAN
METHOD:PUBLISH
X-WR-CALNAME:KI Science Park
X-ORIGINAL-URL:https://www.kisciencepark.kisciencepark.hemsida.eu
X-WR-CALDESC:Events for KI Science Park
REFRESH-INTERVAL;VALUE=DURATION:PT1H
X-Robots-Tag:noindex
X-PUBLISHED-TTL:PT1H
BEGIN:VTIMEZONE
TZID:Europe/Stockholm
BEGIN:DAYLIGHT
TZOFFSETFROM:+0100
TZOFFSETTO:+0200
TZNAME:CEST
DTSTART:20250330T010000
END:DAYLIGHT
BEGIN:STANDARD
TZOFFSETFROM:+0200
TZOFFSETTO:+0100
TZNAME:CET
DTSTART:20251026T010000
END:STANDARD
END:VTIMEZONE
BEGIN:VEVENT
DTSTART;TZID=Europe/Stockholm:20251118T120000
DTEND;TZID=Europe/Stockholm:20251118T190000
DTSTAMP:20260421T034235
CREATED:20250828T072856Z
LAST-MODIFIED:20250828T072856Z
UID:10000166-1763467200-1763492400@www.kisciencepark.kisciencepark.hemsida.eu
SUMMARY:KI Science Park Day 2025
DESCRIPTION:The Human Factor in Innovation when Building a Life Science Business.\nInnovation doesn’t happen in isolation—it is driven by people. At this year’s KI Science Park Day\, we put the spotlight on the human factor in building successful life science businesses. Join us for an inspiring afternoon where researchers\, entrepreneurs\, industry leaders\, and investors come together to share experiences\, explore collaborations\, and discuss what truly makes ideas grow into impact. \n\n\nWhat to expect from the day \n\n\n➤ Engaging company presentations and knowledge sharing panels and interviews. \n\n\n➤ Award lecture by the winners of Karolinska Institutet’s prize for Innovation and Utilization. \n\n\n➤ Exhibition with business and innovation supporting companies and organisations. \n\n\n➤ Grow your professional network and have a good time! \n\n\nMore information and registration here! \nRegister today to secure your ticket! \nWarm welcome!
URL:https://www.kisciencepark.kisciencepark.hemsida.eu/event/ki-science-park-day-2025/
LOCATION:Biomedicum\, Eva & Georg Klein\,\, Solnavägen 9\, Solna\, Sweden
ATTACH;FMTTYPE=image/png:https://www.kisciencepark.kisciencepark.hemsida.eu/wp-content/uploads/2025/08/kispday25-calendar.png
ORGANIZER;CN="KI Science Park":MAILTO:event@kisciencepark.se
END:VEVENT
BEGIN:VEVENT
DTSTART;TZID=Europe/Stockholm:20251120T093000
DTEND;TZID=Europe/Stockholm:20251120T170000
DTSTAMP:20260421T034235
CREATED:20251023T194017Z
LAST-MODIFIED:20251023T194652Z
UID:10000191-1763631000-1763658000@www.kisciencepark.kisciencepark.hemsida.eu
SUMMARY:Potter Clarkson Stockholm IP Academy
DESCRIPTION:Sponsor event: \n\nWelcome to register to this years\, Potter Clarkson Stockholm IP Academy\, hosted at KI Innovations!\nTo underline how vital it is to manage your IP in totality rather than in isolation\, all four sessions will be run by members of our patent\, trade mark\, and licensing & litigation teams to emphasise the business-critical overlap and interplay between the very different elements of a 21st-century IP portfolio. \nPotter Clarkson’s unique one-day IP Academy is specifically designed to provide you with a fast but comprehensive overview of each critical step in the IP process:\n\n\n \n»  Identifying the IP you have. \n»  Ensuring it is fully and properly protected. \n»  Making sure your IP is ready to be commercialised and supported by the right commercialisation strategies. \n»  Knowing what you need to do to enforce your IP rights\, should they be threatened in any part of the world. \n\n\n\nThe programme is designed for individuals who have a basic to intermediate understanding of IP.\n  \nRead more here and register!
URL:https://www.kisciencepark.kisciencepark.hemsida.eu/event/potter-clarkson-stockholm-ip-academy/
LOCATION:Innomedicum. A Working Lab meeting room: Humle\, floor 1.\, Nanna Svartz väg 6a\, Solna\, 17165\, Sweden
ATTACH;FMTTYPE=image/jpeg:https://www.kisciencepark.kisciencepark.hemsida.eu/wp-content/uploads/2025/10/ip-academy-banner-stockholm.jpg
ORGANIZER;CN="KI Science Park":MAILTO:event@kisciencepark.se
END:VEVENT
BEGIN:VEVENT
DTSTART;TZID=Europe/Stockholm:20251121T090000
DTEND;TZID=Europe/Stockholm:20251121T170000
DTSTAMP:20260421T034235
CREATED:20250624T212426Z
LAST-MODIFIED:20250624T212558Z
UID:10000158-1763715600-1763744400@www.kisciencepark.kisciencepark.hemsida.eu
SUMMARY:CHaSE – Careers in Health and Science Exposition
DESCRIPTION:CHaSE is Stockholm’s premier career and jobs fair that connects employers within the life science and health sectors with potential employees and provides a platform for students to begin to plan for their post-university careers. \nFirst started in 2014\, it is entirely organized and run by students. CHaSE aims to connect companies from the Life Science industry with highly qualified students interested in the industry. The attending companies range from small start-ups to NGOs and big international corporations \nRead more here and get your company or organization on board by contacting: relations@chasesthlm.se \nAll KI and non-KI affiliated students (BSc\, MSc and PhD)\, postdocs and researchers in Life Science and Health  are welcome to register and attend the event. \nFOR STUDENTS \nCHaSE is the number one career fair for people looking for a career in the Life Science industry. CHaSE aims to connect life science students with companies and students from all backgrounds who are interested in the life science industry. \nFOR COMPANIES \nCHaSE offers companies the unique opportunity to meet students interested in the Life Science industry from some of Europe’s top universities. The venue offers the ability for keynote presentations\, workshops and exhibtion stands
URL:https://www.kisciencepark.kisciencepark.hemsida.eu/event/chase-2025/
LOCATION:Aula Medica\, Nobels väg 6\, Solna\, 171 65\, Sweden
ATTACH;FMTTYPE=image/png:https://www.kisciencepark.kisciencepark.hemsida.eu/wp-content/uploads/2023/10/image004-1.png
END:VEVENT
END:VCALENDAR