BEGIN:VCALENDAR
VERSION:2.0
PRODID:-//KI Science Park - ECPv6.15.0.1//NONSGML v1.0//EN
CALSCALE:GREGORIAN
METHOD:PUBLISH
X-WR-CALNAME:KI Science Park
X-ORIGINAL-URL:https://www.kisciencepark.kisciencepark.hemsida.eu
X-WR-CALDESC:Events for KI Science Park
REFRESH-INTERVAL;VALUE=DURATION:PT1H
X-Robots-Tag:noindex
X-PUBLISHED-TTL:PT1H
BEGIN:VTIMEZONE
TZID:Europe/Stockholm
BEGIN:DAYLIGHT
TZOFFSETFROM:+0100
TZOFFSETTO:+0200
TZNAME:CEST
DTSTART:20250330T010000
END:DAYLIGHT
BEGIN:STANDARD
TZOFFSETFROM:+0200
TZOFFSETTO:+0100
TZNAME:CET
DTSTART:20251026T010000
END:STANDARD
END:VTIMEZONE
BEGIN:VEVENT
DTSTART;TZID=Europe/Stockholm:20251112T075000
DTEND;TZID=Europe/Stockholm:20251112T090000
DTSTAMP:20260421T051627
CREATED:20251009T140148Z
LAST-MODIFIED:20251107T130032Z
UID:10000187-1762933800-1762938000@www.kisciencepark.kisciencepark.hemsida.eu
SUMMARY:Business Breakfast with Martin Jönsson\, CEO of AlzeCure Pharma
DESCRIPTION:AlzeCure Pharma – From Idea to Clinical Impact in Alzheimer’s and Pain\nMeet Martin Jönsson\, CEO of AlzeCure Pharma \nMartin Jönsson is the CEO of AlzeCure Pharma and has more than 25 years of experience in the international pharmaceutical industry\, most of which he spent abroad. For the past six years\, he has led AlzeCure Pharma\, a listed company that emerged when AstraZeneca discontinued its CNS research. \nWith initial financial support from Alzheimerfonden\, a public listing\, and now also grants from the European Innovation Council\, the company has made significant progress and gained valuable experience along the way. \nHow it works\n7:50 – Breakfast is served.\n8:10 – Welcome by KI Science Park\n8:15 – 8:40 Presentation by invited guest\n8:40 – 9:00 Q&A and discussion\n9:00 – 9:15 Netwoking \nREGISTRATION IS NOW OPEN!\nMembers receive early access through a personal invitation. One week before the event\, registration will open here on the website for external participants. \nWarm welcome! \n_____________________________ \nAbout Business Breakfast\nBusiness Breakfast is KI Science Park’s monthly morning meet-up where business leaders share experiences\, lessons\, and inspiration. It’s a chance to reconnect\, broaden your network\, and kick off the day with fresh energy and new ideas. The event is arranged in collaboration with A Working Lab at Innomedicum.
URL:https://www.kisciencepark.kisciencepark.hemsida.eu/event/business-breakfast-with-alzecure/
LOCATION:Innomedicum\,  A Working Lab Cafe  |\, Nanna Svarts Väg 4\, Solna\, 17165\, Sweden
ATTACH;FMTTYPE=image/jpeg:https://www.kisciencepark.kisciencepark.hemsida.eu/wp-content/uploads/2025/10/bb-martin-jonsson-flyers-orginal.jpg
ORGANIZER;CN="KI Science Park":MAILTO:event@kisciencepark.se
END:VEVENT
BEGIN:VEVENT
DTSTART;TZID=Europe/Stockholm:20251113T090000
DTEND;TZID=Europe/Stockholm:20251113T160000
DTSTAMP:20260421T051627
CREATED:20251104T090858Z
LAST-MODIFIED:20251104T091015Z
UID:10000193-1763024400-1763049600@www.kisciencepark.kisciencepark.hemsida.eu
SUMMARY:Discover the Future of Mass Spectrometry at Karolinska Institutet: Science without Borders – Finnish MS Society at Waters Sweden
DESCRIPTION:Exclusive Invitation from our member company Waters:  \nDiscover the Future of Mass Spectrometry at Karolinska Institutet\nWe are thrilled to host the Finnish Mass Spectrometry Society Fall Seminar during our annual MS Meeting in Sweden. \nJoin us for a full day dedicated to innovation\, collaboration\, and meaningful connections. This unique event offers a fantastic opportunity to engage with peers from Finland\, exchange insights\, and discover the latest advancements in mass spectrometry technology. \nRead more and register here! \n–––––––––––––––––––––––––––––––––––––––––––– \nAGENDA \n09:00 Registration & Welcome\nKick off the day with coffee and greetings as we gather for a day of learning and connection \n09:30 Xevo TQ Absolute XR\nPresenter: Daniel Rådeström\, Waters \nDiscover the most advanced\, high-sensitivity UPLC-MS/MS Triple Quadrupole available \n09:45 Waters_Connect & MS Quan\nPresenter: Anders Janesten\, Waters \nExplore the benefits of server-based workflows and streamlined data management \n10:15 Xevo CDMS – A New Era in MS\nPresenter: Per Ragneborn\, Waters \nIntroduction to a revolutionary new type of mass spectrometer. \n10:30 Coffee Break\nRecharge and prepare to welcome our Finnish guests \n11:00 Xevo MRT Product Update\nPresenter: Jayesh Kattla \nA deep dive into the evolving Xevo MRT platform: \n\nSoftware-driven instrument evolution\nMS Quan integration\nMixed-mode analysis of mouse plasma samples\nIntroduction of DESI capabilities\n\n12:00 Lunch & Networking \nEnjoy lunch and connect with colleagues and Finnish peers \n12:30 Craig Wheelock Session \n\nPresentation (20 min)\nTour  of Craig Wheelock’s Lab (30 min)\nGain insights from one of the leading voices in metabolomics.\n\n13:30 Waters Open Access at Karolinska Institutet Science Park\nPresenter: Per Ragneborn\, Waters \nLearn how Waters Operates the OpenAccess Lab at Campus Solna and how Waters is supporting the lice science Ecosystem around Karolinska Institutet \n14:00 Waters_Connect Workshops\nPresenters: Waters Team of Application Chemists \nHands-on sessions with Xevo TQ Absolute\, MS Quan and Xevo MRT \n14:30 Coffee Break \n15:00 Unlocking Next-Gen Capabilities in LC-MS-Based Proteomics\nPresenter: Morten Bern\, EvoSep \n– Setting the Scene: A brief history of  Evosep\n– Sample Prep & Evotip: Decoupling workflows for flexibility\n– Automation & Miniaturization: Enabling high-throughput analysis\n– Eno Platform: Scalable processing for thousands of samples\n– Collaborative Innovation: Seamless hardware/software compatibility with Waters MS systems \n15:30 Meet the Experts \nBook time with your favorite application chemist or service resource for personalized discussions \n16:00 After Work Social \nUnwind and celebrate a successful day with drinks and informal networking
URL:https://www.kisciencepark.kisciencepark.hemsida.eu/event/discover-the-future-of-mass-spectrometry-at-karolinska-institutet-science-without-borders-finnish-ms-society-at-waters-sweden/
LOCATION:Waters Sverige AB\, Nanna Svartz Väg 6A\, Solna\, 17165\, Sweden
ATTACH;FMTTYPE=image/jpeg:https://www.kisciencepark.kisciencepark.hemsida.eu/wp-content/uploads/2025/11/251113-waters.jpg
END:VEVENT
BEGIN:VEVENT
DTSTART;TZID=Europe/Stockholm:20251113T120000
DTEND;TZID=Europe/Stockholm:20251113T130000
DTSTAMP:20260421T051627
CREATED:20250915T191737Z
LAST-MODIFIED:20251031T072156Z
UID:10000175-1763035200-1763038800@www.kisciencepark.kisciencepark.hemsida.eu
SUMMARY:KI Core Facility – Meet & Mingle!
DESCRIPTION:Join us for an inspiring hour where a selection of KI’s research infrastructures /core facilities come together in the mingle area at Biomedicum to showcase their cutting-edge infrastructure and expertise!\nThis year\, we are excited to welcome delegates from KI Science Park’s member companies\, including A Working Lab\, as KI Science Park collaborates with the Core Facility Network to strengthen connections between academia and industry. \nRegister here!\nBring your colleagues and take this opportunity to network with researchers and lab professionals while exploring the state-of-the-art resources available at the university. \nWould you like to bring a poster/rollup?\nIn addition to academic researchers and core facilities\, a limited number of companies will also have the opportunity to present posters or rollups. If you are interested\, please contact sara.gunneras@kisciencepark.se. \n  \nCoffee and sandwiches will be served (first-come\, first-served!) \nWe look forward to seeing you there!
URL:https://www.kisciencepark.kisciencepark.hemsida.eu/event/ki-core-facility-meet-mingle/
LOCATION:Biomedicum\, entrance hall\, Solnavägen 9\, Campus Solna\, Solna
ATTACH;FMTTYPE=image/jpeg:https://www.kisciencepark.kisciencepark.hemsida.eu/wp-content/uploads/2025/09/251113-cf-mingel-1.jpg
END:VEVENT
END:VCALENDAR