BEGIN:VCALENDAR
VERSION:2.0
PRODID:-//KI Science Park - ECPv6.15.0.1//NONSGML v1.0//EN
CALSCALE:GREGORIAN
METHOD:PUBLISH
X-ORIGINAL-URL:https://www.kisciencepark.kisciencepark.hemsida.eu
X-WR-CALDESC:Events for KI Science Park
REFRESH-INTERVAL;VALUE=DURATION:PT1H
X-Robots-Tag:noindex
X-PUBLISHED-TTL:PT1H
BEGIN:VTIMEZONE
TZID:Europe/Stockholm
BEGIN:DAYLIGHT
TZOFFSETFROM:+0100
TZOFFSETTO:+0200
TZNAME:CEST
DTSTART:20250330T010000
END:DAYLIGHT
BEGIN:STANDARD
TZOFFSETFROM:+0200
TZOFFSETTO:+0100
TZNAME:CET
DTSTART:20251026T010000
END:STANDARD
END:VTIMEZONE
BEGIN:VEVENT
DTSTART;TZID=Europe/Stockholm:20251020T114500
DTEND;TZID=Europe/Stockholm:20251020T130000
DTSTAMP:20260421T034404
CREATED:20250928T205829Z
LAST-MODIFIED:20251015T121433Z
UID:10000179-1760960700-1760965200@www.kisciencepark.kisciencepark.hemsida.eu
SUMMARY:USA:s nya handelspolitik- och forskningspolitik – utmaningar och möjligheter?
DESCRIPTION:Inbjudan till KI Science Park Lunch Talks hosted by Bayer \nVälkommen till en serie av lunchsamtal kring de stora frågorna inom life science och hälso- och sjukvård! \nUSA:s handelspolitik med fokus på tullar och införandet av nya modeller för prissättning genom ”most favoured nation”-principen kastar om den globala handelspoltiken. Samtidigt görs drastiska förändringar av den amerikanska forskningspolitiken. Hur ser nulägesbilden ut och vilka utmaningar står Sverige och Europa inför? Kan förändringarna också skapa nya möjligheter och vilka är dessa i så fall? \nDeltagare i samtalet är: \nAnders Ahnlid\, generaldirektör Kommerskollegium\,  \nBilly McCormac\, seniorkonsult Narva & USA-kännare\,  \nJenni Nordborg\, Strategi- och public affairs chef LIF\,  \nMartin Bergö\, prorektor\, Karolinska Institutet.  \nModerator: Edvard Agrell\, Bayer.                                                   \nLäs mer och anmäl dig här! \nAnmäl dig på en gång för att säkra din plats\, glöm inte att bekräfta som sista steg i din anmälan! \nVi bjuder på lättare lunch. \nVarmt välkommen!
URL:https://www.kisciencepark.kisciencepark.hemsida.eu/event/lunch-talk-oktober-2025/
LOCATION:Bayer office at Campus Solna\, Nobels väg 8\, Solna\, 171 65
ATTACH;FMTTYPE=image/jpeg:https://www.kisciencepark.kisciencepark.hemsida.eu/wp-content/uploads/2025/09/landscape.jpg
END:VEVENT
BEGIN:VEVENT
DTSTART;TZID=Europe/Stockholm:20251021T075000
DTEND;TZID=Europe/Stockholm:20251021T090000
DTSTAMP:20260421T034404
CREATED:20250624T135827Z
LAST-MODIFIED:20251012T200608Z
UID:10000157-1761033000-1761037200@www.kisciencepark.kisciencepark.hemsida.eu
SUMMARY:Business Breakfast with Sarah Fredriksson\, CEO of Aqilion
DESCRIPTION:Meet Sarah Fredriksson\, CEO of Aqilion\nWhat does it take to turn scientific discoveries into successful companies? We’re pleased to welcome Sarah Fredriksson as she will give us a personal take on the topic: \nFrom Lab to Leadership — and Beyond! Or who would like to be a biotech entrepreneur?\nSarah brings extensive experience in building biotech companies from the ground up — navigating funding\, IPOs\, leadership\, product development\, and the beauty of the unexpected along the way. \nA must-attend for anyone interested in entrepreneurship\, biotech innovation\, or how great science becomes great business. \nDuring this presentation\, Sarah will try to answer that question from a personal perspective. You will learn about the early days of her journey when she left the University to become CEO and founder of the startup Genovis. She will continue with her experiences and reflections as a serial entrepreneur\, now serving as CEO of Aqilion. Sarah will touch upon science and data as well as funding\, IPOs\, leadership\, business development\, and why the unexpected is sometimes beautiful. \nRegister here! \n  \nHow it works\n7:50 – Breakfast is served.\n8:10 – Welcome by KI Science Park\n8:15 – 8:40 Presentation by invited guest\n8:40 – 9:00 Q&A and discussion\n9:00 – 9:15 Netwoking \nWho is Sarah Fredriksson? \nSarah Fredriksson is a scientist turned entrepreneur. Her main inspiration and motivation come from new knowledge and science that could potentially change the future for people suffering from diseases that currently lack effective treatments. \nShe founded Genovis AB right after completing her PhD in biochemistry at Lund University. Over more than 15 years as CEO\, she was part of a young\, dedicated team that developed and launched products on a global market\, including through subsidiaries in the US. The company was listed/introduced on First North\, Nasdaq OMX Nordic\, at the same time. \nSarah has many years of experience in leadership and product development within smaller\, innovative biotech companies. For several years\, she’s been active as an entrepreneur\, CEO\, and board member of both private and public life science companies. \nShe has also served on the board of Lund University\, Lund University School of Engineering (LTH)\, and the industry organization SwedenBIO. Additionally\, she is active as a mentor at the Termeer Institute in the US. \nAbout Aqilion \nAqilion is a Swedish biopharma company that develops innovative new therapies for diseases caused by chronic inflammation and dysfunctional immune reactions. The company is mainly active in the idea stage to early clinical development. \nThe goal is to demonstrate the clinical and commercial potential of the medical innovation to attract industrial partners and buyers\, who in turn have the capacity to continue clinical development and take the drug to the patients. Aqilion runs its development programs in a partly virtual organization in close collaboration with selected partners with specific expertise in drug development. \nREGISTRATION\nMembers receive early access through a personal invitation. One week before the event\, registration will open here on the website for external participants. \nWarm welcome! \n_____________________________ \nAbout Business Breakfast\nBusiness Breakfast is KI Science Park’s monthly morning meet-up where business leaders share experiences\, lessons\, and inspiration. It’s a chance to reconnect\, broaden your network\, and kick off the day with fresh energy and new ideas. The event is arranged in collaboration with A Working Lab at Innomedicum.
URL:https://www.kisciencepark.kisciencepark.hemsida.eu/event/business-breakfast-251021/
LOCATION:Innomedicum\,  A Working Lab Cafe  |\, Nanna Svarts Väg 4\, Solna\, 17165\, Sweden
ATTACH;FMTTYPE=image/jpeg:https://www.kisciencepark.kisciencepark.hemsida.eu/wp-content/uploads/2025/06/sarah-bb-updaterad-flyer.jpg
ORGANIZER;CN="KI Science Park":MAILTO:event@kisciencepark.se
END:VEVENT
BEGIN:VEVENT
DTSTART;TZID=Europe/Stockholm:20251022T143000
DTEND;TZID=Europe/Stockholm:20251022T190000
DTSTAMP:20260421T034404
CREATED:20251006T110949Z
LAST-MODIFIED:20251006T111218Z
UID:10000181-1761143400-1761159600@www.kisciencepark.kisciencepark.hemsida.eu
SUMMARY:Industry-Academia Collaborations Seminar Series: Academic Collaborations with the Pharma Industry: How to Do It Right!
DESCRIPTION:We’re happy to share this event from our friends at Cancer Research KI: \nAcademic Collaborations with the Pharma Industry: How to Do It Right!\n\n\n\nCollaboration with the pharmaceutical industry can turn lab discoveries into life-changing therapies and spark new innovations. \nWhy does it matter to your? Because the the right partnerships can advance your science and amplify its impact. \nSo\, how do you build successful collaborations? Join us for an insightful seminar featuring AstraZeneca\, Bristol Myers Squibb (BMS)\, MSD\, Roche\, LIF (The Swedish Association of the Pharmaceutical Industry)\, and KI\, who will share their experiences\, challenges\, and practical advice on making collaborations successful. \n\nRead more here and sign up to join this Industry-Academia knowledge sharing and networking session: \nRegister here! \n\n 
URL:https://www.kisciencepark.kisciencepark.hemsida.eu/event/industry-academia-collaborations-seminar-series-academic-collaborations-with-the-pharma-industry-how-to-do-it-right/
LOCATION:Biomedicum\, Eva & Georg Klein\,\, Solnavägen 9\, Solna\, Sweden
ATTACH;FMTTYPE=image/jpeg:https://www.kisciencepark.kisciencepark.hemsida.eu/wp-content/uploads/2025/10/crki-22oct.jpg
END:VEVENT
BEGIN:VEVENT
DTSTART;TZID=Europe/Stockholm:20251023T120000
DTEND;TZID=Europe/Stockholm:20251023T125500
DTSTAMP:20260421T034404
CREATED:20250624T114251Z
LAST-MODIFIED:20250624T114251Z
UID:10000152-1761220800-1761224100@www.kisciencepark.kisciencepark.hemsida.eu
SUMMARY:KI Science Park’s CEO and Business Leader Lunch
DESCRIPTION:Welcome to KI Science Park’s CEO and Business Leader Lunch!\nJoin us for this networking opportunity that combines lunch with influential minds!   \nAs always\, we focus open discussions round the tables. A light lunch will be served. \nThe CEO and Business Leader Lunch is exclusively for CEOs and Business Leaders of our community. The purpose of the network is to provide a platform for insightful discussions\, idea exchange\, and potential collaborations. It fosters connections and strengthens the network among KI Science Park members. Here we also welcome new companies that joined our community. \nAn invitation is sent to members. \nWe look forward to seeing you there! \n__________________________________________________ \nContact Sara Gunnerås if you would like to know more about the network and how to join.
URL:https://www.kisciencepark.kisciencepark.hemsida.eu/event/ki-science-parks-ceo-and-business-leader-lunch-2510/
LOCATION:Innomedicum\, KI Science Park AB office\, Nanna Svarts Väg 6a\, floor 4\, Solna\, 171 65\, Sweden
ATTACH;FMTTYPE=image/jpeg:https://www.kisciencepark.kisciencepark.hemsida.eu/wp-content/uploads/2023/05/VD-lunch-230526.jpg
ORGANIZER;CN="KI Science Park":MAILTO:event@kisciencepark.se
END:VEVENT
END:VCALENDAR