BEGIN:VCALENDAR
VERSION:2.0
PRODID:-//KI Science Park - ECPv6.15.0.1//NONSGML v1.0//EN
CALSCALE:GREGORIAN
METHOD:PUBLISH
X-ORIGINAL-URL:https://www.kisciencepark.kisciencepark.hemsida.eu
X-WR-CALDESC:Events for KI Science Park
REFRESH-INTERVAL;VALUE=DURATION:PT1H
X-Robots-Tag:noindex
X-PUBLISHED-TTL:PT1H
BEGIN:VTIMEZONE
TZID:Europe/Stockholm
BEGIN:DAYLIGHT
TZOFFSETFROM:+0100
TZOFFSETTO:+0200
TZNAME:CEST
DTSTART:20250330T010000
END:DAYLIGHT
BEGIN:STANDARD
TZOFFSETFROM:+0200
TZOFFSETTO:+0100
TZNAME:CET
DTSTART:20251026T010000
END:STANDARD
END:VTIMEZONE
BEGIN:VEVENT
DTSTART;TZID=Europe/Stockholm:20250930T080000
DTEND;TZID=Europe/Stockholm:20250930T093000
DTSTAMP:20260421T034404
CREATED:20250903T211035Z
LAST-MODIFIED:20250925T072429Z
UID:10000171-1759219200-1759224600@www.kisciencepark.kisciencepark.hemsida.eu
SUMMARY:Insight Breakfast with Business Sweden – Global Life Science Outlook
DESCRIPTION:Welcome to Insight Breakfast with Business Sweden\nGlobal Life Science Outlook – Featuring Mexico as a Rising Healthcare Innovation Hub\, with Regional Perspectives from Central America \nJoin a session where Business Sweden will present a global perspective on the life science sector\, highlighting why Mexico\, with complementary insights from Central America\, deserves a place on the international innovation map. \nProgram \n08:00 – 08:15 Breakfast\n08:15 – 08:20 Welcome by KI Science Park\n08:20 – 09:00 Presentations\n09:00 – 09:15 Q&A\n09:15 – 09:30 Networking \nRegister here!\nWe are delighted to welcome Mattias Gäreskog\, PhD\, Invest Lead – Life Science at Business Sweden\, who will share insights into global trends\, Business Sweden’s priorities for 2025\, and how Swedish companies can position themselves for international growth. \nFollowing this\, Ximena Gasca\, Senior Consultant for Mexico\, Central America & the Caribbean at Business Sweden\, will provide insights into the region’s dynamic healthcare and life science landscape – showcasing opportunities\, challenges\, and real-world examples of innovation. Mexico’s healthcare market is valued at over USD 90 billion and continues to grow steadily. The country ranks as the 8th largest exporter of medical devices globally\, hosts more than 500 active clinical trials\, and is experiencing rapid expansion in digital health and biotechnology. \nWhy Mexico? \n\nA collaborative ecosystem where companies\, universities\, and hospitals work together\nGovernment initiatives supporting research and innovation\nA vibrant startup and scale-up culture in medtech\, pharma\, and health tech\nStrategic proximity to the U.S. that facilitates trade and clinical collaboration\nEven amid shifting global dynamics\, Mexico’s healthcare innovation and export strength remain a solid foundation for Swedish companies seeking international growth\n\nWhat You’ll Gain from this session \n\nStrategic insights into Mexico’s market potential\nConnections with key local players and potential partners\nSuccess stories like AstraZeneca\nInspiration to accelerate growth and internationalization\n\nJoin us for an inspiring breakfast session where Business Sweden highlights why Mexico deserves a spot on the global life science map – and what opportunities lie ahead for Swedish innovators. \nWarm Welcome! \n 
URL:https://www.kisciencepark.kisciencepark.hemsida.eu/event/insight-breakfast-bus/
LOCATION:Innomedicum\,  A Working Lab Cafe  |\, Nanna Svarts Väg 4\, Solna\, 17165\, Sweden
ATTACH;FMTTYPE=image/jpeg:https://www.kisciencepark.kisciencepark.hemsida.eu/wp-content/uploads/2025/09/insight-breakfast-bus.jpg
ORGANIZER;CN="KI Science Park":MAILTO:event@kisciencepark.se
END:VEVENT
BEGIN:VEVENT
DTSTART;VALUE=DATE:20251001
DTEND;VALUE=DATE:20251002
DTSTAMP:20260421T034404
CREATED:20251006T151415Z
LAST-MODIFIED:20251006T151550Z
UID:10000182-1759276800-1759363199@www.kisciencepark.kisciencepark.hemsida.eu
SUMMARY:Stay active on Campus Solna! Every Tuesday and Thursday during October
DESCRIPTION:Invitation by Akademiska Hus: Take the chance to recharge and boost your energy! \nAt Campus Solna\, Akademiska Hus offers free training sessions every week\, led by professional coaches from Urban Tribes. The sessions are open to everyone working och studying on Campus Solna – regardless of fitness level – and aim to bring energy and wellbeing into your day. \nCircuit traning – every Tuesday \nA full-body workout where you rotate through different stations with exercises focusing on strength\, mobility\, and recovery – such as bodyweight training\, resistance bands\, and core exercises. A perfect break in the middle of your day to boost both energy and focus. \nTime: 11.30 AM\nTraining time: 60 minutes\nLocation: the pétanque courts located in the Pelousen area\nContact: johanna.billberg@akademiskahus.se \nPlay tennis with us! – every Thursday.\nA class for beginners and those with a little tennis experience who can rally a few times over the net with a partner. It’s all about having fun and giving it a go – no pressure\, just play. \nPlease bring your own racket. We only have limited spots available – don’t forget to sign up. \nTime: 11.00 AM\nTraining time: 60 minutes\nLocation: Tennis courts at Campus Solna\nContact: johanna.billberg@akademiskahus.se \nBy participating\, you consent to Akademiska Hus and Urban Tribes taking photographs during the sessions. If you prefer not to be photographed\, please let us know in advance \n 
URL:https://www.kisciencepark.kisciencepark.hemsida.eu/event/stay-active-on-campus-solna-every-tuesday-and-thursday-during-october-2/
ATTACH;FMTTYPE=image/jpeg:https://www.kisciencepark.kisciencepark.hemsida.eu/wp-content/uploads/2025/09/ag-aktiv-oct-dec.jpg
END:VEVENT
BEGIN:VEVENT
DTSTART;TZID=Europe/Stockholm:20251001T075000
DTEND;TZID=Europe/Stockholm:20251001T090000
DTSTAMP:20260421T034404
CREATED:20250624T135714Z
LAST-MODIFIED:20250925T120300Z
UID:10000155-1759305000-1759309200@www.kisciencepark.kisciencepark.hemsida.eu
SUMMARY:Meet Matthew Iles\, CEO AbbVie Scandinavia and Sergio Capancioni\, Director Search & Evaluation AbbVie International 
DESCRIPTION:Welcome to KI Science Park Business Breakfast!\nStart your day with insight and connection! Join us at Innomedicum\, in the AWL cafe from 7:50 for a delightful breakfast in a warm\, relaxed\, and friendly atmosphere. \nWe’re pleased to welcome Matthew Iles and Sergio Capancioni\, as our guest speakers at the October edition of Business Breakfast on the topic Creating partnerships that make a difference.  \nHow does AbbVie identify and evaluate opportunities that can lead to transformative collaborations? In this session\, we’ll hear from AbbVie’s Search & Evaluation team about how they work with early ventures to create partnerships that align with AbbVie’s R&D and commercial strategies – and ultimately\, make a difference for patients. \nREGISTER HERE \nMatthew Iles holds an MSc in Organic Chemistry and an Executive MBA\, and brings over 25 years of pharma industry experience. He has spent the past nine years in General Manager roles at AbbVie and Takeda\, and currently serves as General Manager Scandinavia at AbbVie\, leading growth across multiple therapeutic areas. \nSergio Capancioni holds a PhD in Pharmaceutical Sciences and has over 20 years of experience in the pharma industry. For the past 12 years\, he has worked in senior Search & Evaluation roles at AbbVie\, Mallinckrodt Pharmaceuticals\, and Debiopharm. In his current role as Director of Search & Evaluation\, International at AbbVie\, he focuses on identifying and assessing innovative therapeutic opportunities across key areas such as immunology\, oncology\, neurology\, eye care\, obesity\, and medical aesthetics. \nPROGRAM\n7:50 – 8:10 Breakfast is served.\n8:10 – 8:15 Welcome by KI Science Park\n8:15 – 8:45 Presentation by invited guest\n8:45 – 9:00 QA\n9:00 – 9:15 Networking \nJoin us for an inspiring morning on global health innovation and impact! \n——————————– \nAbout Business Breakfast\nBusiness Breakfast is KI Science Park’s  monthly morning meet-up where business leaders share experiences\, lessons\, and inspiration. It’s a chance to reconnect\, broaden your network\, and kick off the day with fresh energy and new ideas. The event is arranged in collaboration with A Working Lab at Innomedicum.
URL:https://www.kisciencepark.kisciencepark.hemsida.eu/event/business-breakfast-251001/
LOCATION:Innomedicum\,  A Working Lab Cafe  |\, Nanna Svarts Väg 4\, Solna\, 17165\, Sweden
ATTACH;FMTTYPE=image/jpeg:https://www.kisciencepark.kisciencepark.hemsida.eu/wp-content/uploads/2025/06/bb-abbvie-251001.jpg
ORGANIZER;CN="KI Science Park":MAILTO:event@kisciencepark.se
END:VEVENT
BEGIN:VEVENT
DTSTART;TZID=Europe/Stockholm:20251001T090000
DTEND;TZID=Europe/Stockholm:20251001T170000
DTSTAMP:20260421T034404
CREATED:20250625T141306Z
LAST-MODIFIED:20250625T141306Z
UID:10000159-1759309200-1759338000@www.kisciencepark.kisciencepark.hemsida.eu
SUMMARY:SciLifeLab Science Summit 2025: Disruptive Technologies for Drugging the Undruggable
DESCRIPTION:Are you ready to explore the cutting-edge for the future of drug discovery? Mark your calendar for the SciLifeLab Science Summit 2025\, an event focusing on novel technologies as drivers to find new modalities for disease intervention and drug innovation for precision medicine. \nThis full-day symposium will bring together leading scientists\, industry experts\, and innovators to discuss the breakthroughs and challenges in addressing previously inaccessible drug targets. Join us at Aula Medica\, Karolinska Institutet\, for a packed program featuring high-impact international presentations\, panel discussions\, and networking opportunities. \nJunior researchers are encouraged to participate with poster presentations – with the opportunity to be selected to give a short talk. \nRegister here! \nRegistration closes September 21.
URL:https://www.kisciencepark.kisciencepark.hemsida.eu/event/scilifelab-science-summit-2025-disruptive-technologies-for-drugging-the-undruggable/
LOCATION:Aula Medica\, Nobels väg 6\, Solna\, 171 65\, Sweden
ATTACH;FMTTYPE=image/jpeg:https://www.kisciencepark.kisciencepark.hemsida.eu/wp-content/uploads/2025/06/251001-disruptive-technologies-for-drugging-the-undruggable.jpg
END:VEVENT
BEGIN:VEVENT
DTSTART;TZID=Europe/Stockholm:20251001T093000
DTEND;TZID=Europe/Stockholm:20251001T153000
DTSTAMP:20260421T034404
CREATED:20250902T201558Z
LAST-MODIFIED:20250913T122533Z
UID:10000170-1759311000-1759332600@www.kisciencepark.kisciencepark.hemsida.eu
SUMMARY:Region Stockholm: Innovationsfondens dag 2025
DESCRIPTION:Region Stockholm bjuder in till Innovationsfondens dag!\n\nRegion Stockholm delar varje år ut medel ur Innovationsfonden till medarbetare för utveckling av innovationer. Innovationsfondens dag är ett tillfälle att få inblick i dessa projekt om framtidens hälso- och sjukvård\, trafik eller kultur i Stockholm.  \nRegistrera dig här!  \nAlla intresserade hälsas varmt välkomna efter anmälan! \nInnovationsfondens dag är en inspirationsdag\, en mötesarena och ett unikt tillfälle att träffa innovativa medarbetare som demonstrerar projekt som fått stöd av Innovationsfonden.Kaffe och smörgås serveras kl. 9.00 och enklare lunch mellan kl 11:30-13:00. \nVad du kan förvänta dig av dagen: \n*Möt företag och organisationer som arbetar med innovationsutveckling. \n*Få information om hur det går till att söka medel ur Innovationsfonden. \n*Utbyt erfarenheter och skapa samarbeten. \n*Lyssna på en rad intressanta inspirationsföreläsningar. \n*Var med och utse Årets Innovation och Bästa implementation. \nAnmälan senast 19 september \n__________________________________________________ \nInnovationsfonden – en möjlighet att förverkliga idéer!  \nSedan 2015 har Region Stockholms Innovationsfond varje år fördelat 15 miljoner kronor i stöd till projekt som skapar nytta för Stockholms invånare\, patienter och resenärer. Fonden ger alla som arbetar inom en verksamhet som finansieras av Region Stockholm en möjlighet att bidra till utvecklingen av hälso-och sjukvård\, trafik\, kultur och tillväxt- och regionalplanering. Över 1100 ansökningar har inkommit sedan start och ca 380 projekt har fått stöd.
URL:https://www.kisciencepark.kisciencepark.hemsida.eu/event/innovationsfondens-dag-2025/
LOCATION:Sune Bergström Aula\, Karolinska Universitetssjukhuset\, Solnavägen 30\, Solna\, 171 65\, Sweden
ATTACH;FMTTYPE=image/jpeg:https://www.kisciencepark.kisciencepark.hemsida.eu/wp-content/uploads/2025/09/innofonden2025.jpg
END:VEVENT
END:VCALENDAR