BEGIN:VCALENDAR
VERSION:2.0
PRODID:-//KI Science Park - ECPv6.15.0.1//NONSGML v1.0//EN
CALSCALE:GREGORIAN
METHOD:PUBLISH
X-WR-CALNAME:KI Science Park
X-ORIGINAL-URL:https://www.kisciencepark.kisciencepark.hemsida.eu
X-WR-CALDESC:Events for KI Science Park
REFRESH-INTERVAL;VALUE=DURATION:PT1H
X-Robots-Tag:noindex
X-PUBLISHED-TTL:PT1H
BEGIN:VTIMEZONE
TZID:Europe/Stockholm
BEGIN:DAYLIGHT
TZOFFSETFROM:+0100
TZOFFSETTO:+0200
TZNAME:CEST
DTSTART:20250330T010000
END:DAYLIGHT
BEGIN:STANDARD
TZOFFSETFROM:+0200
TZOFFSETTO:+0100
TZNAME:CET
DTSTART:20251026T010000
END:STANDARD
END:VTIMEZONE
BEGIN:VEVENT
DTSTART;TZID=Europe/Stockholm:20250924T160000
DTEND;TZID=Europe/Stockholm:20250924T170000
DTSTAMP:20260421T051628
CREATED:20250901T125600Z
LAST-MODIFIED:20260212T220456Z
UID:10000169-1758729600-1758733200@www.kisciencepark.kisciencepark.hemsida.eu
SUMMARY:Webinar: Ebba Biotech – Characterisation of pathological protein aggregates at single-molecule resolution
DESCRIPTION:Ebba Biotech\, a member of KI Science Park\, invites you to… \n Characterisation of pathological protein aggregates at single-molecule resolution\nRegister here! \nDr. Michael Morten from Imperial College London will present his research using Amytracker to visualise pathological protein aggregates at single-molecule resolution. \nThis is a great opportunity to learn how Amytracker\, together with advanced microscopy\, can reveal the structural details of different protein aggregates and how these insights can improve our understanding of how their spreading and clearance are regulated. Whether you’re a researcher\, student\, or simply curious about this fascinating field—this webinar is for you! \n✨ Don’t miss out—secure your spot today!
URL:https://www.kisciencepark.kisciencepark.hemsida.eu/event/webinar-ebba-biotech-2510/
LOCATION:Webinar
ATTACH;FMTTYPE=image/png:https://www.kisciencepark.kisciencepark.hemsida.eu/wp-content/uploads/2025/09/ebba-biotech-amytracker.png
END:VEVENT
END:VCALENDAR