BEGIN:VCALENDAR
VERSION:2.0
PRODID:-//KI Science Park - ECPv6.15.0.1//NONSGML v1.0//EN
CALSCALE:GREGORIAN
METHOD:PUBLISH
X-ORIGINAL-URL:https://www.kisciencepark.kisciencepark.hemsida.eu
X-WR-CALDESC:Events for KI Science Park
REFRESH-INTERVAL;VALUE=DURATION:PT1H
X-Robots-Tag:noindex
X-PUBLISHED-TTL:PT1H
BEGIN:VTIMEZONE
TZID:Europe/Stockholm
BEGIN:DAYLIGHT
TZOFFSETFROM:+0100
TZOFFSETTO:+0200
TZNAME:CEST
DTSTART:20250330T010000
END:DAYLIGHT
BEGIN:STANDARD
TZOFFSETFROM:+0200
TZOFFSETTO:+0100
TZNAME:CET
DTSTART:20251026T010000
END:STANDARD
END:VTIMEZONE
BEGIN:VEVENT
DTSTART;TZID=Europe/Stockholm:20250825T130000
DTEND;TZID=Europe/Stockholm:20250825T163000
DTSTAMP:20260421T071012
CREATED:20250814T075450Z
LAST-MODIFIED:20250819T105751Z
UID:10000165-1756126800-1756139400@www.kisciencepark.kisciencepark.hemsida.eu
SUMMARY:The Launch Event of the UTokyo–Karolinska LINK Programme
DESCRIPTION:Welcome to the launch event of the UTokyo–Karolinska LINK Programme! \nOn behalf of the University of Tokyo\, we are pleased to extend our formal invitation to the Launch Event and Opening Ceremony of the UTokyo–Karolinska LINK Programme. \nThe UTokyo–Karolinska LINK is a newly established strategic partnership between the University of Tokyo and Karolinska Institutet\, officially launched at the end of 2024. The programme aims to advance cutting-edge research collaboration\, foster sustainable innovation\, and strengthen international engagement in the life sciences. The LINK programme was initiated by professors Katsuhiko Shirahige at UTokyo and Camilla Björkegren at KI. \nThis inaugural event\, co-hosted by the University of Tokyo\, Karolinska Institutet and the Japan External Trade Organization (JETRO) (link)\, is designed to introduce the LINK programme to key stakeholders across academic\, governmental\, and industrial sectors in Sweden. The programme includes presentations from the hosting organisations and from the biotech sector. The programme finishes with a poster/networking session with refreshments at Biomedicum. \nREGISTER HERE! \n\n\nWe would be truly honored by your presence at this occasion\, which marks a significant step in strengthening Japan–Sweden scientific collaboration. \n\n\n\n\n\n\nShould you require any further information or support\, please feel free to contact our office at any time. Contact and inquiries: event@iqb.u-tokyo.ac.jp \nRead more about the organisers: \n\nUniversity of Tokyo  | JETRO  |  Karolinska Institutet \n\nPROGRAM \n\n\n\n\n\n\n\n\n\n\nTime \n\n\n\n\n\n\nContent \n\n\n\n\n\n\n\n\n13:00- \n\n\n\n\n\n\nRegistration opens \n\n\n\n\n\n\n\n\n13:30- \n\n\n\n\n\n\nThe Opening Ceremony begins \n\n\n\n\n\n\n\n\n13:35- \n\n\n\n\n\n\nOpening Address 1 Ambassador Hideaki Mizukoshi (5 min) \n\n\n\n\n\n\n\n\n13:40- \n\n\n\n\n\n\nOpening Address 2 UTokyo President Teruo Fujii (5 min) \n\n\n\n\n\n\n\n\n13:45- \n\n\n\n\n\n\nOpening Address 3 Prof. Camilla Bjorkegren (5 min) \n\n\n\n\n\n\n\n\n13:50- \n\n\n\n\n\n\nOpening Address 4 Dr. Johan Weigelt\, KI innovation CEO (5 min) \n\n\n\n\n\n\n\n\n14:00- \n\n\n\n\n\n\nSession Begins \n\n\n\n\n\n\n\n\n14:05 – \n\n\n\n\n\n\nSpeaker(UT)Prof. Katsuhiko Shirahige – “Exploring skin microbiome with myskin tape” \n\n\n\n\n\n\n\n\n14:10 – \n\n\n\n\n\n\nSpeaker (KI) Prof. Björn Högberg – “Molecular Engineering with DNA” \n\n\n\n\n\n\n\n\n14:15 – \n\n\n\n\n\n\nSpeaker (KI) OLINK Dr. Ida Grundberg – “Empowering Clinical Decision-making Through Protein Signatures with Olink Focus” \n\n\n\n\n\n\n\n\n14:20 – \n\n\n\n\n\n\nSpeaker (KI). Prof. Johan Bjorkegren – “Beat-IT” a New Olink Plasma Protein Signature that Identifies People at Risk of Developing Myocardial Infarction or Stroke” \n\n\n\n\n\n\n\n\n14:25 – \n\n\n\n\n\n\nSpeaker (KI) Dr. Laura Baranello – “Mechanism and Targeting of Topoisomerase Regulatory Interactions to Halt Cancer Progression” \n\n\n\n\n\n\n\n\n14:30 – \n\n\n\n\n\n\nSpeaker(UT) Prof. Hirohide Saito – “TBA” \n\n\n\n\n\n\n\n\n14:35 – \n\n\n\n\n\n\nSpeaker(UT) Dr. Akihiro Funamizu – “Mouse Digital Twin for Predicting Neural Circuits of Decision Making” \n\n\n\n\n\n\n\n\n14:40 – \n\n\n\n\n\n\nSpeaker(UT) Prof. Yukihide Tomari – “Molecular Mechanisms of RNA Silencing: From Basic Biology to Therapeutic Applications” \n\n\n\n\n\n\n\n\n14:45 – \n\n\n\n\n\n\nSpeaker(UT) Prof. Yuki Okada – “Image-Based AI for Rapid and Objective Sperm Quality Assessment” \n\n\n\n\n\n\n\n\n14:50 – \n\n\n\n\n\n\nSummary Comments– Mr. Hideo Yura/JETRO (5 min) \n\n\n\n\n\n\n\n\n15:15 –15:20 \n\n\n\n\n\n\nClosing Remarks KI President Annika Östman Wernerson(5 min) \n\n\n\n\n\n\n\n\n15:20-16:00 \n\n\n\n\n\n\nPoster Presentation & Coffee Break
URL:https://www.kisciencepark.kisciencepark.hemsida.eu/event/the-launch-event-of-the-utokyo-karolinska-link-programme/
LOCATION:Biomedicum\, Eva & Georg Klein\,\, Solnavägen 9\, Solna\, Sweden
ATTACH;FMTTYPE=image/jpeg:https://www.kisciencepark.kisciencepark.hemsida.eu/wp-content/uploads/2025/08/link.jpg
END:VEVENT
BEGIN:VEVENT
DTSTART;TZID=Europe/Stockholm:20250826T075000
DTEND;TZID=Europe/Stockholm:20250826T090000
DTSTAMP:20260421T071012
CREATED:20250624T135008Z
LAST-MODIFIED:20250820T135307Z
UID:10000154-1756194600-1756198800@www.kisciencepark.kisciencepark.hemsida.eu
SUMMARY:Business Breakfast with Björn Sjöstrand – Pioneering Vaccine Innovation
DESCRIPTION:Business Breakfast ☕️ Start your day with insight and connection!\nWe’re pleased to welcome Björn Sjöstrand\, co-founder and CEO of Scandinavian Biopharma\, as our guest speaker at the August edition of Business Breakfast. With a long-standing career in vaccines and biopharmaceutical technologies\, Björn will share insights from developing ETVAX\, the world’s most clinically advanced vaccine for ETEC-induced diarrhoea\, targeting travelers and children in low- and middle-income countries and how they have secured multiple public and private funding partnerships. \nUnder Björn’s leadership\, Scandinavian Biopharma has built a successful specialty pharma distribution business in Europe. In 2024\, the company signed a joint procurement agreement with the European Commission’s Health Emergency Preparedness and Response Authority (HERA) for the supply of diphtheria antitoxin—a testament to its growing impact in global and European health. \n  \nREGISTER HERE! \n  \nPROGRAM\n7:50 – 8:10 Breakfast is served.\n8:10 – 8:15 Welcome by KI Science Park\n8:15 – 8:45 Presentation by invited guest\n8:45 – 9:00 QA\n9:00 – 9:15 Networking \nMembers receive early access through a personal invitation. One week before the event\, registration will open here on the website for external participants. \nWarm welcome! \n——————————– \nAbout Business Breakfast\nBusiness Breakfast is KI Science Park’s  monthly morning meet-up where business leaders share experiences\, lessons\, and inspiration. It’s a chance to reconnect\, broaden your network\, and kick off the day with fresh energy and new ideas. The event is arranged in collaboration with A Working Lab at Innomedicum.
URL:https://www.kisciencepark.kisciencepark.hemsida.eu/event/business-breakfast-2508/
LOCATION:Innomedicum\,  A Working Lab Cafe  |\, Nanna Svarts Väg 4\, Solna\, 17165\, Sweden
ATTACH;FMTTYPE=image/jpeg:https://www.kisciencepark.kisciencepark.hemsida.eu/wp-content/uploads/2025/06/250826-bb-bjorn-flyer.jpg
ORGANIZER;CN="KI Science Park":MAILTO:event@kisciencepark.se
END:VEVENT
BEGIN:VEVENT
DTSTART;TZID=Europe/Stockholm:20250827T140000
DTEND;TZID=Europe/Stockholm:20250827T170000
DTSTAMP:20260421T071012
CREATED:20250624T113328Z
LAST-MODIFIED:20250707T135549Z
UID:10000149-1756303200-1756314000@www.kisciencepark.kisciencepark.hemsida.eu
SUMMARY:Game\, set\, match - join Campus Solna Open!
DESCRIPTION:Campus Solna Open is back – the annual tennis tournament that invites you to an afternoon of movement\, community and sunshine (plus free ice cream!). Whether you’re playing to win or simply cheering from the sidelines\, you’re warmly welcome. \nOn 27 August\, it’s time to dust off your racket and lace up your shoes – the Campus Solna Open returns for another year. This fun doubles tournament is open to everyone on campus\, regardless of playing level. \nYou can register with a partner or on your own – we’ll help you find someone to team up with. The winners walk away with the tournament trophy and eternal glory\, but all participants are treated to free ice cream from StikkiNikki. The winner not only claims the tournament title\, but also earns a place on the prestigious Solna Open Trophy. \nCome along to play\, cheer\, enjoy a fika or simply hang out in the sun. See you on the court! \nRegistration is required. Sign up via the link below. \nRead more and register here! \nContact: johanna.billberg@akademiskahus.se \nBy participating\, you consent to Akademiska Hus and Urban Tribes taking photographs during the sessions. If you prefer not to be photographed\, please let us know in advance
URL:https://www.kisciencepark.kisciencepark.hemsida.eu/event/campus-solna-open-2025/
LOCATION:Tennis courts by KI Student Housing (59°20’59.6″N 18°01’08.9″E)\, Campus Solna\, Solna\, 17165\, Sweden
ATTACH;FMTTYPE=image/jpeg:https://www.kisciencepark.kisciencepark.hemsida.eu/wp-content/uploads/2025/06/campus-solna-open-ah-2025.jpg
END:VEVENT
BEGIN:VEVENT
DTSTART;TZID=Europe/Stockholm:20250828T113000
DTEND;TZID=Europe/Stockholm:20250828T130000
DTSTAMP:20260421T071012
CREATED:20250804T102140Z
LAST-MODIFIED:20250804T102404Z
UID:10000161-1756380600-1756386000@www.kisciencepark.kisciencepark.hemsida.eu
SUMMARY:Lab Network Lunch meeting
DESCRIPTION:Lab Network Lunch – Practical minds\, shared solutions!\nJoin us for an informal and engaging lunch where lab enthusiasts come together to share experiences\, exchange ideas\, and connect with like-minded peers. Whether you’re a seasoned expert or just passionate about lab work\, this is a great opportunity to expand your network and be part of a supportive community. \nTopics we will cover during the session: \n\n– Update by organisers.\n– Lab Life: Discussion on daily lab operations. Share challenges and solutions.\n– R&D Exchange: Learn and get inspired by peers – research tech\, science and more.\n\nInvitations\, including reminder is sent to previous participants. A light lunch will be served. \nRegister here to secure your lunch ticket and get on the invitation list for future invitations. \nREGISTRATION –  Opens soon! Save the date! \nWhether you’re a regular participant or new to the group\, your presence will be greatly valued. \nWe look forward to seeing you there! \n________________________ \nAbout the Lab Network\nA community for employees at our member companies who live and breathe lab life. Whether it’s lab coat logistics or sustainable R&D\, this is where we exchange experiences and explore smarter ways of working – together. \nContact Sara Gunnerås\, Director KI Science Park or Satya Silcock\, Lab Manager A Working Lab for more information.\nContact info: event@kisciencepark.se \n 
URL:https://www.kisciencepark.kisciencepark.hemsida.eu/event/lab-network-lunch-meeting/
LOCATION:Fysiologen\, Campus Solna\, Liljestrands Väg 4\, Solna\, 17165\, Sweden
ATTACH;FMTTYPE=image/jpeg:https://www.kisciencepark.kisciencepark.hemsida.eu/wp-content/uploads/2025/08/250828-lab-network-lunch.jpg
ORGANIZER;CN="KI Science Park":MAILTO:event@kisciencepark.se
END:VEVENT
END:VCALENDAR