BEGIN:VCALENDAR
VERSION:2.0
PRODID:-//KI Science Park - ECPv6.15.0.1//NONSGML v1.0//EN
CALSCALE:GREGORIAN
METHOD:PUBLISH
X-WR-CALNAME:KI Science Park
X-ORIGINAL-URL:https://www.kisciencepark.kisciencepark.hemsida.eu
X-WR-CALDESC:Events for KI Science Park
REFRESH-INTERVAL;VALUE=DURATION:PT1H
X-Robots-Tag:noindex
X-PUBLISHED-TTL:PT1H
BEGIN:VTIMEZONE
TZID:Europe/Stockholm
BEGIN:DAYLIGHT
TZOFFSETFROM:+0100
TZOFFSETTO:+0200
TZNAME:CEST
DTSTART:20250330T010000
END:DAYLIGHT
BEGIN:STANDARD
TZOFFSETFROM:+0200
TZOFFSETTO:+0100
TZNAME:CET
DTSTART:20251026T010000
END:STANDARD
END:VTIMEZONE
BEGIN:VEVENT
DTSTART;TZID=Europe/Stockholm:20250522T163000
DTEND;TZID=Europe/Stockholm:20250522T190000
DTSTAMP:20260421T112304
CREATED:20250428T215242Z
LAST-MODIFIED:20250520T203435Z
UID:10000145-1747931400-1747940400@www.kisciencepark.kisciencepark.hemsida.eu
SUMMARY:Science After Work - The Science Behind Pelago Bioscience with Pär Nordlund
DESCRIPTION:Meet Pär Nordlund – Professor at Karolinska Institutet\, pioneer in drug discovery and co-founder and board member of Pelago Bioscience.\nWelcome to the cozy AWL cafe\, Innomedicum for networking\, knowledge sharing and fun after the working day. \nWe have a special guests this evening: Pär Nordlund\, who will talk to you about The Science Behind Pelago Bioscience – a global success supporting drug discovery. \nWith a background in structural biology\, Pär leads a research group at the Department of Oncology and Pathology\, focusing on mechanistic protein science and cancer drug development. His work includes advancing deep-proteomics through the innovative CETSA method – a powerful tool for understanding drug mechanisms\, resistance\, and identifying new therapeutic opportunities. \nHe is the co-founder of several biotech companies\, including Pelago Bioscience\, Sprint Bioscience\, and DotBio Pharma\, and a member of the Nobel Assembly at Karolinska Institutet. \nThis is a member event. An invitation is sent to community members. If you have not received an invitation sign up here for future events. \nPROGRAM\n16:30 – Doors open! Grab a drink\, enjoy some snacks\, and start mingling. \n17:00 – Welcome by KI Science Park \n17:05 – Presentation by our invited guest \n17:40 – Q&A – your chance to ask questions and share thoughts \n18:00 – The bar is open\, the music is on – time to unwind and connect! \nWarm welcome! \n————————————————- \n About Science After Work \nScience After Work is a KI Science Park member event. Focus on knowledge sharing and networking. You will enjoy a presentation by our guest speakers and expand your network over drinks and snacks. The presentation will be in English.
URL:https://www.kisciencepark.kisciencepark.hemsida.eu/event/science-after-work-pelago/
LOCATION:Innomedicum\,  A Working Lab Cafe  |\, Nanna Svarts Väg 4\, Solna\, 17165\, Sweden
ATTACH;FMTTYPE=image/jpeg:https://www.kisciencepark.kisciencepark.hemsida.eu/wp-content/uploads/2025/04/250522-saw-new.jpg
ORGANIZER;CN="KI Science Park":MAILTO:event@kisciencepark.se
END:VEVENT
END:VCALENDAR