BEGIN:VCALENDAR
VERSION:2.0
PRODID:-//KI Science Park - ECPv6.15.0.1//NONSGML v1.0//EN
CALSCALE:GREGORIAN
METHOD:PUBLISH
X-ORIGINAL-URL:https://www.kisciencepark.kisciencepark.hemsida.eu
X-WR-CALDESC:Events for KI Science Park
REFRESH-INTERVAL;VALUE=DURATION:PT1H
X-Robots-Tag:noindex
X-PUBLISHED-TTL:PT1H
BEGIN:VTIMEZONE
TZID:Europe/Stockholm
BEGIN:DAYLIGHT
TZOFFSETFROM:+0100
TZOFFSETTO:+0200
TZNAME:CEST
DTSTART:20250330T010000
END:DAYLIGHT
BEGIN:STANDARD
TZOFFSETFROM:+0200
TZOFFSETTO:+0100
TZNAME:CET
DTSTART:20251026T010000
END:STANDARD
END:VTIMEZONE
BEGIN:VEVENT
DTSTART;TZID=Europe/Stockholm:20250320T075000
DTEND;TZID=Europe/Stockholm:20250320T090000
DTSTAMP:20260421T173028
CREATED:20250212T150323Z
LAST-MODIFIED:20250312T081110Z
UID:10000133-1742457000-1742461200@www.kisciencepark.kisciencepark.hemsida.eu
SUMMARY:Business Breakfast\, guest: Magnus Björsne
DESCRIPTION:Meet Magnus Björsne\, Head of AZ BioVenture Innovation Unit (BIU) and CEO of AZ BioVentureHub at AstraZeneca AB\nMagnus will share his insights and elaborate on how big pharma can accelerate innovation in partnership with SMEs \nMagnus Björsne\, Ph.D.\, MBA\, is the Head of AZ BioVenture Innovation Unit (BIU) and CEO of AZ BioVentureHub at AstraZeneca AB. Based in Gothenburg\, Magnus has a distinguished career in the pharmaceutical industry\, with over 20 years of experience. \nMagnus has held various managerial positions within Cardiovascular Research Management as well as positions within Strategic Planning & Business Development. Magnus implemented AZ BioVentureHub\, a novel approach to open innovation that has received multiple international awards. This initiative allows biotech companies and academic groups to collaborate closely with AstraZeneca’s expertise and capabilities. \nRegister here!  The event is fully booked but you can sign up to the waiting list. \nHow it works\n7:50 – Breakfast is served.\n8:10 – Welcome by KI Science Park\n8:15 – 8:40 Presentation by invited guest\n8:40 – 9:00 Q&A and discussion \nBioventure Innovation Unit (BIU) is tasked with driving AstraZeneca’s strategy and work with the Nordic ecosystem. BIU is responsible for the activities within BioVentureHub\, AstraZeneca’s Nordic Mentor Program and runs a number of projects at national level\, all with the aim of further strengthening Swedish Life Science. \nWarm welcome! \n——————- \nAbout Business Breakfast\nBusiness Breakfast is KI Science Park’s monthly networking event where we invite business leaders to share their expertise and experience with the community and spotlighting current topics in Life Science.
URL:https://www.kisciencepark.kisciencepark.hemsida.eu/event/business-breakfast-march25/
LOCATION:Innomedicum\,  A Working Lab Cafe  |\, Nanna Svarts Väg 4\, Solna\, 17165\, Sweden
ATTACH;FMTTYPE=image/jpeg:https://www.kisciencepark.kisciencepark.hemsida.eu/wp-content/uploads/2025/02/2024-bb-flyers-orginal-kopiera.jpg
ORGANIZER;CN="KI Science Park":MAILTO:event@kisciencepark.se
END:VEVENT
END:VCALENDAR