BEGIN:VCALENDAR
VERSION:2.0
PRODID:-//KI Science Park - ECPv6.15.0.1//NONSGML v1.0//EN
CALSCALE:GREGORIAN
METHOD:PUBLISH
X-ORIGINAL-URL:https://www.kisciencepark.kisciencepark.hemsida.eu
X-WR-CALDESC:Events for KI Science Park
REFRESH-INTERVAL;VALUE=DURATION:PT1H
X-Robots-Tag:noindex
X-PUBLISHED-TTL:PT1H
BEGIN:VTIMEZONE
TZID:Europe/Stockholm
BEGIN:DAYLIGHT
TZOFFSETFROM:+0100
TZOFFSETTO:+0200
TZNAME:CEST
DTSTART:20250330T010000
END:DAYLIGHT
BEGIN:STANDARD
TZOFFSETFROM:+0200
TZOFFSETTO:+0100
TZNAME:CET
DTSTART:20251026T010000
END:STANDARD
END:VTIMEZONE
BEGIN:VEVENT
DTSTART;TZID=Europe/Stockholm:20250311T150000
DTEND;TZID=Europe/Stockholm:20250311T170000
DTSTAMP:20260421T191109
CREATED:20250116T204605Z
LAST-MODIFIED:20250707T113519Z
UID:10000128-1741705200-1741712400@www.kisciencepark.kisciencepark.hemsida.eu
SUMMARY:Nätverksträff R&D fokuserade SME inom precisionsmedicin
DESCRIPTION:Varmt välkommen till det nya årets första möte med nätverket för företag inom precisionsmedicin!  \nTema ATMP – Flemingsbergs faciliteter\, företag och kompetens\n(Buss avgår från Campus Solna till Flemingsberg\, se nedan för när och adress.) \nTa chansen att lära dig mer om ATMP i Flemingsberg och om den senaste utvecklingen inom avancerade terapiläkemedel (ATMP)\, diskutera potentiella samarbeten och nätverka med företag som är verksamma inom detta spännande område. Vi kommer att belysa bland annat klinisk tillämpning\, processutveckling och produktion av läkemedel\, verksamhetsstöd och rådgivning. Dessutom kommer vi att diskutera de förutsättningar och framgångsfaktorer som är avgörande för innovativa företag. \nProgram\n14:45 Kaffe och registrering startar \n15:00 Välkomna \nFem korta presentationer: \n\nKarolinska ATMP-centrum – Knut Steffensen\, Director\nPre-GMP\, ANA Futura – Gustaf Ahlén\, Facility Manager\nKarolinska Centrum för Cellterapi\, Single Entry Point och regulatorisk support – Ewa Ellis\, ATMP-koordinator\nOptiCell Solutions – Jarmo Henriksson\, CEO\nNextCell – Mathias Svahn\, CEO\n\nSamtal och frågor \n16:30 Sammanfattning \n16.45 Besök på Novum Labs – Viveka Brockman\, Lab Manager   \nVälkomna! \n_____________________________________ \nREGISTRERING: \nAnmälan görs till Andreas Namslauer:  andreas.namslauer@ssci.se \nMeddela gärna om du har en kollega som också vill delta. \nVi välkomnar nya företag till nätverket. För frågor om nätverket och deltagande kontakta Andreas eller  sara.gunneras@kisciencepark.se \n_____________________________________ \nBuss från Campus Solna /Hagastaden\nDeltagare från Campus Solna/Hagastaden kan åka med KI Pendlarbussen som avgår från Campus Solna\, Nobels väg 5 kl 14:10. Buss tillbaka från Flemingsberg avgår 16:50 eller 17:40. \nOBS! Meddela i ditt svar om du vill åka med bussen till Flemingsberg som avgår från Campus Solna kl 16:10. \nKort om Flemingsberg och ATMP\nI Flemingsberg finns en historia av framgångsrik forskning och klinisk utveckling\, inte minst inom området för avancerade terapier och regenerativ medicin. Flemingsberg har varit en pionjär inom ATMP-området sedan 1996\, tack vare Karolinska Universitetssjukhuset i Huddinge\, Karolinska Institutet och de företag som finns på Campus Flemingsberg. Tillsammans utgör de ett medicinskt center med högt internationellt rykte och fortsätter att driva innovation inom avancerade terapier. Här utvecklar flera innovativa företag banbrytande läkemedel med potential att behandla och bota sjukdomar på sätt som tidigare inte varit möjligt \nKort bakgrund om nätverket\nSyftet med nätverket är att få ett ökat kunskaps- och erfarenhetsutbyte mellan olika aktörer inom precisionsmedicin i regionen. Nätverket drivs av Stockholm Science City tillsammans med KI Innovations\, KI Science Park\, Flemingsberg Science och STUNS Life Science. \nDå precisionsmedicin är ett multidisciplinärt område under snabb utveckling eftersträvar vi att skapa ett forum för en konstruktiv\, öppen och hjälpsam dialog. Här kan alla dela med sig av erfarenheter och kunskaper och tillsammans försöka hitta smidiga vägar framåt.
URL:https://www.kisciencepark.kisciencepark.hemsida.eu/event/natverkstraff-fou-sme-inom-pm-2503/
LOCATION:NOVUM\, Plan 6\, hiss E\, Blickagången 6 eller Hälsovägen 7 (Ovanför fd restaurang Tango)\, Huddinge\, 171 57
ATTACH;FMTTYPE=image/jpeg:https://www.kisciencepark.kisciencepark.hemsida.eu/wp-content/uploads/2025/01/240222-flyer-pm-natverk.jpg
END:VEVENT
BEGIN:VEVENT
DTSTART;TZID=Europe/Stockholm:20250312T114500
DTEND;TZID=Europe/Stockholm:20250312T130000
DTSTAMP:20260421T191109
CREATED:20250219T212117Z
LAST-MODIFIED:20250224T130701Z
UID:10000139-1741779900-1741784400@www.kisciencepark.kisciencepark.hemsida.eu
SUMMARY:KI Science Park Lunch & Learn with BSI
DESCRIPTION:How to best interact with a Notified Body for a successful MDR/IVDR application?\nWe welcome all MedTech and Diagnostics companies. If you are developing products for the European market. At this event you get the opportunity to meet BSI\, one of the leading notified bodies. We will listen to Charlotte Hess\, Senior Business Development Manager IVD EMEA North and Magnus Olla\, Business Development Manager\, Medical Devices – Nordics. They will share their insights on how to best interact with a Notified Body for a successful MDR/IVDR application. \nRegister here! \n  \nAGENDA\n11.45 – 12.00 Registration\, lunch wraps served\n12.00 – 12.05 Welcome and introduction by KI Science Park/ KI Innovations\n12.05 – 12.40 Presentations by Charlotte and Magnus from BSI\n12.40 – 13.00 Q&A and closing\n13.00 – 13.15 networking\n \n—————————— \n13.15 – 14.00 by-invitation-only Q&A with BSI and companies part of KI Innovations incubator program DRIVE and STING The Q&A take place at KI Innovations office. An invitation will be sent to the companies concerned. \n—————————— \nBSI The Netherlands (2797) is a leading Notified Body; they review medical devices to ensure that they conform to the requirements of the European Directives and Regulations. BSI UK (0086) is a UK Approved Body able to provide conformity assessments under the new UKCA scheme. Their mission is to ensure patient safety whilst supporting timely market access to medical technology in a sustainable manner. \nMagnus Olla – Business Development Manager\, Medical Devices – Nordics\nMagnus joined BSI in 2021\, bringing with him 15+ years of commercial experience. He has worked in different roles within the regulatory industry\, partnering with start-ups\, consultants\, global manufacturing\, industry associations and hubs in the Nordic region.Solutions oriented\, Magnus fosters collaboration through mutual trust and understanding. His knowledge and expertise are valued by clients and stakeholders alike.\nIn addition to medical devices\, Magnus has a wealth of expertise covering quality management systems\, supply chain development\, risk management and testing \nCharlotte Hess – Senior Business Development Manager IVD EMEA North \nCharlotte has joined BSI in 2017. She’s is currently the Senior IVD Business Development Manager for Northern Europe\, managing IVDR applications with BSI. Charlotte has solid knowledge of the IVD industry and understands the complexity of the IVDR applications. Whether you’re starting the certification process\, looking to transfer or just need to discuss options for your business\, Charlotte can guide you efficiently through the process.\n——————————\n \nABOUT LUNCH & LEARN \nKI Science Park Lunch & Learn is an event that blend education and networking opportunities. Industry experts share their knowledge and expertise with our community\, and anyone interested in the featured topic. Attendees will enjoy a light lunch as part of the experience. Join us for an enriching session that nourishes both the mind and connections within our vibrant community! \nWelcome! \n 
URL:https://www.kisciencepark.kisciencepark.hemsida.eu/event/ki-science-park-lunch-learn-with-bsi-2025/
LOCATION:Innomedicum\, A Working Lab Cafe  |\, Nanna Svartz Väg 4\, Solna\, 171 65
ATTACH;FMTTYPE=image/jpeg:https://www.kisciencepark.kisciencepark.hemsida.eu/wp-content/uploads/2025/02/250312-bsi-ll-1.jpg
ORGANIZER;CN="KI Science Park":MAILTO:event@kisciencepark.se
END:VEVENT
END:VCALENDAR