BEGIN:VCALENDAR
VERSION:2.0
PRODID:-//KI Science Park - ECPv6.15.0.1//NONSGML v1.0//EN
CALSCALE:GREGORIAN
METHOD:PUBLISH
X-ORIGINAL-URL:https://www.kisciencepark.kisciencepark.hemsida.eu
X-WR-CALDESC:Events for KI Science Park
REFRESH-INTERVAL;VALUE=DURATION:PT1H
X-Robots-Tag:noindex
X-PUBLISHED-TTL:PT1H
BEGIN:VTIMEZONE
TZID:Europe/Stockholm
BEGIN:DAYLIGHT
TZOFFSETFROM:+0100
TZOFFSETTO:+0200
TZNAME:CEST
DTSTART:20250330T010000
END:DAYLIGHT
BEGIN:STANDARD
TZOFFSETFROM:+0200
TZOFFSETTO:+0100
TZNAME:CET
DTSTART:20251026T010000
END:STANDARD
END:VTIMEZONE
BEGIN:VEVENT
DTSTART;TZID=Europe/Stockholm:20250213T163000
DTEND;TZID=Europe/Stockholm:20250213T190000
DTSTAMP:20260421T204149
CREATED:20250123T141654Z
LAST-MODIFIED:20250130T122340Z
UID:10000130-1739464200-1739473200@www.kisciencepark.kisciencepark.hemsida.eu
SUMMARY:Science After Work - Radiotherapy and Theranostics
DESCRIPTION:Time for SCIENCE AFTER WORK! – Welcome to the cozy AWL café at Innomedicum for networking\, knowledge sharing and fun after the working day. \nThis evening we will hear about: Radiotherapy and Theranostics – Innovation\, Insights\, and Investment Trends \n We have three special guests this evening Marika Nestor\, CEO Akiram Therapeutics AB\,Thuy Tran\, Head of Theranostics Trial Center\, Karolinska Institutet and Yun Yang\, Investment Analyst\, Hadean Ventures \nJoin us for an inspiring after-work event exploring the cutting edge of radiotherapy and Theranostics. Hear Marika sharing her entrepreneurial journey\, Thuy introducing Theranostics Trial Center at Karolinska Institutet\, she also recently secured significant funding in the field\, and Yun giving the venture capital perspective sharing key trends shaping the future of this innovative sector. Short presentations will be followed by a dynamic Q&A session—don’t miss this opportunity to connect and learn! \nPROGRAM\n16:30 – Doors are open and snacks and beer is on the menu.\n17:00 – 17:05 Welcome by KI Science Park\n17:05 – 17:40 Presentation by invited guests\n17:40 – 18:00 Q&A\n18:00 – 19:00 The bar is open and music is on. \nThis is a member event. An invitation is sent to community members. Employees at member companies and KI affiliates sign up here to receive an invitation. \nWarm welcome! \n————————————————- \n About Science After Work \nScience After Work is a KI Science Park member event. Focus on knowledge sharing and networking. You will enjoy a presentation by our guest speakers and expand your network over drinks and snacks. The presentation will be in English.
URL:https://www.kisciencepark.kisciencepark.hemsida.eu/event/science-after-work-radiotherapy-and-theragnostics/
LOCATION:Innomedicum\,  A Working Lab Cafe  |\, Nanna Svarts Väg 4\, Solna\, 17165\, Sweden
ATTACH;FMTTYPE=image/jpeg:https://www.kisciencepark.kisciencepark.hemsida.eu/wp-content/uploads/2025/01/250213-saw-ny.jpg
ORGANIZER;CN="KI Science Park":MAILTO:event@kisciencepark.se
END:VEVENT
END:VCALENDAR