BEGIN:VCALENDAR
VERSION:2.0
PRODID:-//KI Science Park - ECPv6.15.0.1//NONSGML v1.0//EN
CALSCALE:GREGORIAN
METHOD:PUBLISH
X-WR-CALNAME:KI Science Park
X-ORIGINAL-URL:https://www.kisciencepark.kisciencepark.hemsida.eu
X-WR-CALDESC:Events for KI Science Park
REFRESH-INTERVAL;VALUE=DURATION:PT1H
X-Robots-Tag:noindex
X-PUBLISHED-TTL:PT1H
BEGIN:VTIMEZONE
TZID:Europe/Stockholm
BEGIN:DAYLIGHT
TZOFFSETFROM:+0100
TZOFFSETTO:+0200
TZNAME:CEST
DTSTART:20240331T010000
END:DAYLIGHT
BEGIN:STANDARD
TZOFFSETFROM:+0200
TZOFFSETTO:+0100
TZNAME:CET
DTSTART:20241027T010000
END:STANDARD
END:VTIMEZONE
BEGIN:VEVENT
DTSTART;TZID=Europe/Stockholm:20241216T114500
DTEND;TZID=Europe/Stockholm:20241216T130000
DTSTAMP:20260421T234547
CREATED:20241127T120125Z
LAST-MODIFIED:20241127T202055Z
UID:10000117-1734349500-1734354000@www.kisciencepark.kisciencepark.hemsida.eu
SUMMARY:Vilka möjligheter ger teknikutvecklingen idag och vad krävs för att hälso- och sjukvården och patienterna ska få ta del av innovation?
DESCRIPTION:KI Science Park Lunch Talks – Hosted by Bayer | Välkommen till en serie av lunchsamtal kring de stora frågorna inom life science\, hälso- och sjukvård! \nVilka möjligheter ger teknikutvecklingen idag och vad krävs för att patienter och hälso- och sjukvård ska få ta del av innovation? \nDen digitala utvecklingen går snabbare än någonsin och implementering av AI och nya digitala lösningar skapar möjligheter både för direkt omställning i hälso- och sjukvården men också för snabbare utveckling av nya läkemedel och terapier. Hur ser nuläget ut\, vilka nya möjligheter står till förfogande och vad krävs för att patienter och hälso-och sjukvård ska ges tillgång till dessa nyheter? Hur kan vi tillsammans utveckla hälso- och sjukvården samtidigt som ordinarie vård hinns med och kan finansieras? \nDeltagare i samtalet är Nasim Bergman Farrokhnia\, Microsoft\, Ann Lindgård\, Siish/VGR\, Daniel Forslund\, Vårdföretagarna\, Nina Lahti\, AI Sweden\, Carl-Johan Schiller\, regionråd (KD) Region Stockholm. \n Moderator: Edvard Agrell\, Bayer.     \nAnmäl dig här: https://www.lyyti.in/LunchTalks16dec24 \nAnmäl dig på en gång för att säkra din plats\, men senast den 12 december\, glöm inte att bekräfta som sista steg i din anmälan!                                                                                                                                                                                                                  Vi bjuder på lättare lunch. \nVarmt välkommen!
URL:https://www.kisciencepark.kisciencepark.hemsida.eu/event/vilka-mojligheter-ger-teknikutvecklingen-idag-och-vad-kravs-for-att-halso-och-sjukvarden-och-patienterna-ska-fa-ta-del-av-innovation/
LOCATION:Bayer office at Campus Solna\, Nobels väg 8\, Solna\, 171 65
ATTACH;FMTTYPE=image/jpeg:https://www.kisciencepark.kisciencepark.hemsida.eu/wp-content/uploads/2024/11/slide157.jpg
END:VEVENT
BEGIN:VEVENT
DTSTART;TZID=Europe/Stockholm:20241217T160000
DTEND;TZID=Europe/Stockholm:20241217T180000
DTSTAMP:20260421T234547
CREATED:20241121T114014Z
LAST-MODIFIED:20241205T203810Z
UID:10000115-1734451200-1734458400@www.kisciencepark.kisciencepark.hemsida.eu
SUMMARY:KI Science Park Winter Mingle
DESCRIPTION:Join Us for a Cozy Winter Gathering!\n\nDear members\, klients and tenants\, as the year draws to a close\, we invite you for a festive mingle with glögg tasting\, seasonal treats\, warmth\, connection\, and holiday cheer\, and an opportunity to meet old and new friends with us at the KI Science Park Winter Mingle. \n\nWarm welcome! \nKI Science Park\, KI Innovations\, Akademiska Hus and A Working Lab \n____________________________________________ \nCheck your email for the invitation and registration.
URL:https://www.kisciencepark.kisciencepark.hemsida.eu/event/ki-science-park-winter-mingle-2/
LOCATION:Innomedicum\, A Working Lab Cafe  |\, Nanna Svartz Väg 4\, Solna\, 171 65
ATTACH;FMTTYPE=image/jpeg:https://www.kisciencepark.kisciencepark.hemsida.eu/wp-content/uploads/2024/11/241217-winter-mingel.jpg
ORGANIZER;CN="KI Science Park":MAILTO:event@kisciencepark.se
END:VEVENT
END:VCALENDAR