BEGIN:VCALENDAR
VERSION:2.0
PRODID:-//KI Science Park - ECPv6.15.0.1//NONSGML v1.0//EN
CALSCALE:GREGORIAN
METHOD:PUBLISH
X-WR-CALNAME:KI Science Park
X-ORIGINAL-URL:https://www.kisciencepark.kisciencepark.hemsida.eu
X-WR-CALDESC:Events for KI Science Park
REFRESH-INTERVAL;VALUE=DURATION:PT1H
X-Robots-Tag:noindex
X-PUBLISHED-TTL:PT1H
BEGIN:VTIMEZONE
TZID:Europe/Stockholm
BEGIN:DAYLIGHT
TZOFFSETFROM:+0100
TZOFFSETTO:+0200
TZNAME:CEST
DTSTART:20240331T010000
END:DAYLIGHT
BEGIN:STANDARD
TZOFFSETFROM:+0200
TZOFFSETTO:+0100
TZNAME:CET
DTSTART:20241027T010000
END:STANDARD
END:VTIMEZONE
BEGIN:VEVENT
DTSTART;TZID=Europe/Stockholm:20241119T074000
DTEND;TZID=Europe/Stockholm:20241119T090000
DTSTAMP:20260421T234548
CREATED:20240829T204447Z
LAST-MODIFIED:20241104T202902Z
UID:10000097-1732002000-1732006800@www.kisciencepark.kisciencepark.hemsida.eu
SUMMARY:KI Science Park Business Breakfast with Nina Rawal
DESCRIPTION:Meet Nina Rawal – Partner & Co-Head of Ventures\, Thrill Impact\nTrill Impact is a single-purpose Impact House. We are uniquely designed for impact investments and impact investments only. That means we strive to create positive returns and impact for people\, planet and investors.Established in 2019\, Trill Impact is a pioneering Impact House with around EUR 1\,3 billion in assets under management across our Impact Private Equity\, Impact Ventures and Microfinance investment strategies. \nPROGRAM\n7:40 – 8:00 Breakfast is served.\n8:00 – 8:05 Welcome by KI Science Park\n8:05 – 8:35 Presentation by invited guest\n8:35 – 9:00 Q&A \nRegister here!\nABOUT BUSINESS BREAKFAST \nBusiness Breakfast is KI Science Park’s monthly networking event spotlighting current topics\, and gain insights from well-known experts in the life sciences field. We’ll meet in the AWL Café at Innomedicum.
URL:https://www.kisciencepark.kisciencepark.hemsida.eu/event/ki-science-park-business-breakfast-241119/
LOCATION:Innomedicum\, A Working Lab Cafe  |\, Nanna Svartz Väg 4\, Solna\, 171 65
ATTACH;FMTTYPE=image/jpeg:https://www.kisciencepark.kisciencepark.hemsida.eu/wp-content/uploads/2024/08/bb-nina-rawal-webb.jpg
ORGANIZER;CN="KI Science Park":MAILTO:event@kisciencepark.se
END:VEVENT
BEGIN:VEVENT
DTSTART;TZID=Europe/Stockholm:20241122T120000
DTEND;TZID=Europe/Stockholm:20241122T125500
DTSTAMP:20260421T234548
CREATED:20240929T054528Z
LAST-MODIFIED:20241010T105335Z
UID:10000102-1732276800-1732280100@www.kisciencepark.kisciencepark.hemsida.eu
SUMMARY:KI Science Park’s CEO and Business Leader Lunch November
DESCRIPTION:Welcome to KI Science Park’s CEO and Business Leader Lunch!\nJoin us for this networking opportunity that combines lunch with influential minds!   \nThe CEO and Business Leader Lunch is a monthly networking event exclusively for CEOs and business leaders of our member companies. The purpose of the network is to provide a platform for insightful discussions\, idea exchange\, and potential collaborations. It fosters connections and strengthens the network among KI Science Park members. Here we also welcome new member companies to the community. \nAn invitation will be sent to members. The registration will open soon. \nWe look forward to seeing you there! \n__________________________________________________ \nContact Sara Gunnerås if you would like to know more about the network and how to join.
URL:https://www.kisciencepark.kisciencepark.hemsida.eu/event/ki-science-parks-ceo-and-business-leader-lunch-2411/
LOCATION:Innomedicum\, KI Science Park AB office\, Nanna Svarts Väg 6a\, floor 4\, Solna\, 171 65\, Sweden
ATTACH;FMTTYPE=image/jpeg:https://www.kisciencepark.kisciencepark.hemsida.eu/wp-content/uploads/2023/05/VD-lunch-230526.jpg
ORGANIZER;CN="KI Science Park":MAILTO:event@kisciencepark.se
END:VEVENT
END:VCALENDAR