BEGIN:VCALENDAR
VERSION:2.0
PRODID:-//KI Science Park - ECPv6.15.0.1//NONSGML v1.0//EN
CALSCALE:GREGORIAN
METHOD:PUBLISH
X-ORIGINAL-URL:https://www.kisciencepark.kisciencepark.hemsida.eu
X-WR-CALDESC:Events for KI Science Park
REFRESH-INTERVAL;VALUE=DURATION:PT1H
X-Robots-Tag:noindex
X-PUBLISHED-TTL:PT1H
BEGIN:VTIMEZONE
TZID:Europe/Stockholm
BEGIN:DAYLIGHT
TZOFFSETFROM:+0100
TZOFFSETTO:+0200
TZNAME:CEST
DTSTART:20240331T010000
END:DAYLIGHT
BEGIN:STANDARD
TZOFFSETFROM:+0200
TZOFFSETTO:+0100
TZNAME:CET
DTSTART:20241027T010000
END:STANDARD
END:VTIMEZONE
BEGIN:VEVENT
DTSTART;TZID=Europe/Stockholm:20241112T080000
DTEND;TZID=Europe/Stockholm:20241112T094500
DTSTAMP:20260422T012404
CREATED:20241015T205341Z
LAST-MODIFIED:20241031T083713Z
UID:10000111-1731398400-1731404700@www.kisciencepark.kisciencepark.hemsida.eu
SUMMARY:KI Science Park Day Warm-Up: Finansieringsklimatet inom life science
DESCRIPTION:Osäkerheter i världsekonomin\, hög inflation och högre räntelägen har minskat investerares riskaptit de senaste åren vilket har påverkat finansieringsklimatet för företag i alla branscher. \n\n\n\nHur har förändringarna påverkat forskande life science företag?\nVad kan vi förvänta oss av utvecklingen de kommande åren?\nVad krävs av företagen som söker investeringar idag?\nVilka affärsmodeller och strategier inom läkemedelsutveckling och andra segment är mest relevanta idag?\nHur skulle tillgången på kapital för life science i Sverige kunna förbättras?\n\nVarmt välkomna till ett frukostseminarium där dessa och andra frågor som rör finansiering av växande företag inom life science adresseras. Olika perspektiv från företagens och investerarnas sida kommer att belysas i presentationer och samtal\, där du har möjlighet att ställa frågor till de erfarna paneldeltagarna. \n\nRegister here! \n 
URL:https://www.kisciencepark.kisciencepark.hemsida.eu/event/ki-science-park-day-warm-up-finansieringsklimatet-inom-life-science/
LOCATION:Sune Bergström Aula\, Karolinska Universitetssjukhuset\, Solnavägen 30\, Solna\, 171 65\, Sweden
ATTACH;FMTTYPE=image/jpeg:https://www.kisciencepark.kisciencepark.hemsida.eu/wp-content/uploads/2024/10/ssci241112.jpg
END:VEVENT
BEGIN:VEVENT
DTSTART;TZID=Europe/Stockholm:20241112T150000
DTEND;TZID=Europe/Stockholm:20241112T160000
DTSTAMP:20260422T012404
CREATED:20241104T085254Z
LAST-MODIFIED:20241104T085254Z
UID:10000113-1731423600-1731427200@www.kisciencepark.kisciencepark.hemsida.eu
SUMMARY:Unlocking NIH Opportunities
DESCRIPTION:How Swedish Companies can Collaborate with the largest Life Science Research Institute in the World\nJoin Business Sweden and the National Institutes of Health (NIH) for an exclusive webinar to explore how Swedish companies can successfully partner with NIH to drive innovation in the US healthcare ecosystem. This session will provide an overview of NIH’s research funding programs\, strategic partnerships\, and the pathways for Swedish businesses to contribute to and benefit from groundbreaking medical and healthcare research together with NIH \nRegister here! \nKey Takeaways \n\nInsights into NIH as a research and commercialization partner\nUnderstanding NIH’s funding mechanisms and eligibility for international companies\nExamples on successful partnerships and collaboration models with NIH\nReview and next steps on how Swedish companies can work with NIH\n\nAbout \nNational Institute of Health:\nThe National Institutes of Health (NIH) is the primary agency of the US government responsible for biomedical and public health research. It funds and conducts critical research aimed at understanding and improving human health\, while fostering collaborations between government\, academic institutions\, and industry to advance medical science and innovation. \nBusiness Sweden:\nBusiness Sweden is commissioned by the Government and the Swedish industry to help Swedish companies grow global sales and international companies invest and expand in Sweden. \nNovadigm Consulting:\nNovadigm Consulting Group provides a wider range of management consulting services to biotechnology companies.
URL:https://www.kisciencepark.kisciencepark.hemsida.eu/event/unlocking-nih-opportunities/
LOCATION:Webinar: Microsoft teams
ATTACH;FMTTYPE=image/jpeg:https://www.kisciencepark.kisciencepark.hemsida.eu/wp-content/uploads/2024/11/241112-bus-webinarie-nih.jpg
END:VEVENT
BEGIN:VEVENT
DTSTART;TZID=Europe/Stockholm:20241113T120000
DTEND;TZID=Europe/Stockholm:20241113T190000
DTSTAMP:20260422T012404
CREATED:20240716T181200Z
LAST-MODIFIED:20241021T203928Z
UID:10000091-1731499200-1731524400@www.kisciencepark.kisciencepark.hemsida.eu
SUMMARY:KI Science Park DAY 2024
DESCRIPTION:Welcome to KI Science Park DAY 2024!\nWhat to expect at this event:\n● Award lecture by the winners of Karolinska Institutet’s prize for Innovation and Utilization 2024 \n● Company presentations and knowledge sharing panels. \n● Exhibition with business and innovation supporting companies and organisations. \n● Poster session with academic research infrastructures/ core facilities. \n● Grow your professional network and have a good time! \n\nRead more here about the program and registration! \n________________________________________________\nAbout KI Science Park DAY\nKI Science Park DAY is organized by Karolinska Institutet Science Park AB in collaboration with partners. The purpose of this annual event is to serve as a vibrant arena for the Life Science sector\, where business and science meet to connect and inspire.
URL:https://www.kisciencepark.kisciencepark.hemsida.eu/event/ki-science-park-day-2024/
LOCATION:Biomedicum\, Eva & Georg Klein\,\, Solnavägen 9\, Solna\, Sweden
ATTACH;FMTTYPE=image/jpeg:https://www.kisciencepark.kisciencepark.hemsida.eu/wp-content/uploads/2024/10/flyer-kispday-utan-tid.jpg
ORGANIZER;CN="KI Science Park":MAILTO:event@kisciencepark.se
END:VEVENT
END:VCALENDAR