BEGIN:VCALENDAR
VERSION:2.0
PRODID:-//KI Science Park - ECPv6.15.0.1//NONSGML v1.0//EN
CALSCALE:GREGORIAN
METHOD:PUBLISH
X-WR-CALNAME:KI Science Park
X-ORIGINAL-URL:https://www.kisciencepark.kisciencepark.hemsida.eu
X-WR-CALDESC:Events for KI Science Park
REFRESH-INTERVAL;VALUE=DURATION:PT1H
X-Robots-Tag:noindex
X-PUBLISHED-TTL:PT1H
BEGIN:VTIMEZONE
TZID:Europe/Stockholm
BEGIN:DAYLIGHT
TZOFFSETFROM:+0100
TZOFFSETTO:+0200
TZNAME:CEST
DTSTART:20240331T010000
END:DAYLIGHT
BEGIN:STANDARD
TZOFFSETFROM:+0200
TZOFFSETTO:+0100
TZNAME:CET
DTSTART:20241027T010000
END:STANDARD
END:VTIMEZONE
BEGIN:VEVENT
DTSTART;TZID=Europe/Stockholm:20240822T163000
DTEND;TZID=Europe/Stockholm:20240822T190000
DTSTAMP:20260422T043459
CREATED:20240521T200023Z
LAST-MODIFIED:20240604T134722Z
UID:10000077-1724344200-1724353200@www.kisciencepark.kisciencepark.hemsida.eu
SUMMARY:KI Science Park Science After Work with Capitainer and SciLifeLab
DESCRIPTION:Welcome to Science After Work – where business and science meet after the working day! \nWe have two special guests this evening: Christopher Aulin\, CEO of Capitainer. Claudia Fredolini\, Head of SciLifeLab Affinity Proteomics Unit \nHear the story of how the startup company Capitainer developed a quantitative mass testing from a drop of blood with support from SciLifeLab Affinity Proteomics Unit. We will hear the story from both sides\, the company and the research facility. We will also learn about Capitainer and the Affinity Proteomics Unit at SciLifeLab. \nScience After Work is a KI Science Park member event. Focus on knowledge sharing and networking. You will enjoy a presentation by our guest speakers and expand your network over drinks and snacks. The presentation will be in English. \nAn invitation is sent to community members. Make sure to register your address to get invitations: here! \nPROGRAM\n16:30 – Doors are open and snacks and beer is on the menu.\n17:00 – 17:05 Welcome by KI Science Park\n17:05 – 17:35 Presentation by invited guests\n17:35 – 18:00 Q&A\n18:00 – 19:00 The bar is open and music is on. \nWarm welcome!
URL:https://www.kisciencepark.kisciencepark.hemsida.eu/event/ki-science-park-science-after-work-240613/
LOCATION:Innomedicum\, A Working Lab Cafe  |\, Nanna Svartz Väg 4\, Solna\, 171 65
ATTACH;FMTTYPE=image/jpeg:https://www.kisciencepark.kisciencepark.hemsida.eu/wp-content/uploads/2024/05/2024-saw-scilifelab-flyers-ny.jpg
ORGANIZER;CN="KI Science Park":MAILTO:event@kisciencepark.se
END:VEVENT
END:VCALENDAR