BEGIN:VCALENDAR
VERSION:2.0
PRODID:-//KI Science Park - ECPv6.15.0.1//NONSGML v1.0//EN
CALSCALE:GREGORIAN
METHOD:PUBLISH
X-WR-CALNAME:KI Science Park
X-ORIGINAL-URL:https://www.kisciencepark.kisciencepark.hemsida.eu
X-WR-CALDESC:Events for KI Science Park
REFRESH-INTERVAL;VALUE=DURATION:PT1H
X-Robots-Tag:noindex
X-PUBLISHED-TTL:PT1H
BEGIN:VTIMEZONE
TZID:Europe/Stockholm
BEGIN:DAYLIGHT
TZOFFSETFROM:+0100
TZOFFSETTO:+0200
TZNAME:CEST
DTSTART:20240331T010000
END:DAYLIGHT
BEGIN:STANDARD
TZOFFSETFROM:+0200
TZOFFSETTO:+0100
TZNAME:CET
DTSTART:20241027T010000
END:STANDARD
END:VTIMEZONE
BEGIN:VEVENT
DTSTART;TZID=Europe/Stockholm:20240626T113000
DTEND;TZID=Europe/Stockholm:20240626T124500
DTSTAMP:20260422T073627
CREATED:20240620T135406Z
LAST-MODIFIED:20240620T140322Z
UID:10000086-1719401400-1719405900@www.kisciencepark.kisciencepark.hemsida.eu
SUMMARY:Hur skapar vi världens bästa hälso- och sjukvård? – vilka förändringar är på gång och vad behöver göras för att Sverige ska bli ledande?
DESCRIPTION:Välkommen till en serie av lunchsamtal kring de stora frågorna inom life science och hälso- och sjukvård! \nHur skapar vi världens bästa hälso- och sjukvård? – vilka förändringar är på gång och vad behöver göras för att Sverige ska bli ledande? \n– ett samarbete mellan Bayer\, KI Science Park och Waters Corporation. \nDet pågår flera viktiga reformer inom hälso- och sjukvården – både när det gäller implementering av kunskapsstyrningen\, ökad tillgång till hälsodata och potentiellt en ökad statlig styrning av sjukvården. En sjukvård som ser olika ut i olika delar av landet. Men vilken borde visionen för Sveriges hälso- och sjukvård vara? Vilken roll har utbildning och forskning i de kommande behoven? Hur håller vi ihop\, vad som trots allt verkar bli\, en alltmer ojämlik hälso- och sjukvård och hur omhändertar vi innovation både i regionerna och nationellt. Delta i ett spännande samtal med KI:s rektor\, två regionråd i stora regioner\, men också deltagare från sjukvården\, patientföreträdare och forskande läkemedelsbolag. \nRegister here! \nDeltagare i samtalet är: \nAnnika Östman Wernerson\, rektor Karolinska Institutet \nMalin Sjöberg Högrell\, (L) regionråd i majoritet Uppsala \nCarina Öberg\, (V) regionråd i majoritet Västra Götaland \nOskar Ahlberg\, vice ordförande Sällsynta diagnoser \nKarin Eidolf\, Sverigechef Bayer Pharma \nGustaf Storm\, VD Capio S:t Görans sjukhus \nModerator: Edvard Agrell\, Bayer \n  \nAnmäl dig på en gång för att säkra din plats\, men senast den 24 juni\, glöm inte att bekräfta som sista steg i din anmälan. \nDu är välkommen från kl 11.30\, talarprogrammet äger rum kl. 12.00-12.45\, därefter stannar den som vill kvar och minglar. \nVi bjuder på lätt lunch till den som föranmält. \nVarmt välkommen!
URL:https://www.kisciencepark.kisciencepark.hemsida.eu/event/ki-science-park-lunch-talk-hur-skapar-vi-varldens-basta-halso-och-sjukvard-vilka-forandringar-ar-pa-gang-och-vad-behover-goras-for-att-sverige-ska-bli-ledande/
LOCATION:Innergården Södra Kyrkogatan 5 – Agrellska huset\, Visby.\,
ATTACH;FMTTYPE=image/jpeg:https://www.kisciencepark.kisciencepark.hemsida.eu/wp-content/uploads/2024/06/image001.jpg
END:VEVENT
BEGIN:VEVENT
DTSTART;TZID=Europe/Stockholm:20240627T113000
DTEND;TZID=Europe/Stockholm:20240627T121500
DTSTAMP:20260422T073627
CREATED:20240604T113248Z
LAST-MODIFIED:20240604T113313Z
UID:10000085-1719487800-1719490500@www.kisciencepark.kisciencepark.hemsida.eu
SUMMARY:AWL Running Club
DESCRIPTION:
URL:https://www.kisciencepark.kisciencepark.hemsida.eu/event/awl-running-club-27jun/
LOCATION:Nanna Svartz Väg 4\, Campus Solna
ATTACH;FMTTYPE=application/pdf:https://www.kisciencepark.kisciencepark.hemsida.eu/wp-content/uploads/2024/06/awlrunningclubliggande.pdf
END:VEVENT
BEGIN:VEVENT
DTSTART;VALUE=DATE:20240628
DTEND;VALUE=DATE:20240629
DTSTAMP:20260422T073627
CREATED:20240701T082538Z
LAST-MODIFIED:20240701T082640Z
UID:10000087-1719532800-1719619199@www.kisciencepark.kisciencepark.hemsida.eu
SUMMARY:OPEN! KI Internship program company project submission.
DESCRIPTION:Are you looking for world-class talent in life sciences? \nThen be a part of the successful Karolinska Institutet internship program. We are looking for companies and organizations related to healthcare and life sciences who are interested in taking doctoral students and postdoctoral researchers as interns financed by KI. \nWe are now recruiting projects\, 1 to 3 months.\nOur carefully selected applicants are highly skilled\, self-driven and motivated to learn more about how to apply their transferable skills outside Academia. \nNext deadline to submit projects: September 4th\, 2024 \nInterested in knowing more? \n\nPhD student Internships \n\nDuration of 1 month (4 weeks) at full-time or part-time basis (flexible)\nSalary covered by KI (KFU)\n\n\nPostdoc and researcher Internships \n\nUp to 3 months at a full-time or part-time basis (flexible)\nSalary covered by KI (KF and Unions) and the hosting organization contributes 60.000 sek to take part in the program.\n\n\n\nContact us: career-service@ki.se\nKI Career Service: Ana Osório Oliveira\nHead of the External Engagement Office: Richard Cowburn
URL:https://www.kisciencepark.kisciencepark.hemsida.eu/event/open-ki-internship-program-company-project-submission/
ATTACH;FMTTYPE=image/jpeg:https://www.kisciencepark.kisciencepark.hemsida.eu/wp-content/uploads/2024/07/240628-ki-career-service.jpg
END:VEVENT
END:VCALENDAR