BEGIN:VCALENDAR
VERSION:2.0
PRODID:-//KI Science Park - ECPv6.15.0.1//NONSGML v1.0//EN
CALSCALE:GREGORIAN
METHOD:PUBLISH
X-ORIGINAL-URL:https://www.kisciencepark.kisciencepark.hemsida.eu
X-WR-CALDESC:Events for KI Science Park
REFRESH-INTERVAL;VALUE=DURATION:PT1H
X-Robots-Tag:noindex
X-PUBLISHED-TTL:PT1H
BEGIN:VTIMEZONE
TZID:Europe/Stockholm
BEGIN:DAYLIGHT
TZOFFSETFROM:+0100
TZOFFSETTO:+0200
TZNAME:CEST
DTSTART:20240331T010000
END:DAYLIGHT
BEGIN:STANDARD
TZOFFSETFROM:+0200
TZOFFSETTO:+0100
TZNAME:CET
DTSTART:20241027T010000
END:STANDARD
END:VTIMEZONE
BEGIN:VEVENT
DTSTART;TZID=Europe/Stockholm:20240311T133000
DTEND;TZID=Europe/Stockholm:20240311T170000
DTSTAMP:20260422T152447
CREATED:20240308T120050Z
LAST-MODIFIED:20240308T122943Z
UID:10000067-1710163800-1710176400@www.kisciencepark.kisciencepark.hemsida.eu
SUMMARY:KI Internship program - matchmaking event for Companies and PhD Students & Postdocs
DESCRIPTION:Welcome to the KI Internship program – mingle event! \nThe aim of the event is to meet and mingle with representatives from the companies that are participating in the  Internship Programs VT24 Call. Companies that missed the registration deadline are welcome to participate in the mingle as visitors to get to know more about the companies and the Internship Program. \nThe event is organized by KI Career Service\, in collabotation with A Working Lab and KI Science Park. \nYou find the AGENDA\,  REGISTERED COMPANIES and REGISTRATION here.\nRead more about the internship programs here. \n\n\nRegistration required.\nWelcome!\n 
URL:https://www.kisciencepark.kisciencepark.hemsida.eu/event/ki-internship-program-matchmaking-event-for-companies-and-phd-students-postdocs-march2024/
LOCATION:Innomedicum\, A Working Lab Cafe  |\, Nanna Svartz Väg 4\, Solna\, 171 65
ATTACH;FMTTYPE=image/png:https://www.kisciencepark.kisciencepark.hemsida.eu/wp-content/uploads/2024/03/mingle-event-vt24.png
END:VEVENT
BEGIN:VEVENT
DTSTART;TZID=Europe/Stockholm:20240313T114500
DTEND;TZID=Europe/Stockholm:20240313T130000
DTSTAMP:20260422T152447
CREATED:20240229T104238Z
LAST-MODIFIED:20240307T215738Z
UID:10000066-1710330300-1710334800@www.kisciencepark.kisciencepark.hemsida.eu
SUMMARY:Lunch & Learn: How to best interact with a Notified Body for a successful MDR/IVDR application?
DESCRIPTION:We welcome all MedTech and Diagnostics companies to this intresting talk about how to interact with a Notified Body! \nIf you are developing products for the European market. At this event you get the opportunity to meet BSI\, one of the leading notified bodies. We will listen to Charlotte Hess\, Senior Business Development Manager IVD EMEA North and Magnus Olla\, Business Development Manager\, Medical Devices – Nordics. They will share their insights on how to best interact with a Notified Body for a successful MDR/IVDR application. \nAGENDA\n11.45 – 11.45 Registration\, lunch wraps served\n12.45 – 12.00 Welcome and introduction by KI Science Park\n12.05 – 12.40 Presentations by Charlotte and Magnus from BSI\n12.40 – 13.00 Q&A\, closing\, coffee & networking. \nREGISTER HERE \nABOUT BSI AND THE SPEAKERS \nBSI The Netherlands (2797) is a leading Notified Body; they review medical devices to ensure that they conform to the requirements of the European Directives and Regulations. BSI UK (0086) is a UK Approved Body able to provide conformity assessments under the new UKCA scheme. Their mission is to ensure patient safety whilst supporting timely market access to medical technology in a sustainable manner. \nMagnus Olla – Business Development Manager\, Medical Devices – Nordics\nPrior to his role at BSI\, Magnus worked for 9 years at Intertek – a Global multinational assurance\, inspection\, product testing\, and certification company. Magnus joined BSI in 2021\, bringing his regulatory & commercial expertise and passion for sales & customer satisfaction to the organization. Magnus has also been involved in several other regulatory areas besides Medical Devices\, such as management systems\, supply chain\, risk management & testing providing – resulting in a broad approach to client interaction & support. \nCharlotte Hess – Senior Business Development Manager IVD EMEA North \nCharlotte has joined BSI in 2017. She’s is currently the Senior IVD Business Development Manager for Northern Europe\, managing IVDR applications with BSI. Charlotte has solid knowledge of the IVD industry and understands the complexity of the IVDR applications. Whether you’re starting the certification process\, looking to transfer or just need to discuss options for your business\, Charlotte can guide you efficiently through the process. \nWelcome!  \n––––––––––––––––– \nAbout KI Science Park Lunch & Learn\nKI Science Park Lunch & Learn is an open event that blend education and networking opportunities. Industry experts share their knowledge and expertise with our members and anyone interested in the featured topic. Attendees will enjoy a light lunch as part of the experience. Join us for an enriching session that nourishes both the mind and connections within our vibrant community!
URL:https://www.kisciencepark.kisciencepark.hemsida.eu/event/lunch-learn-how-to-best-interact-with-a-notified-body-for-a-successful-mdr-ivdr-application/
LOCATION:Innomedicum\, A Working Lab Cafe  |\, Nanna Svartz Väg 4\, Solna\, 171 65
ATTACH;FMTTYPE=image/jpeg:https://www.kisciencepark.kisciencepark.hemsida.eu/wp-content/uploads/2024/02/240313-bsi-flyer.jpg
ORGANIZER;CN="KI Science Park":MAILTO:event@kisciencepark.se
END:VEVENT
END:VCALENDAR