BEGIN:VCALENDAR
VERSION:2.0
PRODID:-//KI Science Park - ECPv6.15.0.1//NONSGML v1.0//EN
CALSCALE:GREGORIAN
METHOD:PUBLISH
X-WR-CALNAME:KI Science Park
X-ORIGINAL-URL:https://www.kisciencepark.kisciencepark.hemsida.eu
X-WR-CALDESC:Events for KI Science Park
REFRESH-INTERVAL;VALUE=DURATION:PT1H
X-Robots-Tag:noindex
X-PUBLISHED-TTL:PT1H
BEGIN:VTIMEZONE
TZID:Europe/Stockholm
BEGIN:DAYLIGHT
TZOFFSETFROM:+0100
TZOFFSETTO:+0200
TZNAME:CEST
DTSTART:20240331T010000
END:DAYLIGHT
BEGIN:STANDARD
TZOFFSETFROM:+0200
TZOFFSETTO:+0100
TZNAME:CET
DTSTART:20241027T010000
END:STANDARD
END:VTIMEZONE
BEGIN:VEVENT
DTSTART;TZID=Europe/Stockholm:20240220T113000
DTEND;TZID=Europe/Stockholm:20240220T133000
DTSTAMP:20260422T134815
CREATED:20240205T112526Z
LAST-MODIFIED:20240220T091120Z
UID:10000061-1708428600-1708435800@www.kisciencepark.kisciencepark.hemsida.eu
SUMMARY:KI Science Park Lab Network kick-off!
DESCRIPTION:Welcome to the KI Science Park Lab Network kick-off!\nThe Lab Network is initiated for our member companies actively carrying out lab work (or planning to start lab work). A forum for laboratory managers and R&D personnel to share relevant information\, practical experiences and resources. We aim at encouraging a collaborative environment and finding ways to work together\, explore synergies and to prioritise sustainability within our workplaces. \nIf this sounds interesting\, please sign up and/or share the invitation with the persons in your company that could be interested in joining. Ideally someone actively working in the lab or or having overview about lab operations and needs.  We welcome 1-2 persons per company for this first meeting. \nRegistration closed. \n  \nAGENDA\n11.30-12.00 | Lunch & Networking\n12.00-12.10 | Welcome!\n12.10-12.30 | Introduction of all participants. (Name\, position/role in the company)\n12.30-13.00 | Workshop with coffe/tea\n13.00-13.20 | Presentation of workshop results.\n13.20-13.30 | Summary and next step. \nWe look forward to welcoming you!\nArmando Cázares-Körner\, PhD\, Lab Manager at A Working Lab\nSara Gunnerås\, PhD\, COO and Community Manager at KI Science Park \n_______________________ \nThe KI Science Park LAB Network is i coordinated by KI Science Park AB and A Working Lab. \nQuestions?\nArmando.CazaresKorner@akademiskahus.se\nSara.Gunneras@kisciencepark.se
URL:https://www.kisciencepark.kisciencepark.hemsida.eu/event/ki-science-park-lab-network-kick-off/
LOCATION:Innomedicum. A Working Lab meeting room: Humle\, floor 1.\, Nanna Svartz väg 6a\, Solna\, 17165\, Sweden
ATTACH;FMTTYPE=image/jpeg:https://www.kisciencepark.kisciencepark.hemsida.eu/wp-content/uploads/2024/02/the-lab-network-kick-off-flyer-1.jpg
ORGANIZER;CN="KI Science Park":MAILTO:event@kisciencepark.se
END:VEVENT
BEGIN:VEVENT
DTSTART;TZID=Europe/Stockholm:20240221T180000
DTEND;TZID=Europe/Stockholm:20240221T200000
DTSTAMP:20260422T134815
CREATED:20240206T081453Z
LAST-MODIFIED:20240206T081453Z
UID:10000062-1708538400-1708545600@www.kisciencepark.kisciencepark.hemsida.eu
SUMMARY:Digital Health Cocktail Hour Stockholm!
DESCRIPTION:Welcome to DHCH Stockholm\nThe Digital Health Cocktail Hour is where early-stage health innovation startups\, investors\, and researchers can relax\, network\, and have fun. You can expect to meet fellow innovators\, participate in “Office Minutes” flash meetings with experts and investors\, and learn loads! Plus\, great cocktails of course! 🥂 The vibe of the night is friendly and informal. We’ve designed the event so you’ll leave feeling energized and filled with a renewed sense of purpose as we work to get solutions to clinical impact as quickly as possible. 💪 \nEXPERT PANEL TOPIC: HealthTech in the Nordics\, Challenges & Opportunities in 2024 Panellists to be announced \nRegister here! \n  \nBrought to you by AWS Startups\, Astra Zeneca\, A Working Lab\, HealthCap\, KI Science Park\, and Nordic Science Capital.
URL:https://www.kisciencepark.kisciencepark.hemsida.eu/event/digital-health-cocktail-hour-stockholm/
LOCATION:Innomedicum\, A Working Lab Cafe  |\, Nanna Svartz Väg 4\, Solna\, 171 65
ATTACH;FMTTYPE=image/jpeg:https://www.kisciencepark.kisciencepark.hemsida.eu/wp-content/uploads/2024/02/dhch.jpeg
END:VEVENT
BEGIN:VEVENT
DTSTART;TZID=Europe/Stockholm:20240222T074000
DTEND;TZID=Europe/Stockholm:20240222T090000
DTSTAMP:20260422T134815
CREATED:20231220T214500Z
LAST-MODIFIED:20240216T132108Z
UID:10000051-1708587600-1708592400@www.kisciencepark.kisciencepark.hemsida.eu
SUMMARY:KI Science Park Business Breakfast. Guest: Gustaf Salford\, President and CEO\, Elekta
DESCRIPTION:Meet Gustaf Salford\, President and CEO\, Elekta at KI Science Park Business Breakfast \nGustaf will talk about the road from idea to product and global success. There is a lot lessons learned and tough decisions made along such a long journey. But the reward comes when you see how the products makes a difference for millions of cancer patients all over the world. \nGustaf Salford has been President and Chief Executive Officer of Elekta – the world’s largest company dedicated to radiation oncology – since 2020. He is a proven leader with international business acumen and intimate knowledge of the medical device industry\, Salford has held senior management roles at the company for fourteen years\, including Chief Financial Officer\, Head of Group Business Control and Business Controller for Europe\, Africa\, Latin America and the Middle East. \nPrior to his career at Elekta\, Salford held positions at Boston Consulting Group and Booz Allen Hamilton. Salford has a MSc degree in Business Administration from the Stockholm School of Economics and has studied at McGill University in Canada and Stanford University’s Graduate School of Business. He also served as an Officer in the Swedish Navy. \n\nRegister here! \n  \n\nPROGRAM\n7:40 – 8:00 Breakfast is served.\n8:00 – 8:05 Welcome by Sara Gunnerås\, KI Science Park\n8:05 – 8:35 Presentation by invited guest\n8:35 – 9:00 Q&A \n  \nWarm welcome! \n——————– \nBusiness Breakfast is KI Science Park’s monthly networking event where we invite business leaders to share their expertise and experience with the community and spotlighting current topics in Life Science. It is co-organized by KI Science Park AB and A Working Lab.
URL:https://www.kisciencepark.kisciencepark.hemsida.eu/event/business-breakfast-9/
LOCATION:Innomedicum\, A Working Lab Cafe  |\, Nanna Svartz Väg 4\, Solna\, 171 65
ATTACH;FMTTYPE=image/jpeg:https://www.kisciencepark.kisciencepark.hemsida.eu/wp-content/uploads/2023/12/240222-bb-gustaf-flyer-calendar.jpg
ORGANIZER;CN="KI Science Park":MAILTO:event@kisciencepark.se
END:VEVENT
BEGIN:VEVENT
DTSTART;TZID=Europe/Stockholm:20240222T150000
DTEND;TZID=Europe/Stockholm:20240222T170000
DTSTAMP:20260422T134815
CREATED:20240119T073910Z
LAST-MODIFIED:20240119T082922Z
UID:10000059-1708614000-1708621200@www.kisciencepark.kisciencepark.hemsida.eu
SUMMARY:Nätverksträff för R&D fokuserade  SME inom precisionsmedicin
DESCRIPTION:Varmt välkommen till det andra mötet med nätverket för företag inom precisionsmedicin! \nDenna gång kommer vi att fokusera på frågeställningar som rör kliniska studier och regulatoriska processer kopplade till dessa. Något om programmet\, mer information kommer i januari \nFrån läkemedelsverket deltar Elin Karlberg\, gruppchef för regulatoriska gruppen inom kliniska prövningar\, och Gunilla Andrew-Nielsen\, enhetschef kliniska prövningar och licenser. Elin och Gunilla kommer att fokusera på MDR och IVDR samt vad som är viktigt att tänka på när medicintekniska och diagnostiska produkter är nära kopplade till läkemedelsbehandlingar.   \nFrån Region Stockholm deltar Kristina Kannisto\, Forskningsstrateg\, som kommer att presentera regionens handlingsplan för kliniska prövningar med fokus på företagsinitierade prövningar.   \niCellate och Neogap kommer att dela med sig av erfarenheter av att planera och genomföra studier i klinik.  \nEn gemensam diskussion/workshop för att utforska vad olika aktörer skulle kunna göra för att underlätta planering och genomförande av kliniska studier.  \n Anmälan görs till Andreas Namslauer:  andreas.namslauer@ssci.se\nVi välkomnar även nya deltagare till nätverket!\nFör frågor om nätverket och deltagande går det även bra att kontakta sara.gunneras@kisciencepark.se \n_____________________________________ \nKort bakgrund om nätverket \nSyftet med nätverket är att få ett ökat kunskaps- och erfarenhetsutbyte mellan olika aktörer inom precisionsmedicin i Stockholm-Uppsalaregionen. Nätverket drivs av Stockholm Science City tillsammans med KI Innovations\, KI Science Park\, Flemingsberg Science och STUNS Life Science.  \nDen 25:e september hölls ett första möte med en workshop där en lista på utmaningar togs fram. Under 2024 kommer fyra aktiviteter att genomföras där några av dessa utmaningar adresseras.   \nDå precisionsmedicin är ett multidisciplinärt område under snabb utveckling eftersträvar vi att skapa ett forum för konstruktiv\, öppen och hjälpsam dialog. Här kan alla dela med sig av erfarenheter och kunskaper och tillsammans försöka hitta smidiga vägar framåt.  
URL:https://www.kisciencepark.kisciencepark.hemsida.eu/event/natverkstraff-for-rd-fokuserade-sme-inom-precisionsmedicin/
ATTACH;FMTTYPE=image/jpeg:https://www.kisciencepark.kisciencepark.hemsida.eu/wp-content/uploads/2024/01/240222-pm-flyer.jpg
END:VEVENT
END:VCALENDAR