BEGIN:VCALENDAR
VERSION:2.0
PRODID:-//KI Science Park - ECPv6.15.0.1//NONSGML v1.0//EN
CALSCALE:GREGORIAN
METHOD:PUBLISH
X-WR-CALNAME:KI Science Park
X-ORIGINAL-URL:https://www.kisciencepark.kisciencepark.hemsida.eu
X-WR-CALDESC:Events for KI Science Park
REFRESH-INTERVAL;VALUE=DURATION:PT1H
X-Robots-Tag:noindex
X-PUBLISHED-TTL:PT1H
BEGIN:VTIMEZONE
TZID:Europe/Stockholm
BEGIN:DAYLIGHT
TZOFFSETFROM:+0100
TZOFFSETTO:+0200
TZNAME:CEST
DTSTART:20240331T010000
END:DAYLIGHT
BEGIN:STANDARD
TZOFFSETFROM:+0200
TZOFFSETTO:+0100
TZNAME:CET
DTSTART:20241027T010000
END:STANDARD
END:VTIMEZONE
BEGIN:VEVENT
DTSTART;TZID=Europe/Stockholm:20240208T163000
DTEND;TZID=Europe/Stockholm:20240208T193000
DTSTAMP:20260422T164638
CREATED:20240111T120617Z
LAST-MODIFIED:20240119T100054Z
UID:10000054-1707409800-1707420600@www.kisciencepark.kisciencepark.hemsida.eu
SUMMARY:KI Science Park Science After Work! Guest: Tomas Nyman\, Head of Protein Science Facility at KI
DESCRIPTION:February is here and time for SCIENCE AFTER WORK at the cozy AWL cafe\, Innomedicum!\nWe have a special guest this evening: Tomas Nyman\, Head of Protein Science Facility at Karolinska Institutet. Tomas will share stories where the Protein Science Facility played a key role\, supporting research and innovation though external collaborations. \nProtein Science Facility (PSF) is a core facility that provides protein production\, macromolecular X-ray crystallography (MX) and biophysical protein characterization. PSF is a member of in the national research infrastructure Protein Production Sweden (PPS). Both PSF and PPS welcome requests from academic and non-academic clients. \nRegister here! \nProgram\nFrom 16:30  Doors are open and snacks and beer is served.\n17:00 – 17:05 Welcome by Sara Gunnerås\, KI Science Park\n17:05 – 17:35 Presentation by Tomas Nyman\, Protein Science Facility at KI\n17:35 – 18:00 Q&A\n18:00 – 19:30 The bar is open and music is on. \nWelcome!\n————————————————— \nAbout Science After Work\nScience After Work is a networking event where business and science meet. You will enjoy a presentation by our guest speaker and expand your network over drinks and snacks. The presentation will be in English. Bring your colleagues – everyone is welcome\, just remember to sign up!
URL:https://www.kisciencepark.kisciencepark.hemsida.eu/event/ki-science-park-science-after-work-no4/
LOCATION:Innomedicum\, A Working Lab Cafe  |\, Nanna Svartz Väg 4\, Solna\, 171 65
ATTACH;FMTTYPE=image/jpeg:https://www.kisciencepark.kisciencepark.hemsida.eu/wp-content/uploads/2024/01/240208-saw-kalender-2.jpg
ORGANIZER;CN="KI Science Park":MAILTO:event@kisciencepark.se
END:VEVENT
END:VCALENDAR