BEGIN:VCALENDAR
VERSION:2.0
PRODID:-//KI Science Park - ECPv6.15.0.1//NONSGML v1.0//EN
CALSCALE:GREGORIAN
METHOD:PUBLISH
X-ORIGINAL-URL:https://www.kisciencepark.kisciencepark.hemsida.eu
X-WR-CALDESC:Events for KI Science Park
REFRESH-INTERVAL;VALUE=DURATION:PT1H
X-Robots-Tag:noindex
X-PUBLISHED-TTL:PT1H
BEGIN:VTIMEZONE
TZID:Europe/Stockholm
BEGIN:DAYLIGHT
TZOFFSETFROM:+0100
TZOFFSETTO:+0200
TZNAME:CEST
DTSTART:20240331T010000
END:DAYLIGHT
BEGIN:STANDARD
TZOFFSETFROM:+0200
TZOFFSETTO:+0100
TZNAME:CET
DTSTART:20241027T010000
END:STANDARD
END:VTIMEZONE
BEGIN:VEVENT
DTSTART;TZID=Europe/Stockholm:20240131T074000
DTEND;TZID=Europe/Stockholm:20240131T090000
DTSTAMP:20260422T152425
CREATED:20231214T124150Z
LAST-MODIFIED:20240116T140248Z
UID:10000047-1706686800-1706691600@www.kisciencepark.kisciencepark.hemsida.eu
SUMMARY:Business Breakfast with Johan Kördel\, Sound Bioventures
DESCRIPTION:Meet Johan Kördel\, Managing Partner President\, Sound Bioventures at Business Breakfast \nJohan will talk about Life Science Venture Investment trends 2024. Prior to founding Sound Bioventures\, Johan was a Senior Partner at Lundbeckfonden Ventures where he worked for 12 years. Before this\, Johan worked in the biopharmaceutical industry for 20 years. He is a co-founder of three biotech companies including Biovitrum (OMX:SOBI) where he led Business development and the Research division. He also worked at Pharmacia for a decade within Research\, Portfolio and Project management and through three large mergers. \nRegister here! \nPROGRAM\n7:40 – 8:00 Breakfast is served.\n8:00 – 8:05 Welcome by Sara Gunnerås\, KI Science Park\n8:05 – 8:35 Presentation by Johan Kördel\, Sound Bioventures\n8:35 – 9:00 Q&A \nBusiness Breakfast is KI Science Park’s monthly networking event spotlighting current topics in Life Science. We’ll meet in the AWL Café at Innomedicum. \nWarm welcome!
URL:https://www.kisciencepark.kisciencepark.hemsida.eu/event/business-breakfast-8/
LOCATION:Innomedicum\, A Working Lab Cafe  |\, Nanna Svartz Väg 4\, Solna\, 171 65
ATTACH;FMTTYPE=image/jpeg:https://www.kisciencepark.kisciencepark.hemsida.eu/wp-content/uploads/2023/12/240131-bb-till-kalender.jpg
ORGANIZER;CN="KI Science Park":MAILTO:event@kisciencepark.se
END:VEVENT
END:VCALENDAR