BEGIN:VCALENDAR
VERSION:2.0
PRODID:-//KI Science Park - ECPv6.15.0.1//NONSGML v1.0//EN
CALSCALE:GREGORIAN
METHOD:PUBLISH
X-WR-CALNAME:KI Science Park
X-ORIGINAL-URL:https://www.kisciencepark.kisciencepark.hemsida.eu
X-WR-CALDESC:Events for KI Science Park
REFRESH-INTERVAL;VALUE=DURATION:PT1H
X-Robots-Tag:noindex
X-PUBLISHED-TTL:PT1H
BEGIN:VTIMEZONE
TZID:Europe/Stockholm
BEGIN:DAYLIGHT
TZOFFSETFROM:+0100
TZOFFSETTO:+0200
TZNAME:CEST
DTSTART:20230326T010000
END:DAYLIGHT
BEGIN:STANDARD
TZOFFSETFROM:+0200
TZOFFSETTO:+0100
TZNAME:CET
DTSTART:20231029T010000
END:STANDARD
END:VTIMEZONE
BEGIN:VEVENT
DTSTART;TZID=Europe/Stockholm:20231018T074000
DTEND;TZID=Europe/Stockholm:20231018T090000
DTSTAMP:20260422T225441
CREATED:20230818T114729Z
LAST-MODIFIED:20231220T210457Z
UID:10000018-1697614800-1697619600@www.kisciencepark.kisciencepark.hemsida.eu
SUMMARY:Business Breakfast with Thomas Eldered
DESCRIPTION:Meet Thomas Eldered President\, Flerie Invest at Business Breakfast \n\n\nThomas Eldered\, is the founder of Flerie Invest\, a Nordic evergreen life science investment firm. Thomas is also board member or chairman of the board in several portfolio companies. Before that he co-founded Recipharm in 1995\, today a global top five drug manufacturer. With his broad experience he has a unique insights in what it takes to both do good and do well which is not always a straight line. \n\nHow it works\n\n\n7:40 – 8:00 Breakfast is served.\n8:00 – 8:05 Welcome by Sara Gunnerås\, KI Science Park\n8:05 – 8:35 Presentation by Thomas Eldered\, President Flerie Invest\n8:35 – 9:00 Q&A\n  \nBusiness Breakfast is KI Science Park’s monthly networking event spotlighting current topics in Life Science. We’ll meet in the AWL Café at Innomedicum.\n\n \n\nWelcome!
URL:https://www.kisciencepark.kisciencepark.hemsida.eu/event/business-breakfast-5/
LOCATION:Innomedicum\, A Working Lab Cafe  |\, Nanna Svartz Väg 4\, Solna\, 171 65
ATTACH;FMTTYPE=image/jpeg:https://www.kisciencepark.kisciencepark.hemsida.eu/wp-content/uploads/2023/08/flyer-bb-2023-thomas.jpg
ORGANIZER;CN="KI Science Park":MAILTO:event@kisciencepark.se
END:VEVENT
BEGIN:VEVENT
DTSTART;TZID=Europe/Stockholm:20231019T113000
DTEND;TZID=Europe/Stockholm:20231019T121500
DTSTAMP:20260422T225441
CREATED:20230913T205114Z
LAST-MODIFIED:20230913T205114Z
UID:10000033-1697715000-1697717700@www.kisciencepark.kisciencepark.hemsida.eu
SUMMARY:AWL Running club
DESCRIPTION:Looking to boost your fitness\, meet new people\, and enjoy the outdoors? \nThe AWL Running Club is open to all tenants and meet for eight weeks with a running coach from Urban Tribes. Every session will be 45 min and we will run 3\,5-4 km. \nTIME: Thursdays at 11:30\nLOCATION: Nanna Svartz väg 4\, Campus Solna \nRegister here! \nQuestions? Send an email to Armando at:  armando.cazareskorner@akademiskahus.se
URL:https://www.kisciencepark.kisciencepark.hemsida.eu/event/awl-running-club-7/
LOCATION:Innomedicum\, A Working Lab Cafe  |\, Nanna Svartz Väg 4\, Solna\, 171 65
ATTACH;FMTTYPE=image/jpeg:https://www.kisciencepark.kisciencepark.hemsida.eu/wp-content/uploads/2023/09/230914-running-club.jpg
END:VEVENT
END:VCALENDAR