BEGIN:VCALENDAR
VERSION:2.0
PRODID:-//KI Science Park - ECPv6.15.0.1//NONSGML v1.0//EN
CALSCALE:GREGORIAN
METHOD:PUBLISH
X-WR-CALNAME:KI Science Park
X-ORIGINAL-URL:https://www.kisciencepark.kisciencepark.hemsida.eu
X-WR-CALDESC:Events for KI Science Park
REFRESH-INTERVAL;VALUE=DURATION:PT1H
X-Robots-Tag:noindex
X-PUBLISHED-TTL:PT1H
BEGIN:VTIMEZONE
TZID:Europe/Stockholm
BEGIN:DAYLIGHT
TZOFFSETFROM:+0100
TZOFFSETTO:+0200
TZNAME:CEST
DTSTART:20230326T010000
END:DAYLIGHT
BEGIN:STANDARD
TZOFFSETFROM:+0200
TZOFFSETTO:+0100
TZNAME:CET
DTSTART:20231029T010000
END:STANDARD
END:VTIMEZONE
BEGIN:VEVENT
DTSTART;TZID=Europe/Stockholm:20230926T100000
DTEND;TZID=Europe/Stockholm:20230926T150000
DTSTAMP:20260423T002541
CREATED:20230825T125753Z
LAST-MODIFIED:20230913T210403Z
UID:10000021-1695722400-1695740400@www.kisciencepark.kisciencepark.hemsida.eu
SUMMARY:Innovationsfondens dag 2023
DESCRIPTION:Välkommen till Innovationsfonden dag 26 september!\n\n\n\n\nEtt unikt tillfälle att få inblick i hur en del av framtidens hälso- och sjukvård\, kollektivtrafik\, regional utveckling och kultur kommer att utformas om de goda innovationer som visas får råda! \n⊳ Träffa innovativa medarbetare som demonstrerar sina projekt \n⊳ Lyssna till forskare berättar om egna exempel i inspirationsföreläsningar och spännande panelsamtal* Möt företag och organisationer som arbetar med innovationsutveckling \n⊳ Få information om hur det går till att söka medel från Innovationsfonden \n⊳ Utbyt egna erfarenheter och skapa samarbeten \n⊳ Rösta på Årets Innovation och Bästa implementation \nAlla medarbetare\, förtroendevalda\, forskare\, innovatörer\, personer från samarbetsbetspartners\, patientorganisationer\, lärosäten och intresserade företag hälsas varmt välkomna! \nAnmälan senast 19 september till innovationsfonden.rlk@regionstockholm.se \nMER INFORMATION och uppdaterat program se regionstockholm.se/Innovationsfonden \nVILL DU PRESENTERA din innovation under Innovationsfondens dag kontakta innovationsfonden.rlk@regionstockholm.se
URL:https://www.kisciencepark.kisciencepark.hemsida.eu/event/innovationsfondens-dag-2023/
LOCATION:Sune Bergström Aula\, Karolinska Universitetssjukhuset\, Solnavägen 30\, Solna\, 171 65\, Sweden
ATTACH;FMTTYPE=image/jpeg:https://www.kisciencepark.kisciencepark.hemsida.eu/wp-content/uploads/2023/08/innovationsfonden.jpg
END:VEVENT
BEGIN:VEVENT
DTSTART;TZID=Europe/Stockholm:20230927T074000
DTEND;TZID=Europe/Stockholm:20230927T090000
DTSTAMP:20260423T002541
CREATED:20230714T201403Z
LAST-MODIFIED:20230920T084044Z
UID:10000016-1695800400-1695805200@www.kisciencepark.kisciencepark.hemsida.eu
SUMMARY:Business Breakfast
DESCRIPTION:Meet David Bejker at Business Breakfast\nDavid Bejker\, CEO at Affibody\, has an extensive background in the biotechnology industry\, both as investor and business developer. He has previous experience from the venture capital firm HealthCap. He is Board Director at Affibody AB\, Amylonix AB\, LIDDS AB\, Ablivia AB\, and Abliva Incentiva AB. At Business Breakfast David will talk about  his journey with Affibody –  from technology startup to revenue generating clinical stage pre-commercial company with the next generation biopharmaceutical platform. \nRegistration Closed. Even fully booked. \nHow it works\n7:40 – 8:00 Breakfast is served.\n8:00 – 8:05 Welcome by Sara Gunnerås\, KI Science Park\n8:05 – 8:35 Presentation by David Bejker\n8:35 – 9:00 Q&A \nTime & Place\n07:40 – 9:00. September 27st\nAWL Café\, Innomedicum\, Nanna Svartz Väg 4\, Campus Solna. \nAbout KI Science Park Business Breakfast\nBusiness Breakfast is a monthly networking event spotlighting current topics in Life Science. A place to meet old friends and broaden your network on Campus Solna and in Hagastaden. Bring your colleagues\, just remember to sign up! The language of the presentation is English. We hope this breakfast will boost your energy – simply a great way to start your day! \nAdditionally\, maximize the value of this knowledge sharing session by actively participating in the Q&A session and utilizing the opportunity to ask any questions you may have.
URL:https://www.kisciencepark.kisciencepark.hemsida.eu/event/business-breakfast-4/
LOCATION:Innomedicum\, A Working Lab Cafe  |\, Nanna Svartz Väg 4\, Solna\, 171 65
ATTACH;FMTTYPE=image/jpeg:https://www.kisciencepark.kisciencepark.hemsida.eu/wp-content/uploads/2023/07/230927-bb-david-bejker.jpg
ORGANIZER;CN="KI Science Park":MAILTO:event@kisciencepark.se
END:VEVENT
BEGIN:VEVENT
DTSTART;TZID=Europe/Stockholm:20230928T113000
DTEND;TZID=Europe/Stockholm:20230928T121500
DTSTAMP:20260423T002541
CREATED:20230913T204927Z
LAST-MODIFIED:20230913T204927Z
UID:10000030-1695900600-1695903300@www.kisciencepark.kisciencepark.hemsida.eu
SUMMARY:AWL Running club
DESCRIPTION:Looking to boost your fitness\, meet new people\, and enjoy the outdoors? \nThe AWL Running Club is open to all tenants and meet for eight weeks with a running coach from Urban Tribes. Every session will be 45 min and we will run 3\,5-4 km. \nTIME: Thursdays at 11:30\nLOCATION: Nanna Svartz väg 4\, Campus Solna \nRegister here! \nQuestions? Send an email to Armando at:  armando.cazareskorner@akademiskahus.se
URL:https://www.kisciencepark.kisciencepark.hemsida.eu/event/awl-running-club-4/
LOCATION:Innomedicum\, A Working Lab Cafe  |\, Nanna Svartz Väg 4\, Solna\, 171 65
ATTACH;FMTTYPE=image/jpeg:https://www.kisciencepark.kisciencepark.hemsida.eu/wp-content/uploads/2023/09/230914-running-club.jpg
END:VEVENT
BEGIN:VEVENT
DTSTART;TZID=Europe/Stockholm:20230928T150000
DTEND;TZID=Europe/Stockholm:20230928T170000
DTSTAMP:20260423T002541
CREATED:20230901T102525Z
LAST-MODIFIED:20230901T102921Z
UID:10000022-1695913200-1695920400@www.kisciencepark.kisciencepark.hemsida.eu
SUMMARY:KI Master Thesis Fair
DESCRIPTION:We arrange this thesis fair to assist companies in meeting students from of Karolinska Institutet’s master’s programs. This is a unique opportunity to meet a selection of KI’s master program students interested in industry projects. The students are looking for companies where they can carry out their 20-week- long thesis work in the spring of 2024. \n\n\n\n\n\nParticipating programmes\nStudents from the following programs will participate in the fair: \n• Master’s Program in Bioentrepreneurship Contact person: Susanna Von Holst\, susanna.von.holst@ki.se \n• Master’s Program in Health Informatics Contact person: Sabine Koch\, sabine.koch@ki.se \n• Master’s Program in Health Economics\, Policy\, and Management Contact person: Mathilde Sengoelge\, mathilde.sengoelge@ki.se \nIf you have any questions about thesis work and the programs\, you can reach out to the respective program’s contact person mentioned above. \n\n\n\n\n\nWhat to expect as an Exhibitor?\nWe are planning for a simple event where exhibitors will have the opportunity to meet students in a relaxed atmosphere. We are aiming for about 10-12 exhibitors. As an exhibitor you need to… \n\n\n\n\n\n• be interested in offering a thesis project if you meet the right student. • bring a roll-up banner that identifies your company. \n• prepare a one-minute pitch where you present what your company primarily works on and what you are looking for at the fair. \n\n\n\n\n\nNo cost\, the participation is free of charge. More organizational information will be provided after the final registration date. \n\n\n\n\n\nHow to register\nThe fair is open for companies interested in exhibiting and master students of the selected programs. \nTo register as a company contact  Sara Gunnerås \nIf you are student contact your program’s contact person mentioned above. \n\nHope to see you on the 28th. Warm welcome!
URL:https://www.kisciencepark.kisciencepark.hemsida.eu/event/ki-master-thesis-fair/
LOCATION:Widerströmska huset\, Tomtebodavägen 18\, Solna\, 171 65\, Sweden
ATTACH;FMTTYPE=image/jpeg:https://www.kisciencepark.kisciencepark.hemsida.eu/wp-content/uploads/2023/09/master-thesis-fair-28-sep-2023.jpg
ORGANIZER;CN="KI Science Park":MAILTO:event@kisciencepark.se
END:VEVENT
END:VCALENDAR