BEGIN:VCALENDAR
VERSION:2.0
PRODID:-//KI Science Park - ECPv6.15.0.1//NONSGML v1.0//EN
CALSCALE:GREGORIAN
METHOD:PUBLISH
X-WR-CALNAME:KI Science Park
X-ORIGINAL-URL:https://www.kisciencepark.kisciencepark.hemsida.eu
X-WR-CALDESC:Events for KI Science Park
REFRESH-INTERVAL;VALUE=DURATION:PT1H
X-Robots-Tag:noindex
X-PUBLISHED-TTL:PT1H
BEGIN:VTIMEZONE
TZID:Europe/Stockholm
BEGIN:DAYLIGHT
TZOFFSETFROM:+0100
TZOFFSETTO:+0200
TZNAME:CEST
DTSTART:20250330T010000
END:DAYLIGHT
BEGIN:STANDARD
TZOFFSETFROM:+0200
TZOFFSETTO:+0100
TZNAME:CET
DTSTART:20251026T010000
END:STANDARD
END:VTIMEZONE
BEGIN:VEVENT
DTSTART;TZID=Europe/Stockholm:20250616T113000
DTEND;TZID=Europe/Stockholm:20250616T130000
DTSTAMP:20260421T082615
CREATED:20250528T130925Z
LAST-MODIFIED:20250528T131438Z
UID:10000147-1750073400-1750078800@www.kisciencepark.kisciencepark.hemsida.eu
SUMMARY:Vägen till framgång är samarbete\, men hur minskar vi beröringsskräcken?
DESCRIPTION:Inbjudan till KI Science Park Lunch Talks hosted by Bayer \nVi ser fram emot en inspirerande lunch på temat; Vägen till framgång är samarbete\, men hur minskar vi beröringsskräcken? \nDeltagare i samtalet är: Anders Henriksson (S)\, ordförande Sveriges kommuner och regioner\, Olof Akre\, Forsknings-\, utvecklings och utbildningsdirektör\, Karolinska Universitetssjukhuset\, Gustaf Storm\, sjukhuschef Capio St Görans sjukhus\, Karolina Rondahl\, jurist\, De forskande läkemedelsbolagen – LIF\, Catharina Östberg\, chef kliniska prövningar Norden\, Bayer \nModerator: Edvard Agrell\, Bayer.              \n                                          \nLäs mer och anmäl dig här! \nAnmäl dig på en gång för att säkra din plats\, men senast den 12 juni\, glöm inte att bekräfta som sista steg i din anmälan! \nVi bjuder på lättare lunch. \nVarmt välkommen!
URL:https://www.kisciencepark.kisciencepark.hemsida.eu/event/kisciencepark-lunch-talk-maj2025/
LOCATION:Bayer office at Campus Solna\, Nobels väg 8\, Solna\, 171 65
ATTACH;FMTTYPE=image/jpeg:https://www.kisciencepark.kisciencepark.hemsida.eu/wp-content/uploads/2025/05/250616-kisp-lunch-talks.jpg
END:VEVENT
BEGIN:VEVENT
DTSTART;TZID=Europe/Stockholm:20250617T160000
DTEND;TZID=Europe/Stockholm:20250617T190000
DTSTAMP:20260421T082615
CREATED:20250428T211845Z
LAST-MODIFIED:20250428T213213Z
UID:10000144-1750176000-1750186800@www.kisciencepark.kisciencepark.hemsida.eu
SUMMARY:KI Science Park Summer BBQ 2025
DESCRIPTION:Join us for a Summer BBQ in Nanna’s Blossoming Garden on Campus Solna!\nKI Science Park\, together with KI Innovations\, A Working Lab\, and Akademiska Hus\, warmly invites you to a festive Summer BBQ. \nEnjoy a delicious BBQ on the terrace of A Working Lab\, along with a refreshing selection of beverages to keep you cool. And don’t forget to save room for ice cream! We’ll also have games and fun activities to keep the summer spirit alive. \nThe networking area is beautifully set beneath the trees surrounding Nanna’s medicinal garden – in full summer bloom! Put on your favourite summer outfit\, bring your best mood\, and come celebrate with us! \nThis event is our way of saying thank you for being part of our vibrant life science community. It’s through our meetings and our conversations this community comes to life. Together\, we make this a place full of ideas\, energy\, and opportunities! \nWe can’t wait to see you there! Let’s catch up\, meet new people\, and enjoy a great summer evening together! \nAn invitation is sent out to our members. If you did not get it\, contact: event@kisciencepark.se \n  \nThis event is made possible through the generous support of our sponsors. \n \n \n\n\nThis event is organized by:\n         \n   
URL:https://www.kisciencepark.kisciencepark.hemsida.eu/event/ki-science-park-summer-bbq-2025/
LOCATION:Innomedicum\, Nanna Svartz väg 2\, Solna\, 17165\, Sweden
ATTACH;FMTTYPE=image/jpeg:https://www.kisciencepark.kisciencepark.hemsida.eu/wp-content/uploads/2025/04/save-the-date-summer-bbq-2025.jpg
ORGANIZER;CN="KI Science Park":MAILTO:event@kisciencepark.se
END:VEVENT
BEGIN:VEVENT
DTSTART;TZID=Europe/Stockholm:20250625T130000
DTEND;TZID=Europe/Stockholm:20250625T135000
DTSTAMP:20260421T082615
CREATED:20250623T202300Z
LAST-MODIFIED:20250623T202629Z
UID:10000148-1750856400-1750859400@www.kisciencepark.kisciencepark.hemsida.eu
SUMMARY:Dags för staten att ta över styrningen av sjukvården? Vårdansvarskommitténs slutsatser och vägen framåt.
DESCRIPTION:Inbjudan till KI Science Park Lunch Talks hosted by Bayer \nVälkommen till en serie av lunchsamtal kring de stora frågorna inom life science och hälso- och sjukvård – denna gång i Almedalen! \nDeltagare i samtalet är: \n\nJean-Luc af Geijerstam presenterar utredningens huvudsakliga slutsatser med fokus på de områden där utredningen pekar på att ökad statlig styrning är möjlig.\nRachel de Basso\, ger sin helhetssyn på utredningen men sedan med fokus på utredningens framåtblickande slutsatser.\nChristian Carlsson\, ger sin helhetssyn på utredningen men sedan med fokus på utredningens framåtblickande slutsatser.\nAnna Nilsson Vindefjärd (Forska!Sverige)\, ger sin bild av vad som är viktigt i utredningens slutsatser\, vad som kan göras utan fortsatt utredning med fokus på klinisk forskning / implementering av nationella resurserna. Reflekterar över vad tidigare talare belyst.\nSara Johansson (Cancerfonden)\, ger sin bild av vad som är viktigt i utredningens slutsatser\, särskilt fokus på screening och vaccinationer. Reflekterar över vad tidigare talare belyst.\n\nModerator: Edvard Agrell\, Bayer.                                                   \nLäs mer och anmäl dig här! \nAnmäl dig på en gång för att säkra din plats\, glöm inte att bekräfta som sista steg i din anmälan! \nVi bjuder på lättare lunch. \nVarmt välkommen!
URL:https://www.kisciencepark.kisciencepark.hemsida.eu/event/almedalen-2025/
LOCATION:Almedalen\, Södra kyrkogatan 5\, innergården (mitt emot Café Amalia).\, Visby\, Gotland
ATTACH;FMTTYPE=image/jpeg:https://www.kisciencepark.kisciencepark.hemsida.eu/wp-content/uploads/2025/06/lunch-talks-almedalen-2025.jpg
END:VEVENT
END:VCALENDAR