BEGIN:VCALENDAR
VERSION:2.0
PRODID:-//KI Science Park - ECPv6.15.0.1//NONSGML v1.0//EN
CALSCALE:GREGORIAN
METHOD:PUBLISH
X-ORIGINAL-URL:https://www.kisciencepark.kisciencepark.hemsida.eu
X-WR-CALDESC:Events for KI Science Park
REFRESH-INTERVAL;VALUE=DURATION:PT1H
X-Robots-Tag:noindex
X-PUBLISHED-TTL:PT1H
BEGIN:VTIMEZONE
TZID:Europe/Stockholm
BEGIN:DAYLIGHT
TZOFFSETFROM:+0100
TZOFFSETTO:+0200
TZNAME:CEST
DTSTART:20240331T010000
END:DAYLIGHT
BEGIN:STANDARD
TZOFFSETFROM:+0200
TZOFFSETTO:+0100
TZNAME:CET
DTSTART:20241027T010000
END:STANDARD
END:VTIMEZONE
BEGIN:VEVENT
DTSTART;TZID=Europe/Stockholm:20241003T150000
DTEND;TZID=Europe/Stockholm:20241003T170000
DTSTAMP:20260421T234746
CREATED:20240710T101714Z
LAST-MODIFIED:20240924T130307Z
UID:10000089-1727967600-1727974800@www.kisciencepark.kisciencepark.hemsida.eu
SUMMARY:KI International Master's Program Thesis Fair and Matchmaking Event
DESCRIPTION:Join this fair to network with students from KI’s International Master’s Programs. Present your company and possible  thesis projects.\nKI Science Park\, KI Innovations\, and the Unit for Bioentrepreneurship at KI are joining forces to co-organize a thesis fair\, helping companies and public sector to connect with students from Karolinska Institutet’s master’s programs interested in identifying a project for their degree project spring 2025. \n\n\n\nThis is a unique opportunity for companies to meet a selection of KI’s master program students interested in industry projects. \nThe students are looking for companies where they can carry out their 20-week- long thesis work in the spring of 2025. \n\n\n\n\n\nParticipating programmes\nStudents from the following programs will participate in the fair: \n• Master’s Program in Bioentrepreneurship Contact person: Susanna Von Holst\, susanna.von.holst@ki.se \n• Master’s Program in Health Informatics Contact person: Sabine Koch\, sabine.koch@ki.se \n• Master’s Program in Health Economics\, Policy\, and Management Contact person: Mathilde Sengoelge\, mathilde.sengoelge@ki.se \n• Master’s Program in Translational Physiology and Pharmacology Contact person: Jessica Norrbom\, jessica.norrbom@ki.se \n• Master’s Program in Biomedicine Contact person: Jonas Sundbäck\, jonas.sundback@ki.se \nIf you have any questions about thesis work and the programs\, you can reach out to the respective program’s contact person mentioned above. \n\n\n\n\n\nWhat to expect as an Exhibitor?\nExhibitors will have the opportunity to meet students in a relaxed atmosphere. As an exhibitor you need to: \n•  Be interested in offering a thesis project if you meet the right student. \n•  Bring a roll-up banner that identifies your company. \n•  Prepare a one-minute pitch where you present what your company primarily works on and what you are looking for at the fair. \nNo cost\, the participation is free of charge. \nParticipation at the fair does not mean you have to offer a project\, but you should be interested in meeting new talent and ideally have one or more projects in mind. \n\n\n\n\n\n\n\nHow to register\nRegister your company and project here! \nIf you represent a company and have questions\, contact: Sara Gunnerås or Andreas Lundquist. \nIf you are student contact your program’s contact person mentioned above. \n\nWarm welcome!
URL:https://www.kisciencepark.kisciencepark.hemsida.eu/event/ki-master-thesis-fair-2/
LOCATION:Widerströmska huset\, Tomtebodavägen 18\, Solna\, 171 65\, Sweden
ATTACH;FMTTYPE=image/jpeg:https://www.kisciencepark.kisciencepark.hemsida.eu/wp-content/uploads/2024/07/master-thesis-fair-oct-3-2024.jpg
ORGANIZER;CN="KI Science Park":MAILTO:event@kisciencepark.se
END:VEVENT
BEGIN:VEVENT
DTSTART;TZID=Europe/Stockholm:20241007T133000
DTEND;TZID=Europe/Stockholm:20241007T173000
DTSTAMP:20260421T234746
CREATED:20241004T101904Z
LAST-MODIFIED:20241004T102313Z
UID:10000108-1728307800-1728322200@www.kisciencepark.kisciencepark.hemsida.eu
SUMMARY:MINGLE Event: KI Career Service Internship program (focus on PhD projects) HT 24
DESCRIPTION:Would you like to have an experience in an organisation within the Life Science Industry while employed at KI? Join us in this event and take the chance to meet and mingle with representatives from companies that are participating in the Internship Programs this Autumn Call – 2024 \n\n\n\nIn this event\, you will have the opportunity to learn about some of the projects that are announced\, respective companies mission and vision as well as ask questions directly to the company representatives and project supervisors. \nTarget Group\nThis session is aimed for PhD Students employed at KI. \nBut Postdocs and Early Career Researchers (PhD holders)\, employed at KI on a fixed term contract or on a KI Stipend are welcome to attend as well \nOrganisations\nHere are the organisations with confirmed presence at the event: \n  \nAgenda\nHere it is the preliminary agenda for the event: \n13.30 – Mingle area open and possibility to visit “the Cell” \n14.00-14.15 – Welcome and Opening Session. KI Career Service \, KI Science Park and The Park \n14.15-14.30 – Johnson & Johnson – Andrius Kavaliunas \n14.30-14.45 – scientifyRESEARCH –  Judy Mielke \n14.45-15.00 –  Moligo Technologies – Cosimo Ducani \n15.00-15.15 – Redsense Medical AB – Sebastien Bollue \n15.15-15.30 – Ebba Biotech AB – Maria Andersson \n15.30-16.00 – Previous doctoral students Interns Experience & Feedback \n16:00-16.15 – Lumell –  Jack Watson and Alma Nelson \n16.15-16.00 – CSL Vifor – Milica Uhde \n16.00- 17.30 – MINGLE \nOrganizers\nThis event is organized by KI Career Service in collaboration with KI Science Park \nRegistration\nRegistration is required.\nPlease use your @ki.se email when signing up to this event. \nSign up here \nRegistration is open until Oct 4th. \n 
URL:https://www.kisciencepark.kisciencepark.hemsida.eu/event/mingle-event-ki-career-service-internship-program-focus-on-phd-projects-ht-24/
LOCATION:The Park at Forskaren
ATTACH;FMTTYPE=image/png:https://www.kisciencepark.kisciencepark.hemsida.eu/wp-content/uploads/2024/10/mingle-ht24-phd.png
END:VEVENT
BEGIN:VEVENT
DTSTART;TZID=Europe/Stockholm:20241008T134500
DTEND;TZID=Europe/Stockholm:20241008T173000
DTSTAMP:20260421T234746
CREATED:20241004T102234Z
LAST-MODIFIED:20241004T102234Z
UID:10000109-1728395100-1728408600@www.kisciencepark.kisciencepark.hemsida.eu
SUMMARY:MINGLE Event: KI Career Service Internship program (focus on Postdocs and researchers projects) HT24
DESCRIPTION:Would you like to have an experience in an organisation within the Life Science Industry while employed at KI? Join us in this event and take the chance to meet and mingle with representatives from companies that are participating in the Internship Programs this Autumn Call – 2024 \n\n\n\nIn this event\, you will have the opportunity to learn about some of the projects that are announced\, respective companies mission and vision as well as ask questions directly to the company representatives and project supervisors. \nTarget Group\nThis session is aimed for Postdocs and Early Career Researchers (PhD holders)\, employed at KI. \nBut doctoral Students are welcome to attend as well.\nMSc students also welcome to attend\, but not eligible to apply for this program. \n\nOrganisations\nHere are the organisations with confirmed presence at the event: \n  \nAgenda\nHere it is the preliminary agenda for the event: \n13.45 – Mingle area open \n14.00-14.15 – Welcome and introduction by KI Career Service \, KI Science Park and AWL \n14.15-14.30 – Pfizer – Marios Dimitriou and Åsa Hedman \n14.30-14.40 – Key2Brain – Elisabet Sjöström\,  Magnus Berglund \n14.40-14.50 – Moligo Technologies – Cosimo Ducani \n14.50-15.00 – scientifyRESEARCH – Judy Mielke \n15.00-15.10 – Pelago Bioscience AB – Tuomas Tolvanen \n15.10-15.20 – Epigenica – Banushree Kumar\, Carman Navarro \n15.20-15.30 – Redsense Medical AB – Sebastien Bollue \n15.30-15.40 – Countagen AB – Hamid Sharifi \n15.40-16.00 – Previous Interns Experience Feedback \n16.00-16.10 – SEB – Christopher Uhde \n16.10- 16.20 – Schain Research – Susanne Kihlblom \n16.20- 17.30 – MINGLE \nOrganizers\nThis event is organized by KI Career Service in collaboration with KI Science Park \nRegistration\nRegistration is required.\nPlease use your @ki.se email when signing up to this event. \nSign up here\nRegistration is open until Oct7th.
URL:https://www.kisciencepark.kisciencepark.hemsida.eu/event/mingle-event-ki-career-service-internship-program-focus-on-postdocs-and-researchers-projects-ht24/
LOCATION:Innomedicum\,  A Working Lab Cafe  |\, Nanna Svarts Väg 4\, Solna\, 17165\, Sweden
ATTACH;FMTTYPE=image/png:https://www.kisciencepark.kisciencepark.hemsida.eu/wp-content/uploads/2024/10/mingle-ht24-postdocs.png
END:VEVENT
BEGIN:VEVENT
DTSTART;TZID=Europe/Stockholm:20241009T114500
DTEND;TZID=Europe/Stockholm:20241009T130000
DTSTAMP:20260421T234746
CREATED:20240930T075900Z
LAST-MODIFIED:20240930T083312Z
UID:10000104-1728474300-1728478800@www.kisciencepark.kisciencepark.hemsida.eu
SUMMARY:Master the Essentials of IP Ownership! – Who has the rights to inventions?
DESCRIPTION:Join HØIBERG and Westerberg & Partners for an engaging lunch session where we break down the basics of intellectual property (IP) ownership. \nWhether you’re a startup founder\, innovator\, or business leader\, understanding the foundations of IP can set your ideas apart and safeguard your future success. \nAGENDA\n11.45 – 11.45 Registration\, lunch wraps served\n12.45 – 12.00 Welcome and introduction by KI Science Park\n12.05 – 12.40 Presentations by HØIBERG and Westerberg & Partners\n12.40 – 13.00 Q&A\, closing\, coffee & networking. \n\nRegister here!\n\nWHAT YOU WILL LEARN\nHow should Life science startups secure IP ownership in collaborations and from employees?  \n1. What is the difference between an inventor and an applicant? \n2. How does the rules differ between: \n– Company employees \n– Non-employed founders \n– University researchers \n– Hospital employees (Region) \n– Consultants / CROs \n– Students \n3. What does the Swedish law say? – Act on the Right to Employee’s Inventions (1949:345) (and the Teacher’s exemption) \n4. What is the difference between A-\, B- and C-inventions? \n5. Who should get reimbursed for an invention and how much is reasonable? \n6. What agreements are needed to regulate IP ownership – in preparation for Due Diligence\, IPO and M&A \n7. Some take-away messages \nSPEAKERS\nHØIBERG \nJens Viktor Nørgaard\, European Patent Attorney \nCharlotta Dahlborg\, Patent consultant \nWesterberg & Partners \nWendela Hårdemark\, Attorney at law \nMalcolm Wiberg\, Attorney at law \n  \nDon’t miss this opportunity to network\, learn\, and enjoy a delicious meal with industry experts! \nWelcome!  \n––––––––––––––––– \nAbout KI Science Park Lunch & Learn\nKI Science Park Lunch & Learn is an open event that blend education and networking opportunities. Industry experts share their knowledge and expertise with our members and anyone interested in the featured topic. Attendees will enjoy a light lunch as part of the experience. Join us for an enriching session that nourishes both the mind and connections within our vibrant community!
URL:https://www.kisciencepark.kisciencepark.hemsida.eu/event/master-the-essentials-of-ip-ownership-who-has-the-rights-to-inventions/
LOCATION:Innomedicum\,  A Working Lab Cafe  |\, Nanna Svarts Väg 4\, Solna\, 17165\, Sweden
ATTACH;FMTTYPE=image/jpeg:https://www.kisciencepark.kisciencepark.hemsida.eu/wp-content/uploads/2024/09/241009-ll-flyers-inbjudan-hoiberg.jpg
ORGANIZER;CN="KI Science Park":MAILTO:event@kisciencepark.se
END:VEVENT
BEGIN:VEVENT
DTSTART;TZID=Europe/Stockholm:20241010T130000
DTEND;TZID=Europe/Stockholm:20241010T200000
DTSTAMP:20260421T234746
CREATED:20240716T091549Z
LAST-MODIFIED:20240716T092422Z
UID:10000090-1728565200-1728590400@www.kisciencepark.kisciencepark.hemsida.eu
SUMMARY:Stockholm-Uppsala Life Science Conference
DESCRIPTION:Save-the-date: Region Stockholm and Region Uppsala is inviting the Life Science Sector to a day with focus on the Stockholm – Uppsala Life Science Cluster.\n\n\nSign up  to connect with a diverse array of professionals and discover how we can work together to drive innovation and growth in life sciences. Whether you’re an academic\, industry professional\, or budding entrepreneur\, this conference provides a unique platform to foster partnerships\, share insights\, and unlock new possibilities for advancing health and well-being.\n \nBy signing up you will receive more information as it becomes available in the autumn. You will also receive a formal invitation to register for the conference.\n  \nMore about the program and registration here! \n 
URL:https://www.kisciencepark.kisciencepark.hemsida.eu/event/stockholm-uppsala-life-science-conference/
LOCATION:Aula Medica\, Nobels väg 6\, Solna\, 171 65\, Sweden
ATTACH;FMTTYPE=image/jpeg:https://www.kisciencepark.kisciencepark.hemsida.eu/wp-content/uploads/2024/07/flyer-regional-konferens-24.jpg
END:VEVENT
BEGIN:VEVENT
DTSTART;TZID=Europe/Stockholm:20241017T074000
DTEND;TZID=Europe/Stockholm:20241017T090000
DTSTAMP:20260421T234746
CREATED:20240906T101540Z
LAST-MODIFIED:20241010T104332Z
UID:10000100-1729150800-1729155600@www.kisciencepark.kisciencepark.hemsida.eu
SUMMARY:KI Science Park Business Breakfast
DESCRIPTION:Meet Janet Hoogstraate\, CEO of NorthX Biologics AB\, a Swedish national innovation hub and CDMO for advanced biologics in Sweden \nNorthX Biologics is a leader in the Nordics in process development and manufacturing of advanced biological drugs\, CGT (cell and gene therapies)\, proteins and vaccines. With two facilities in Sweden and the headquarters in Matfors they see a great benefit and importance of pharmaceutical manufacturing in Sweden. \nRegister here! \n  \nPROGRAM\n7:40 – 8:00 Breakfast is served.\n8:00 – 8:05 Welcome by KI Science Park\n8:05 – 8:35 Presentation by invited guest\n8:35 – 9:00 Q&A \nA registration email will be sent out to all KI Science Park members. \nOne week before the event we will open the registration with a link here. \n Make sure to register your address to get invitations: here! \nABOUT BUSINESS BREAKFAST \nBusiness Breakfast is KI Science Park’s monthly networking event spotlighting current topics\, and gain insights from well-known experts in the life sciences field. We’ll meet in the AWL Café at Innomedicum.
URL:https://www.kisciencepark.kisciencepark.hemsida.eu/event/ki-science-park-business-breakfast-2/
LOCATION:Innomedicum\, A Working Lab Cafe  |\, Nanna Svartz Väg 4\, Solna\, 171 65
ATTACH;FMTTYPE=image/jpeg:https://www.kisciencepark.kisciencepark.hemsida.eu/wp-content/uploads/2024/09/2024-bb-flyers-janet.jpg
ORGANIZER;CN="KI Science Park":MAILTO:event@kisciencepark.se
END:VEVENT
BEGIN:VEVENT
DTSTART;TZID=Europe/Stockholm:20241022T114500
DTEND;TZID=Europe/Stockholm:20241022T130000
DTSTAMP:20260421T234746
CREATED:20241001T205307Z
LAST-MODIFIED:20241003T205620Z
UID:10000107-1729597500-1729602000@www.kisciencepark.kisciencepark.hemsida.eu
SUMMARY:KI Science Park Lunch Talks  Hosted by Bayer
DESCRIPTION:Hur ser kompetensbehoven ut för en effektiv implementering av precisionsmedicin när precisionsmedicin blir en självklar del av hälso- och sjukvården? \nMänniskor får bättre förutsättningar att leva ett långt liv i hälsa genom vård och behandling utformad och anpassad efter individuella behov. Men för att det ska bli verklighet behövs nya arbetssätt och både utbildning och fortbildning för vårdpersonal.  \n  \nDeltagare i samtalet är. Harriet Wallberg – regeringens utredare\, Catharina Ihre Lundgren ordförande Svenska Läkaresällskapet\, Richard Rosenquist Brandell professor KI\, director GMS\, Anna Nilsson Vindefjärdgeneralsekreterare Forska!Sverige.                                     \n  \nModerator: Martin Stagmo\, Bayer.     \nAnmäl dig här: LunchTalks 22 oktober 2024 (lyyti.fi) \nGlöm inte att bekräfta din anmälan som ett sista steg i processen. Välkommen att ta med en kollega eller annan person som du tror kan ha glädje av sammanhanget. \nVarmt välkommen!
URL:https://www.kisciencepark.kisciencepark.hemsida.eu/event/welcome-to-ki-science-park-lunch-talks-hosted-by-bayer-241022/
LOCATION:Bayer office at Campus Solna\, Nobels väg 8\, Solna\, 171 65
ATTACH;FMTTYPE=image/jpeg:https://www.kisciencepark.kisciencepark.hemsida.eu/wp-content/uploads/2023/10/lunch-talks-vinjett-allman.jpg
END:VEVENT
BEGIN:VEVENT
DTSTART;TZID=Europe/Stockholm:20241023T163000
DTEND;TZID=Europe/Stockholm:20241023T190000
DTSTAMP:20260421T234746
CREATED:20240930T130758Z
LAST-MODIFIED:20241011T110238Z
UID:10000105-1729701000-1729710000@www.kisciencepark.kisciencepark.hemsida.eu
SUMMARY:KI Science Park Science After Work
DESCRIPTION:Testing and Experimentation Facility for Health AI and Robotics (TEF- Health) – a helping hand in reaching the market!\nWelcome to the cozy AWL cafe\, Innomedicum for networking\, knowledge sharing and fun after the working day. \nWe have two special guests this evening: Johanna Furuhjelm\, project Coordinator AI and Innovation\, KI and Per Lek\, External Relations\, SciLifeLab \nTEF-Health is an European project that have been commissioned to provide Testing and Experimenting Facilities for AI Health and robotic to Small and Medium sized Enterprises (SMEs) in Europe. \nThis newly created European platform\, composed of 52 partners across 9 countries\, aims to provide services to SMEs (at reduced costs through a call process) to fast track their access to the European Market\, by focusing on: \n\nReal-world testing and validation (ensuring practical applicability & reliability).\nRegulatory support (ensuring that your product meets all standards).\nSpeed to market (ensuring rapid development and deployment of innovations).\nExclusive access to healthcare institutions (ensuring speedy adaptation and essential feedback)\n\nProgram\n16:30 – Doors are open and snacks and beer is on the menu.\n17:00 – 17:05 Welcome by  KI Science Park\n17:05 – 17:35 Presentation by guests\n17:35 – 18:00 Q&A\n18:00 – 19:00 The bar is open and music is on. \nThis is a member event. An invitation is sent to our members approx. three weeks before the event.  \nMake sure to sign up to get invitations. \n––––––––––––––––––––––––––––- \nAbout Science After Work\nScience After Work is a networking event  where business and science meet. You will enjoy a presentation by our guest speaker and expand your network over drinks and snacks. The presentation will be in English. \nMaximize the value of this event arranged for knowledge sharing\, by actively participating in the Q&A session. Let’s be curious together! #staycurious #sharingiscaring #community
URL:https://www.kisciencepark.kisciencepark.hemsida.eu/event/ki-science-park-science-after-work-241023/
LOCATION:Innomedicum\, A Working Lab Cafe  |\, Nanna Svartz Väg 4\, Solna\, 171 65
ATTACH;FMTTYPE=image/jpeg:https://www.kisciencepark.kisciencepark.hemsida.eu/wp-content/uploads/2024/09/saw-23-october.jpg
ORGANIZER;CN="KI Science Park":MAILTO:event@kisciencepark.se
END:VEVENT
BEGIN:VEVENT
DTSTART;TZID=Europe/Stockholm:20241024T120000
DTEND;TZID=Europe/Stockholm:20241024T125500
DTSTAMP:20260421T234746
CREATED:20240929T064804Z
LAST-MODIFIED:20241010T105117Z
UID:10000103-1729771200-1729774500@www.kisciencepark.kisciencepark.hemsida.eu
SUMMARY:KI Science Park’s CEO and Business Leader Lunch October
DESCRIPTION:Welcome to KI Science Park’s CEO and Business Leader Lunch!\nJoin us for this networking opportunity that combines lunch with influential minds!   \nThe CEO and Business Leader Lunch is a monthly networking event exclusively for CEOs and business leaders of our member companies. The purpose of the network is to provide a platform for insightful discussions\, idea exchange\, and potential collaborations. It fosters connections and strengthens the network among KI Science Park members. Here we also welcome new member companies to the community. \nRegister here! \nWe look forward to seeing you there! \n__________________________________________________ \nContact Sara Gunnerås if you would like to know more about the network and how to join.
URL:https://www.kisciencepark.kisciencepark.hemsida.eu/event/ki-science-parks-ceo-and-business-leader-lunch-24102/
LOCATION:Innomedicum\, KI Science Park AB office\, Nanna Svarts Väg 6a\, floor 4\, Solna\, 171 65\, Sweden
ATTACH;FMTTYPE=image/jpeg:https://www.kisciencepark.kisciencepark.hemsida.eu/wp-content/uploads/2023/05/VD-lunch-230526.jpg
ORGANIZER;CN="KI Science Park":MAILTO:event@kisciencepark.se
END:VEVENT
BEGIN:VEVENT
DTSTART;TZID=Europe/Stockholm:20241029T170000
DTEND;TZID=Europe/Stockholm:20241029T200000
DTSTAMP:20260421T234746
CREATED:20241008T202705Z
LAST-MODIFIED:20241008T203043Z
UID:10000110-1730221200-1730232000@www.kisciencepark.kisciencepark.hemsida.eu
SUMMARY:Meet the future talents of the Digital Health industry!
DESCRIPTION:Meet the future Digital Health talents showcasing the outcome of the master course Digital Health From an Entrepreneurship Perspective.\nThe 29th of October the students from the master course Digital Health From an Entrepreneurship Perspective will showcase their digital health prototypes. This is done as an open event and exhibition at the A Working Lab Café\, Innomedicum\, Campus Solna. The students have developed the prototypes in close collaboration with users with different chronic conditions. \nThe course is an interdisciplinary course with students from all major universities in the Stockholm area. \nYou are welcome to meet the students\, discuss their prototypes and perhaps find future master thesis students\, interns\, team members or employees. \nRegister here! \nLooking forward to seeing you there! \nAndreas Lundquist\, Course Director \nThis event is organized by the Unit for Bioentrepreneurship together with KI Science Park. \nBackground\nThe course is given by the Unit for Bioentrepreneurship\, Karolinska Institutet under the Stockholm School of Entrepreneurship umbrella which means that students can be accepted from all major universities in the greater Stockholm metropolitan area. Details about the course can be found on the course hompage\, if you are interested in the details\, the course syllabus might be for you.
URL:https://www.kisciencepark.kisciencepark.hemsida.eu/event/meet-the-future-talents-of-the-digital-health-industry/
LOCATION:Innomedicum\,  A Working Lab Cafe  |\, Nanna Svarts Väg 4\, Solna\, 17165\, Sweden
ATTACH;FMTTYPE=image/jpeg:https://www.kisciencepark.kisciencepark.hemsida.eu/wp-content/uploads/2024/10/1126009284071original.jpeg
END:VEVENT
END:VCALENDAR