BEGIN:VCALENDAR
VERSION:2.0
PRODID:-//KI Science Park - ECPv6.15.0.1//NONSGML v1.0//EN
CALSCALE:GREGORIAN
METHOD:PUBLISH
X-WR-CALNAME:KI Science Park
X-ORIGINAL-URL:https://www.kisciencepark.kisciencepark.hemsida.eu
X-WR-CALDESC:Events for KI Science Park
REFRESH-INTERVAL;VALUE=DURATION:PT1H
X-Robots-Tag:noindex
X-PUBLISHED-TTL:PT1H
BEGIN:VTIMEZONE
TZID:Europe/Stockholm
BEGIN:DAYLIGHT
TZOFFSETFROM:+0100
TZOFFSETTO:+0200
TZNAME:CEST
DTSTART:20240331T010000
END:DAYLIGHT
BEGIN:STANDARD
TZOFFSETFROM:+0200
TZOFFSETTO:+0100
TZNAME:CET
DTSTART:20241027T010000
END:STANDARD
END:VTIMEZONE
BEGIN:VEVENT
DTSTART;VALUE=DATE:20240904
DTEND;VALUE=DATE:20240905
DTSTAMP:20260422T012211
CREATED:20240701T082615Z
LAST-MODIFIED:20240701T082615Z
UID:10000088-1725408000-1725494399@www.kisciencepark.kisciencepark.hemsida.eu
SUMMARY:DEADLINE! KI Internship program company project submission.
DESCRIPTION:Are you looking for world-class talent in life sciences? \nThen be a part of the successful Karolinska Institutet internship program. We are looking for companies and organizations related to healthcare and life sciences who are interested in taking doctoral students and postdoctoral researchers as interns financed by KI. \nWe are now recruiting projects\, 1 to 3 months.\nOur carefully selected applicants are highly skilled\, self-driven and motivated to learn more about how to apply their transferable skills outside Academia. \nNext deadline to submit projects: September 4th\, 2024 \nInterested in knowing more? \n\nPhD student Internships \n\nDuration of 1 month (4 weeks) at full-time or part-time basis (flexible)\nSalary covered by KI (KFU)\n\n\nPostdoc and researcher Internships \n\nUp to 3 months at a full-time or part-time basis (flexible)\nSalary covered by KI (KF and Unions) and the hosting organization contributes 60.000 sek to take part in the program.\n\n\n\nContact us: career-service@ki.se\nKI Career Service: Ana Osório Oliveira\nHead of the External Engagement Office: Richard Cowburn
URL:https://www.kisciencepark.kisciencepark.hemsida.eu/event/deadline-ki-internship-program-company-project-submission-2/
ATTACH;FMTTYPE=image/jpeg:https://www.kisciencepark.kisciencepark.hemsida.eu/wp-content/uploads/2024/07/240628-ki-career-service.jpg
END:VEVENT
BEGIN:VEVENT
DTSTART;TZID=Europe/Stockholm:20240904T150000
DTEND;TZID=Europe/Stockholm:20240904T170000
DTSTAMP:20260422T012211
CREATED:20240716T190529Z
LAST-MODIFIED:20240830T084047Z
UID:10000092-1725462000-1725469200@www.kisciencepark.kisciencepark.hemsida.eu
SUMMARY:Nätverksträff nr 3 för R&D fokuserade  SME inom precisionsmedicin
DESCRIPTION:Varmt välkommen till det tredje mötet med nätverket för företag inom precisionsmedicin!  \nDenna gång kommer vi att fokusera på frågeställningar som rör företags tillgång till infrastruktur och tjänster. Hur ser tillgången till infrastruktur ut för t ex helgenomsekvensering\, RNA-sekvensering och tillverkning av avancerade läkemedel i Sverige och i regionen idag? Vilka behov har ni i företagen? \nRepresentanter som arbetar med infrastrukturer på nationell\, regional och lokal nivå kommer att berätta hur man gör för att få tillgång till befintliga infrastrukturer. Vi kommer även ha en paneldiskussion med frågeställningar som: Hur funkar det med avtal? Hur gör man som företag om man vill nyttja dessa infrastrukturer? Vilka infrastrukturer finns respektive saknas idag? \nProgram \n14:45 Kaffe och registrering startar \n15:00 Välkomna\nPresentationer\, panelsamtal samt Q&A \nKarin Dahlman Wright\, Professor\, Ordf. Infrastrukturnämnden m.m\, Karolinska Institutet\nPer Lek\, Externa relationer\, SciLifeLab\nPontus Holm\, Ansvarig för Region Stockholms Life science kontor\nTherese Fagerqvist från Precisionsmedicinskt centrum Uppsala (PMCU)\, Akademiska Sjukhuset\, Uppsala\nHannah Karlsson från ATMP-centrum\, Akademiska Sjukhuset\, Uppsala \nRepresentanter från företag berättar om infrastruktur och kompetens som de har inom sin organisation\nCybergene\, Epigenica och Neogap \nSamtal och frågor med fokus på företagens behov av infrastrukturer \n16:45 Sammanfattning och nästa steg \nAnmälan görs till Andreas Namslauer:  andreas.namslauer@ssci.se \nVi välkomnar nya företag till nätverket. För frågor om nätverket och deltagande kontakta sara.gunneras@kisciencepark.se \nVälkomna! \n_____________________________________ \nKort bakgrund om nätverket \nSyftet med nätverket är att få ett ökat kunskaps- och erfarenhetsutbyte mellan olika aktörer inom precisionsmedicin i regionen. Nätverket drivs av Stockholm Science City tillsammans med KI Innovations\, KI Science Park\, Flemingsberg Science och STUNS Life Science. \nDå precisionsmedicin är ett multidisciplinärt område under snabb utveckling eftersträvar vi att skapa ett forum för en konstruktiv\, öppen och hjälpsam dialog. Här kan alla dela med sig av erfarenheter och kunskaper och tillsammans försöka hitta smidiga vägar framåt.
URL:https://www.kisciencepark.kisciencepark.hemsida.eu/event/natverkstraff-nr-3-for-rd-fokuserade-sme-inom-precisionsmedicin/
ATTACH;FMTTYPE=image/jpeg:https://www.kisciencepark.kisciencepark.hemsida.eu/wp-content/uploads/2024/01/240904-pm-event-flyer.jpg
END:VEVENT
BEGIN:VEVENT
DTSTART;TZID=Europe/Stockholm:20240918T080000
DTEND;TZID=Europe/Stockholm:20240919T170000
DTSTAMP:20260422T012211
CREATED:20240327T191354Z
LAST-MODIFIED:20240327T193505Z
UID:10000070-1726646400-1726765200@www.kisciencepark.kisciencepark.hemsida.eu
SUMMARY:NLSDays 2024 - where Nordic life science meets the world
DESCRIPTION:KI Science Park members benefit from a 15% discount on all registration categories and periods. Contact event@kisciencepark.se to receive the promotion code. \nNordic Life Science Days is the largest life science partnering event in the Nordics.\nNLSDays gathers big pharma executives\, investors and CEOs of biotech\, pharma and medtech companies and discusses the road ahead for the life science industry. \nRegister here! \nReminder: Early Bird Registration (until 31 March 2024)\, Regular Registration (from 1st April 2024 until 30 June 2024) and Late Registration (from 1st July 2024 until the event). \n  \n2023 numbers\n\nAttracted 1640+ delegates representing 900+ companies and organizations from 30 countries.\nGathered 150+ investors.\nFacilitated more than 3\,400 face-to-face meetings held during the 2-day conference\, which were booked through the One-on-One Partnering platform.\nOffered our largest-ever developed exhibition\, with 150+ showcasing companies\, organizations\, and countries.\nEnjoyed the support of more than 140 sponsors and partners.\n\nNordic Star Pitch Competition \nTo make room for up-and-coming actors\, we’re opening the floor for high-potential ideas that may become the next big thing. \nSmall and medium-sized life science companies in the Nordics are invited to apply for the Nordic Star Pitch Competition\, where they will have the opportunity to pitch to an audience of investors and big pharma scouts. \n20 selected Nordic SMEs get to pitch their novel inventions during NLSDays 2024\, get free access to the One-on-One Partnering system – and compete for attractive prize packages. \nDifferent prizes will be awarded on stage during the closing ceremony. \nApplication period: Apply here: nlsdays.com/presenters-and-exhibitors/startups/
URL:https://www.kisciencepark.kisciencepark.hemsida.eu/event/nlsdays-2024-where-nordic-life-science-meets-the-world/
LOCATION:Malmömässan\, Måsgatan 6\, Malmö\, 215 32
ATTACH;FMTTYPE=image/png:https://www.kisciencepark.kisciencepark.hemsida.eu/wp-content/uploads/2024/03/nlsd24-design-11200x627px.png
END:VEVENT
BEGIN:VEVENT
DTSTART;TZID=Europe/Stockholm:20240918T113000
DTEND;TZID=Europe/Stockholm:20240918T130000
DTSTAMP:20260422T012211
CREATED:20240902T131936Z
LAST-MODIFIED:20240902T132637Z
UID:10000099-1726659000-1726664400@www.kisciencepark.kisciencepark.hemsida.eu
SUMMARY:The Lab Network Lunch Meeting
DESCRIPTION:Member Company Network  \nKI Science Park Lab Network\, meeting # 3\, 2024\nWe are excited to announce that the next meeting of The Lab Network will take place on September 18th. This will be the first gathering of the autumn season\, offering a perfect opportunity to reconnect after the summer. \nJoin us for a productive lunch and networking session\, where we will discuss and share insights with fellow members. \nInvitations\, including reminder  will be sent to previous participants. If you are not on that list\, please send us an e-mail  event@kisciencepark.se to be added. \nA light lunch will be served. \nWhether you’re a regular participant or new to the group\, your presence will be greatly valued. \nWe look forward to seeing you there!
URL:https://www.kisciencepark.kisciencepark.hemsida.eu/event/the-lab-network-lunch-meeting/
LOCATION:Innomedicum. A Working Lab meeting room: Humle\, floor 1.\, Nanna Svartz väg 6a\, Solna\, 17165\, Sweden
ATTACH;FMTTYPE=image/jpeg:https://www.kisciencepark.kisciencepark.hemsida.eu/wp-content/uploads/2024/09/the-lab-network-2024-sgv2.jpg
ORGANIZER;CN="KI Science Park":MAILTO:event@kisciencepark.se
END:VEVENT
BEGIN:VEVENT
DTSTART;TZID=Europe/Stockholm:20240918T170000
DTEND;TZID=Europe/Stockholm:20240918T210000
DTSTAMP:20260422T012211
CREATED:20240910T195733Z
LAST-MODIFIED:20240910T195908Z
UID:10000101-1726678800-1726693200@www.kisciencepark.kisciencepark.hemsida.eu
SUMMARY:NFKK After Conference Mingle with Waters Sverige AB & Capitainer AB
DESCRIPTION:Event by member company: \nNFKK (Nordisk Förening Klinisk Kemi) After Conference Mingle with Waters Sverige AB & Capitainer AB\nWelcome to Waters Sverige AB facility for an After Conference* Mingle with drinks and lighter food. \nTake the opportunity to: \n\n\n\n➤ Network with colleagues interested in LC/MS clinical diagnostics and accurate home-sampling. \n➤ Learn how LC/MS is utilized today in the clinic and its potential for future diagnostics and precision medicine. \n➤ Learn how patients and the clinic can benefit from accurate remote- sampling. \n➤ Take a guided tour in Campus Solna Open Access LC/MS Lab and learn how you can benefit from it. \n\n\n\n\n\n\n\n\n\n\n\n*) The Nordic Congress in Clinical Chemistry at Aula Medica\, 17-20 September \n\n\n\nEnter Innomedicum main entrance and follow “After Conference Mingle” Signs to the end of the corridor. \nPlease contact Peter Teiwik if you plan to attend or need additional info. o Peter_teiwik@waters.com\no Tel:0046-708101395
URL:https://www.kisciencepark.kisciencepark.hemsida.eu/event/nfkk-after-conference-mingle-with-waters-sverige-ab-capitainer-ab/
LOCATION:Innomedicum\, Nanna Svartz väg 2\, Solna\, 17165\, Sweden
ATTACH;FMTTYPE=image/jpeg:https://www.kisciencepark.kisciencepark.hemsida.eu/wp-content/uploads/2024/09/waters-event.jpg
END:VEVENT
BEGIN:VEVENT
DTSTART;TZID=Europe/Stockholm:20240924T083000
DTEND;TZID=Europe/Stockholm:20240924T190000
DTSTAMP:20260422T012211
CREATED:20240829T201318Z
LAST-MODIFIED:20240910T200020Z
UID:10000096-1727166600-1727204400@www.kisciencepark.kisciencepark.hemsida.eu
SUMMARY:Nordic NGS Conference
DESCRIPTION:Event by member company: \n Welcome to the 2024 Nordic NGS conference!\nThe 2024 Nordic NGS conference will bring together academic\, clinical\, and industrial professionals working with Next-Generation-Sequencing\, covering different sequencing technologies and its applications. While providing a great line-up of scientific speakers\, breaks and an after-work encourage collaboration and exchange between all participants. \nThe Nordic NGS Conference 2024 is a continuation of the NGS conference arranged by BioNordika in 2018 and 2023. After two successful conferences in Denmark\, the conference will take its first stop in Stockholm. The idea behind the conference is to gather Nordic NGS researchers from many different sectors and provide a platform to stimulate collaboration and to share experiences. \nSpeakers: Rickard Sandberg (Karolinska Institutet)\, Åsa Johansson (Uppsala Universitet)\, Nathaniel Street (Umeå Universitet)\, Carl-Johan Rubin (Uppsala Universitet)\, Inken Dillmann (AstraZeneca)\, Anja Mezger (NGI)\, Carolina Rocha (Novonesis\, Denmark) and Marianne Gunell (Turku University Hospital)\,  Kristina Xiao Liang (University of Bergen) and  Keerthana Krishnan (New England Biolabs). \nMore about the program and registration here!
URL:https://www.kisciencepark.kisciencepark.hemsida.eu/event/nordic-ngs-conference/
LOCATION:Wenner-Gren Center in Stockholm.\, Sveavägen 166\, Stockholm\, 113 46
ATTACH;FMTTYPE=image/jpeg:https://www.kisciencepark.kisciencepark.hemsida.eu/wp-content/uploads/2024/08/bionordika.jpg
END:VEVENT
BEGIN:VEVENT
DTSTART;TZID=Europe/Stockholm:20240925T074000
DTEND;TZID=Europe/Stockholm:20240925T090000
DTSTAMP:20260422T012211
CREATED:20240827T103220Z
LAST-MODIFIED:20240917T132600Z
UID:10000095-1727250000-1727254800@www.kisciencepark.kisciencepark.hemsida.eu
SUMMARY:KI Science Park Business Breakfast: Karim Cassimjee\, CEO & Co-Founder EnginZyme
DESCRIPTION:Meet Karim Cassimjee\, CEO and Co-Founder at EnginZyme\n\n\nFrom their base here at Campus Solna\, EnginZymes ambition is to play a key role in tackling climate change — both by accelerating the industry’s transition to sustainability\, and by innovating solutions for other industries through novel chemical products. \nKarim holds a PhD in Biotechnology from KTH. In 2014\, he co-founded Enginzyme\, where he currently serves as CEO\, with the aim of greening the chemical industry. Under his leadership\, the company has raised over €35 million in Sweden and internationally. Enginzyme serves clients across the pharmaceuticals\, fine chemicals\, food production\, and cosmetics industries. Karim was named KTH Alumnus of the Year in 2021. \n\nPROGRAM\n7:40 – 8:00 Breakfast is served.\n8:00 – 8:05 Welcome by KI Science Park\n8:05 – 8:35 Presentation by invited guest\n8:35 – 9:00 Q&A \nA registration email will initially be sent out to all KI Science Park members. \nFor this event we are happy to be able to open up a few spots to non members. REGISTER HERE \nWarm welcome!\n \n\nAbout Business Breakfast\nBusiness Breakfast is KI Science Park’s monthly networking event where we invite business leaders to share their expertise and experience with the community and spotlighting current topics in Life Science.
URL:https://www.kisciencepark.kisciencepark.hemsida.eu/event/ki-science-park-business-breakfast-karim-cassimjee-ceo-co-founder-enginzyme/
LOCATION:Innomedicum\, A Working Lab Cafe  |\, Nanna Svartz Väg 4\, Solna\, 171 65
ATTACH;FMTTYPE=application/pdf:https://www.kisciencepark.kisciencepark.hemsida.eu/wp-content/uploads/2024/08/bb-karim-cassimjee.pdf
ORGANIZER;CN="KI Science Park":MAILTO:event@kisciencepark.se
END:VEVENT
BEGIN:VEVENT
DTSTART;TZID=Europe/Stockholm:20240927T120000
DTEND;TZID=Europe/Stockholm:20240927T125500
DTSTAMP:20260422T012211
CREATED:20240829T205218Z
LAST-MODIFIED:20240929T053512Z
UID:10000098-1727438400-1727441700@www.kisciencepark.kisciencepark.hemsida.eu
SUMMARY:KI Science Park’s CEO and Business Leader Lunch
DESCRIPTION:Welcome to KI Science Park’s CEO and Business Leader Lunch!\nJoin us for this networking opportunity that combines lunch with influential minds!   \nThe CEO and Business Leader Lunch is a monthly networking event exclusively for CEOs and business leaders of our community. It fosters connections\, strengthens networks among KI Science Park members\, and here we also welcome new member companies. It provides a platform for insightful discussions\, idea exchange\, and potential collaborations. \nThis is a network exclusively for our members. An invitation is sent to members by e-mail. \nIf you did not get an invitation contact: event@kisciencepark.se \nWe look forward to see you! \n__________________________________________________ \nKI Science Park member network  | By invitation only  | Contact Sara Gunnerås if you would like to know more about the network and how to join.
URL:https://www.kisciencepark.kisciencepark.hemsida.eu/event/ki-science-parks-ceo-and-business-leader-lunch-2409/
LOCATION:Innomedicum\, KI Science Park AB office\, Nanna Svarts Väg 6a\, floor 4\, Solna\, 171 65\, Sweden
ATTACH;FMTTYPE=image/jpeg:https://www.kisciencepark.kisciencepark.hemsida.eu/wp-content/uploads/2023/05/VD-lunch-230526.jpg
ORGANIZER;CN="KI Science Park":MAILTO:event@kisciencepark.se
END:VEVENT
END:VCALENDAR