BEGIN:VCALENDAR
VERSION:2.0
PRODID:-//KI Science Park - ECPv6.15.0.1//NONSGML v1.0//EN
CALSCALE:GREGORIAN
METHOD:PUBLISH
X-WR-CALNAME:KI Science Park
X-ORIGINAL-URL:https://www.kisciencepark.kisciencepark.hemsida.eu
X-WR-CALDESC:Events for KI Science Park
REFRESH-INTERVAL;VALUE=DURATION:PT1H
X-Robots-Tag:noindex
X-PUBLISHED-TTL:PT1H
BEGIN:VTIMEZONE
TZID:Europe/Stockholm
BEGIN:DAYLIGHT
TZOFFSETFROM:+0100
TZOFFSETTO:+0200
TZNAME:CEST
DTSTART:20240331T010000
END:DAYLIGHT
BEGIN:STANDARD
TZOFFSETFROM:+0200
TZOFFSETTO:+0100
TZNAME:CET
DTSTART:20241027T010000
END:STANDARD
END:VTIMEZONE
BEGIN:VEVENT
DTSTART;TZID=Europe/Stockholm:20240410T163000
DTEND;TZID=Europe/Stockholm:20240410T190000
DTSTAMP:20260422T090644
CREATED:20240111T120839Z
LAST-MODIFIED:20240409T072148Z
UID:10000056-1712766600-1712775600@www.kisciencepark.kisciencepark.hemsida.eu
SUMMARY:KI Science Park Science After Work with Countagen and SciLifeLab
DESCRIPTION:Welcome to Science After Work with knowledge sharing and fun after the working day at cozy AWL cafe\, Innomedicum! \nWe have two special guests this evening: Felix Neumann CEO\, Contagen and Bernhard Schmierer\, Head of SciLifeLab CRISPR functional genomics unit. \nHear their story of how the startup company Countagen developed a same-day analysis kit for gene editing with support from SciLifeLab CRISPR Functional Genomics unit. We will hear the story from both sides\, the company and the research facility. We will also learn more about Countagen and the CRISP platform. \nRegister here! \n  \nPROGRAM\n16:30 – Doors are open and snacks and beer is on the menu.\n17:00 – 17:05 Welcome by KI Science Park\n17:05 – 17:35 Presentation by guest organisation\n17:35 – 18:00 Q&A\n18:00 – 19:00 The bar is open and music is on. \nAbout Countagen\nCountagen is a startup biotech company that build CRISPR analysis tools for researchers addressing bottlenecks in the genome engineering workflow\, ensuring swift and reliable quantification of gene editing efficiency. \nAbout CRISPR\nCRISPR Functional Genomics provide affordable precision gene-editing and massively parallel functional genomic screens using various CRISPR-systems. \n\nAbout Science After Work\nScience After Work is a KI Science Park member event. Focus on knowledge sharing and networking where business and science meet. You will enjoy a presentation by our guest speaker and expand your network over drinks and snacks. The presentation will be in English. \nMaximize the value of this event by actively participating in the Q&A session. Let’s be curious together! #staycurious #sharingiscaring #community
URL:https://www.kisciencepark.kisciencepark.hemsida.eu/event/ki-science-park-science-after-work-2404/
LOCATION:Innomedicum\, A Working Lab Cafe  |\, Nanna Svartz Väg 4\, Solna\, 171 65
ATTACH;FMTTYPE=image/jpeg:https://www.kisciencepark.kisciencepark.hemsida.eu/wp-content/uploads/2024/01/2024-saw-flyer-till-inbjudan-och-kalender-1.jpg
ORGANIZER;CN="KI Science Park":MAILTO:event@kisciencepark.se
END:VEVENT
BEGIN:VEVENT
DTSTART;TZID=Europe/Stockholm:20240419T120000
DTEND;TZID=Europe/Stockholm:20240419T125500
DTSTAMP:20260422T090644
CREATED:20240329T105901Z
LAST-MODIFIED:20240415T095559Z
UID:10000072-1713528000-1713531300@www.kisciencepark.kisciencepark.hemsida.eu
SUMMARY:KI Science Park's CEO and Business Leader Lunch at KI Innovations with special guests: JointCells\, ToxoTech True Dose.
DESCRIPTION:Welcome to KI Science Park CEO and Business Leader Lunch at KI Innovations with special guests: JointCells\, ToxoTech True Dose. \nKI Science Park member network  | By invitation only \nJohan Weigelt\, CEO\, KI Holding and KI Innovations\, will give a brief introduction with a focus in the DRIVE incubator and then we will welcome some of the most recently accepted DRIVE incubator companies (class of 2024): Jose\, Inzunza\, CEO at JointCells\, Geoffrey Masuyer CEO at ToxoTech and Azita Hedayatu at True Dose. They will present them self’s and their company. \nAs always\, we will have time for questions and an open discussion round the table. A light lunch will be served. \nWe look forward to welcoming you! \nJohan Weigelt\, CEO at KI Innovations\nSara Gunnerås\, COO at KI Science Park \n\nABOUT\nThe CEO and Business Leader Lunch is a monthly networking event exclusively for CEOs and business leaders of our community. It fosters connections\, strengthens networks among KI Science Park members\, and welcomes new companies on Campus Solna. It provides a platform for insightful discussions\, idea exchange\, and potential collaborations. \nContact Sara Gunnerås for more information and invitation.
URL:https://www.kisciencepark.kisciencepark.hemsida.eu/event/ki-science-park-ceo-and-business-leader-lunch-april24/
LOCATION:KI Innovations AB\, Nanna Svarts Väg 2\, floor 4\, Solna\, 17165\, Sweden
ATTACH;FMTTYPE=image/jpeg:https://www.kisciencepark.kisciencepark.hemsida.eu/wp-content/uploads/2024/03/2024-ceo-lunch-flyers-april-24.jpg
ORGANIZER;CN="KI Science Park":MAILTO:event@kisciencepark.se
END:VEVENT
BEGIN:VEVENT
DTSTART;TZID=Europe/Stockholm:20240424T083000
DTEND;TZID=Europe/Stockholm:20240424T110000
DTSTAMP:20260422T090644
CREATED:20240315T135829Z
LAST-MODIFIED:20240409T123208Z
UID:10000069-1713947400-1713956400@www.kisciencepark.kisciencepark.hemsida.eu
SUMMARY:Business Sweden Roadtrip: Business Opportunities in the shift to data driven personalized medicine - Europe
DESCRIPTION:Business Sweden invites you to a breakfast seminar and business discussion presenting their latest report: THE ROAD TO PERSONALISED MEDICINE 2023\nCompanies in all stages of their international expansion are welcome to join this meeting. \nRegister here! \nABOUT\nThe developments in data-driven personalised medicine on a global scale present significant opportunities for Swedish companies. The pace of progress may vary\, but the global trend is towards integrating data-driven approaches to optimise healthcare delivery and outcomes. \nAt this event representatives from Business Sweden will present their latest report where they have looked at the drivers of the shift to data driven personalised medicine in different markets\, and some of the business opportunities it represents for Swedish healthcare companies in Europe. \nJoin to find out more about PeCan in France\, DiGa in Germany\, EHDS\, or European harmonization attempts of Digital Health Technology Assessment\, for example.  \nYou will also hear  about upcoming joint activities in Europe for 2024 and you will have the possibility to book individual discussions about your company’s specific opportunities and pain points on the European markets. \nWe invite companies in all stages of their international expansion to join. Business Sweden is committed to supporting your international expansion\, providing you with the necessary tools\, information\, and network. \nFor questions\, please contact britta.stenson@business-sweden.se \nThis seminar series is made possible through the support of our partners; Karolinska Institutet Science Park\, GoCo Health Innovation City  and LU Innovation.  \nThe events are free of charge but registration in advance is mandatory.
URL:https://www.kisciencepark.kisciencepark.hemsida.eu/event/business-opportunities-in-the-shift-to-data-driven-personalized-medicine-europe/
LOCATION:Innomedicum\,  A Working Lab Cafe  |\, Nanna Svarts Väg 4\, Solna\, 17165\, Sweden
ATTACH;FMTTYPE=image/jpeg:https://www.kisciencepark.kisciencepark.hemsida.eu/wp-content/uploads/2024/03/bus-roadshow-240424.jpg
END:VEVENT
BEGIN:VEVENT
DTSTART;TZID=Europe/Stockholm:20240424T180000
DTEND;TZID=Europe/Stockholm:20240424T200000
DTSTAMP:20260422T090644
CREATED:20240408T084811Z
LAST-MODIFIED:20240416T133302Z
UID:10000075-1713981600-1713988800@www.kisciencepark.kisciencepark.hemsida.eu
SUMMARY:Digital Health Cocktail Hour Stockholm!
DESCRIPTION:Welcome to DHCH Stockholm!\nThe Digital Health Cocktail Hour is where early-stage health innovation startups\, investors\, and researchers can relax\, network\, and have fun. You can expect to meet fellow innovators\, participate in “Office Minutes” flash meetings with experts and investors\, and learn loads! Plus\, great cocktails of course! 🥂 The vibe of the night is friendly and informal. We’ve designed the event so you’ll leave feeling energized and filled with a renewed sense of purpose as we work to get solutions to clinical impact as quickly as possible. 💪 \nRegister here! \nBrought to you by AWS Startups\, Astra Zeneca\, A Working Lab\, HealthCap\, KI Science Park\, and Nordic Science Capital.
URL:https://www.kisciencepark.kisciencepark.hemsida.eu/event/digital-health-cocktail-hour-stockholm-240424/
LOCATION:Tomtebodaskolan\, Tomtebodavägen 11a\, Solna\, 17165\, Sweden
ATTACH;FMTTYPE=image/jpeg:https://www.kisciencepark.kisciencepark.hemsida.eu/wp-content/uploads/2024/04/dhch-april-2024.jpg
END:VEVENT
BEGIN:VEVENT
DTSTART;TZID=Europe/Stockholm:20240425T074000
DTEND;TZID=Europe/Stockholm:20240425T090000
DTSTAMP:20260422T090644
CREATED:20231220T214624Z
LAST-MODIFIED:20240416T111447Z
UID:10000052-1714030800-1714035600@www.kisciencepark.kisciencepark.hemsida.eu
SUMMARY:KI Science Park Business Breakfast with Sofia Svanteson
DESCRIPTION:Meet Sofia Svanteson\, founder of ELSA Science at KI Science Park Business Breakfast \nSofia will talk about her journey with ELSA Science with a focus on the international journey on the US market\, of transforming rheumatic care through scientific research and patient reported outcomes. \nSofia Svanteson is founder and former CEO of Elsa Science\, founded in 2017. She has an entrepreneurial background and is also founder of Ocean Observations a digital design agency\, where she served as CEO\, Chairman\, and Design Strategist. Additionally\, Sofia has been a board member at RISE Interactive Institute AB and member of the expert group at the Committee for digitisation at Regeringskansliet\, Näringsdepartementet. Sofia started their career as an Information Designer at Spray/Razorfish. Sofia holds a MS degree in Media Technology & Human Computer Interaction from KTH\, Royal Institute of Technology\, Stockholm. \nRegister here! \nEmployees of KI Science Park member companies have priority at our events.  Make sure to sign up here to get invitations. Registration will open soon. \nPROGRAM\n7:40 – 8:00 Breakfast is served.\n8:00 – 8:05 Welcome by KI Science Park\n8:05 – 8:35 Presentation by invited guest\n8:35 – 9:00 Q&A \nWarm welcome!\n \n\nAbout Business Breakfast\nBusiness Breakfast is KI Science Park’s monthly networking event for our members where we invite business leaders to share their expertise and experience with the community and spotlighting current topics in Life Science.
URL:https://www.kisciencepark.kisciencepark.hemsida.eu/event/business-breakfast-11/
LOCATION:Innomedicum\, A Working Lab Cafe  |\, Nanna Svartz Väg 4\, Solna\, 171 65
ATTACH;FMTTYPE=image/jpeg:https://www.kisciencepark.kisciencepark.hemsida.eu/wp-content/uploads/2023/12/2024-bb-svanteson-flyer-invitation-and-calendar.jpg
ORGANIZER;CN="KI Science Park":MAILTO:event@kisciencepark.se
END:VEVENT
END:VCALENDAR