BEGIN:VCALENDAR
VERSION:2.0
PRODID:-//KI Science Park - ECPv6.15.0.1//NONSGML v1.0//EN
CALSCALE:GREGORIAN
METHOD:PUBLISH
X-WR-CALNAME:KI Science Park
X-ORIGINAL-URL:https://www.kisciencepark.kisciencepark.hemsida.eu
X-WR-CALDESC:Events for KI Science Park
REFRESH-INTERVAL;VALUE=DURATION:PT1H
X-Robots-Tag:noindex
X-PUBLISHED-TTL:PT1H
BEGIN:VTIMEZONE
TZID:Europe/Stockholm
BEGIN:DAYLIGHT
TZOFFSETFROM:+0100
TZOFFSETTO:+0200
TZNAME:CEST
DTSTART:20230326T010000
END:DAYLIGHT
BEGIN:STANDARD
TZOFFSETFROM:+0200
TZOFFSETTO:+0100
TZNAME:CET
DTSTART:20231029T010000
END:STANDARD
END:VTIMEZONE
BEGIN:VEVENT
DTSTART;TZID=Europe/Stockholm:20231107T163000
DTEND;TZID=Europe/Stockholm:20231107T190000
DTSTAMP:20260422T182015
CREATED:20231003T114548Z
LAST-MODIFIED:20231106T173315Z
UID:10000036-1699374600-1699383600@www.kisciencepark.kisciencepark.hemsida.eu
SUMMARY:KI Science Park Science After Work! Guest: Testa Center
DESCRIPTION:Meet Jesper Hedberg CEO of Testa Center and Alexandra Patriksson\, Science Relations Manager from Testa Center at KI Science Park Science After Work\nTesta Center is an initiative between the Swedish government and Cytiva to secure the growth of the life science industry and its manufacturing capabilities. Jesper Hedberg CEO of Testa Center and Alexandra Patriksson\, Science Relations Manager will give you the full tour of Testa Center and how you can make us of the facilites to test your research and build value through your innovative project. \n  \nRegister here! \n  \nAbout the Testa Center\nThe main objective of Testa Center is to bridge the gap from discovery to industrialization. The center offers businesses and academia globally a modern\, pilot-scale testbed for projects and education in the production of biological products e.g.\, monoclonal antibodies\, peptides\, protein\, vaccine\, and viral vectors (non-GMP\, up to Bio-safety level 2 and 500 liters). In this flexible facility\, assisted by the experienced staff\, users can perform a wide variety of projects\, including scale-up of parts of a process\, or a complete process from frozen cell bank vial to purified protein. Testa Center is a non-profit company and a private-public partnership with the aim to secure the growth of the life science industry and its manufacturing capabilitie | www.testacenter.com \nHow it works \n16:30 – Doors are open and pizza and beer is on the menu.\n17:00 – 17:05 Welcome by Sara Gunnerås\, KI Science Park\n17:05 – 17:35 Presentation by Jesper Hedberg and Alexandra Patriksson\n17:35 – 18:00 Q&A\n18:00 – 19:30 The bar is open and music is on. \nTime & Place\n16:30 – 19:30.\, 7 Nov.\nAWL Café\, Innomedicum\, Nanna Svartz Väg 4\, Campus Solna.\nNote: To secure your ticket\, register no later than: Friday 3 Nov. \nAbout Science After Work\nScience After Work is a networking event  where business and science meet. You will enjoy a presentation by our guest speaker and expand your network over drinks and snacks. The presentation will be in English. Bring your colleagues – everyone is welcome\, just remember to sign up! \nMaximize the value of this event arranged for knowledge sharing\, by actively participating in the Q&A session. Let’s be curious together! #staycurious #sharingiscaring #community
URL:https://www.kisciencepark.kisciencepark.hemsida.eu/event/science-after-work-testacenter/
LOCATION:Innomedicum\, A Working Lab Cafe  |\, Nanna Svartz Väg 4\, Solna\, 171 65
ATTACH;FMTTYPE=image/jpeg:https://www.kisciencepark.kisciencepark.hemsida.eu/wp-content/uploads/2023/10/flyer-teta-saw-231107.jpg
ORGANIZER;CN="KI Science Park":MAILTO:event@kisciencepark.se
END:VEVENT
BEGIN:VEVENT
DTSTART;TZID=Europe/Stockholm:20231115T121500
DTEND;TZID=Europe/Stockholm:20231115T190000
DTSTAMP:20260422T182015
CREATED:20230821T120915Z
LAST-MODIFIED:20231006T101859Z
UID:10000020-1700050500-1700074800@www.kisciencepark.kisciencepark.hemsida.eu
SUMMARY:KI Science Park DAY 2023
DESCRIPTION:Welcome to an inspiring day built around community\, sharing\, learning\, and evolving. This day will leave you full of new knowledge and contacts and the feeling of anything is possible if we make use of the network that we have and create together. \n\n\n\n\n\nWe look forward to sharing this day with you all! \nFor program and registration click here! \n\n  \n 
URL:https://www.kisciencepark.kisciencepark.hemsida.eu/event/save-the-date-ki-science-park-day-2023/
LOCATION:Biomedicum\, Eva & Georg Klein\,\, Solnavägen 9\, Solna\, Sweden
ATTACH;FMTTYPE=image/jpeg:https://www.kisciencepark.kisciencepark.hemsida.eu/wp-content/uploads/2023/08/kisp-day-2023-flyer.jpg
ORGANIZER;CN="KI Science Park":MAILTO:event@kisciencepark.se
END:VEVENT
BEGIN:VEVENT
DTSTART;TZID=Europe/Stockholm:20231121T074000
DTEND;TZID=Europe/Stockholm:20231121T090000
DTSTAMP:20260422T182015
CREATED:20230913T145936Z
LAST-MODIFIED:20231120T125427Z
UID:10000025-1700552400-1700557200@www.kisciencepark.kisciencepark.hemsida.eu
SUMMARY:KI Science Park Business Breakfast! Guest: Eva Sjökvist Saers
DESCRIPTION:Meet Eva Sjökvist Saers\, Board chairman/member in life science and Chairman Swelife – a Strategic Innovation Program\n\n\n\nEva Sjökvist Saers has many years of experience in the pharmaceutical industry where she has worked in various leading positions within Astra/AstraZeneca\, Apoteket AB\, and as CEO of the pharmaceutical company APL. Eva has also been Chairman of Apotekarsocieteten and Vice Chairman of SwedenBIO. Now she is working as a professional board member for various companies within life science and is the chairman of the strategic innovation program Swelife. \nRegistration closed! \n  \nBusiness Breakfast is KI Science Park’s monthly networking event spotlighting current topics in Life Science. We’ll meet in the AWL Café at Innomedicum.  \n\n\n\nHow it works \n7:40 – 8:00 Breakfast is served. \n8:00 – 8:05 Welcome by Sara Gunnerås\, KI Science Park \n8:05 – 8:35 Presentation by Eva Sjökvist Saers \n8:35 – 9:00 Q&A \nAddress\n\n\n\nNanna Svartz Väg 4\, AWL Café\, Innomedicum building at Campus Solna.
URL:https://www.kisciencepark.kisciencepark.hemsida.eu/event/business-breakfast-nov23/
LOCATION:Innomedicum\, A Working Lab Cafe  |\, Nanna Svartz Väg 4\, Solna\, 171 65
ATTACH;FMTTYPE=image/jpeg:https://www.kisciencepark.kisciencepark.hemsida.eu/wp-content/uploads/2023/09/flyer-bb-2311-eva-1.jpg
ORGANIZER;CN="KI Science Park":MAILTO:event@kisciencepark.se
END:VEVENT
BEGIN:VEVENT
DTSTART;TZID=Europe/Stockholm:20231122T093000
DTEND;TZID=Europe/Stockholm:20231122T153000
DTSTAMP:20260422T182015
CREATED:20231108T144244Z
LAST-MODIFIED:20231117T105302Z
UID:10000044-1700645400-1700667000@www.kisciencepark.kisciencepark.hemsida.eu
SUMMARY:Biopharma LC/MS user meeting by Waters
DESCRIPTION:Welcome to a Biopharma LC/MS user meeting at Campus Solna!\nThe idea behind the meeting came from users within Campus Solna who want to get in touch with other companies that use LC/MS and thus be able to share experiences with each other. \nMain target group is companies at Campus Solna with biopharma as their focus\, but all companies with an interest in LC/MS is welcome to register and participate. \nDuring the day\, companies will present their organization\, their work and the technologies they use. The goal of the event is for you to gain a wider network within Campus Solna\, enabling knowledge sharing between the organizations. We will make a tour in Waters Open Access Lab where you will get a chance to get a closer look at Waters LC/MS-systems and sample prep automation. \nThe day will end with an After Work at the AWL cafe where you will get a chance to share your experiences with your peers. \nThe meeting is organized by Waters and supported by AWL and KI Science Park. \nMore about the meering and registration here! \nAttendance is free. \nLunch and refreshments will be provided. \nAgenda\n\n\n\n09:30\nRegistration & Coffee\n\n\n10:00\nWelcome and Introduction\n\n\n10:15\nXbrane Biopharma AB – Per Edebrink\, Head of Analytics\n\n\n10:30\nAffibody AB – Staffan Thorén\, Scientist\n\n\n10:45\nKarolinska Institutet Science Park – Sara Gunnerås\, COO\n\n\n11:00\nBREAK\n\n\n11:15\nChiesi Pharma AB – Lorena Ndreu\, Analytical Scientist\n\n\n11.30\nDr Mathias Uhlén\, Professor at KTH\n\n\n12:00\nLUNCH\n\n\n13:00\nLab tour Waters\n\n\n14:00\nA Working Lab / Open Access Lab – Armando Cázares-Körner\, AWL Lab Manager / Ingvar Betnér\, Waters Customer Success Manager\n\n\n14:15\nCytiva Sweden AB\, Filip Bergqvist\, Senior Scientist\n\n\n14:30\nLarodan AB – Carl Johan Arevång\, Operations Director\n\n\n14:45\nWaters – Bioprocess Walk-Up Solutions\, Magnus Wetterhall\, Global Marketing Manager Bioprocessing\n\n\n15:15\nWrap-up\n\n\n15:30\nAW & Networking\n\n\n\n 
URL:https://www.kisciencepark.kisciencepark.hemsida.eu/event/biopharma-lc-mc-user-meeting-by-waters/
LOCATION:Innomedicum. AWL Meeting room: Daggkåpa\, Nanna Svartz Väg 2\, Solna\, 171 65\, Sweden
ATTACH;FMTTYPE=application/pdf:https://www.kisciencepark.kisciencepark.hemsida.eu/wp-content/uploads/2023/11/waters-campus-solna-user-meeting.pdf
END:VEVENT
BEGIN:VEVENT
DTSTART;TZID=Europe/Stockholm:20231124T090000
DTEND;TZID=Europe/Stockholm:20231124T170000
DTSTAMP:20260422T182015
CREATED:20231024T072951Z
LAST-MODIFIED:20231024T073342Z
UID:10000043-1700816400-1700845200@www.kisciencepark.kisciencepark.hemsida.eu
SUMMARY:CHaSE – Careers in Health and Science Exposition
DESCRIPTION:CHaSE is Stockholm’s premier career and jobs fair that connects employers within the life science and health sectors with potential employees and provides a platform for students to begin to plan for their post-university careers. \nGet your company or organization on board by contacting: relations@chasesthlm.se \nAll KI and non-KI affiliated students (BSc\, MSc and PhD)\, postdocs and researchers in Life Science and Health  are welcome to register and attend the event.
URL:https://www.kisciencepark.kisciencepark.hemsida.eu/event/chase-careers-in-health-and-science-exposition/
LOCATION:Aula Medica\, Nobels väg 6\, Solna\, 171 65\, Sweden
ATTACH;FMTTYPE=image/png:https://www.kisciencepark.kisciencepark.hemsida.eu/wp-content/uploads/2023/10/image004-1.png
END:VEVENT
BEGIN:VEVENT
DTSTART;TZID=Europe/Stockholm:20231124T120000
DTEND;TZID=Europe/Stockholm:20231124T125500
DTSTAMP:20260422T182015
CREATED:20230901T113451Z
LAST-MODIFIED:20230901T113451Z
UID:10000023-1700827200-1700830500@www.kisciencepark.kisciencepark.hemsida.eu
SUMMARY:KI Science Park's CEO and Business Leader Lunch (by invitation only)
DESCRIPTION:Welcome to KI Science Park’s CEO and Business Leader Lunch! \n\n\nThe CEO and Business Leader Lunch is a monthly networking event exclusively for CEOs and business leaders of our community. It fosters connections\, strengthens networks among KI Science Park members\, and welcomes new companies to Campus Solna. This invitation-only gathering is open to all member companies and occasionally special guests. It provides a platform for insightful discussions\, idea exchange\, and potential collaborations. Join us for this networking opportunity that combines lunch with influential minds. \nLimited seats  |  By invitation only  |  Invitation is sent by e-mail. \n 
URL:https://www.kisciencepark.kisciencepark.hemsida.eu/event/ki-science-parks-ceo-and-business-leader-lunch-by-invitation-only/
LOCATION:Innomedicum\, KI Science Park AB office\, Nanna Svarts Väg 6a\, floor 4\, Solna\, 171 65\, Sweden
ATTACH;FMTTYPE=image/jpeg:https://www.kisciencepark.kisciencepark.hemsida.eu/wp-content/uploads/2023/05/VD-lunch-230526.jpg
ORGANIZER;CN="KI Science Park":MAILTO:event@kisciencepark.se
END:VEVENT
END:VCALENDAR