BEGIN:VCALENDAR
VERSION:2.0
PRODID:-//KI Science Park - ECPv6.15.0.1//NONSGML v1.0//EN
CALSCALE:GREGORIAN
METHOD:PUBLISH
X-WR-CALNAME:KI Science Park
X-ORIGINAL-URL:https://www.kisciencepark.kisciencepark.hemsida.eu
X-WR-CALDESC:Events for KI Science Park
REFRESH-INTERVAL;VALUE=DURATION:PT1H
X-Robots-Tag:noindex
X-PUBLISHED-TTL:PT1H
BEGIN:VTIMEZONE
TZID:Europe/Stockholm
BEGIN:DAYLIGHT
TZOFFSETFROM:+0100
TZOFFSETTO:+0200
TZNAME:CEST
DTSTART:20230326T010000
END:DAYLIGHT
BEGIN:STANDARD
TZOFFSETFROM:+0200
TZOFFSETTO:+0100
TZNAME:CET
DTSTART:20231029T010000
END:STANDARD
END:VTIMEZONE
BEGIN:VEVENT
DTSTART;TZID=Europe/Stockholm:20230906T160000
DTEND;TZID=Europe/Stockholm:20230906T190000
DTSTAMP:20260422T211123
CREATED:20230711T204058Z
LAST-MODIFIED:20230905T105832Z
UID:10000015-1694016000-1694026800@www.kisciencepark.kisciencepark.hemsida.eu
SUMMARY:Science After Work with Jens Nielsen
DESCRIPTION:Meet Professor Jens Nielsen at KI Science Park Science After Work\nJens Nielsen is the CEO of the Bioinnovation Institute\, DK\, Professor at Chalmers University of Technology\, and Scientific Director at DTU Biosustain\, DK. His research is focused on systems biology\, the modelling of metabolism\, and metabolic engineering of cell factories. Jens has been elected into several academies and received of numerous international awards. He has also extensive entrepreneurial expertise as the founder of several biotech companies. At Science After Work he will talk about his passion for translating academic research to new innovative solutions for the benefit people and society.\nThe registration is closed! \nHow it works\n16:00 –  Happy Hour starts\n16:30 – 16:35 Welcome by Sara Gunnerås\, KI Science Park\n16:35 – 17:05 Presentation by Jens Nielsen\n17:05 – Q&A\, drinks and snacks. \nTime & Place\n16:00 – 19:00. Wednesday\, 6 Sept.\nAWL Café\, Innomedicum\, Nanna Svartz Väg 4\, Campus Solna.\nNote: To secure your ticket\, register no later than: Monday 4 Sept. \nAbout Science After WorkScience After Work is a networking event primarily for the life science community on Campus Solna and in Hagastaden – an event where business and science meet. You will enjoy a presentation by our guest speaker and expand your network over drinks and snacks. The presentation will be in English. Bring your colleagues – everyone is welcome\, just remember to sign up!Additionally\, maximize the value of this knowledge sharing session by actively participating in the Q&A session and utilizing the opportunity by asking any questions you may have.
URL:https://www.kisciencepark.kisciencepark.hemsida.eu/event/science-after-work/
LOCATION:Innomedicum\, A Working Lab Cafe  |\, Nanna Svartz Väg 4\, Solna\, 171 65
ATTACH;FMTTYPE=image/jpeg:https://www.kisciencepark.kisciencepark.hemsida.eu/wp-content/uploads/2023/07/saw-jens-nielsen-final-flyer.jpg
ORGANIZER;CN="KI Science Park":MAILTO:event@kisciencepark.se
END:VEVENT
BEGIN:VEVENT
DTSTART;TZID=Europe/Stockholm:20230907T113000
DTEND;TZID=Europe/Stockholm:20230907T121500
DTSTAMP:20260422T211123
CREATED:20230913T204349Z
LAST-MODIFIED:20230913T204800Z
UID:10000028-1694086200-1694088900@www.kisciencepark.kisciencepark.hemsida.eu
SUMMARY:AWL Running club
DESCRIPTION:Looking to boost your fitness\, meet new people\, and enjoy the outdoors? \nThe AWL Running Club is open to all tenants and meet for eight weeks with a running coach from Urban Tribes. Every session will be 45 min and we will run 3\,5-4 km. \nTIME: Thursdays at 11:30\nLOCATION: Nanna Svartz väg 4\, Campus Solna \nREGISTER NOW! \nQuestions? Send an email to Armando at:  armando.cazareskorner@akademiskahus.se
URL:https://www.kisciencepark.kisciencepark.hemsida.eu/event/awl-running-club-2/
LOCATION:Innomedicum\, A Working Lab Cafe  |\, Nanna Svartz Väg 4\, Solna\, 171 65
ATTACH;FMTTYPE=image/jpeg:https://www.kisciencepark.kisciencepark.hemsida.eu/wp-content/uploads/2023/09/230914-running-club.jpg
END:VEVENT
BEGIN:VEVENT
DTSTART;TZID=Europe/Stockholm:20230912T080000
DTEND;TZID=Europe/Stockholm:20230912T090000
DTSTAMP:20260422T211123
CREATED:20230817T152530Z
LAST-MODIFIED:20230817T152958Z
UID:10000019-1694505600-1694509200@www.kisciencepark.kisciencepark.hemsida.eu
SUMMARY:Reversed pitching from major Japanese pharma companies
DESCRIPTION:This free webinar will give you a great occasion to learn directly from major Japanese pharma companies about collaboration opportunities. Webinar invitation comes from Business Sweden\, Tokyo \nRegister here! \nJapan is the third largest pharmaceutical market in the world. The market size was 11.8 trillion JPY (Approx.8.9 billion SEK) in FY 2019-20. The Government of Japan has promoted the healthcare industry as an important growth engine under the country’s economic revitalization and growth strategy since 2013. Major Japanese pharmaceutical companies spend between 15% and 25% of their revenue on research and development and are moving to further expand their global operations. To further strengthen their pipelines\, they also invest in strategic alliances such as collaborative research and M&A with overseas companies\, academia. \nThe webinar will be a great opportunity for Swedish life science companies and academia to learn about research priorities and collaboration structures of major Japanese Pharmaceutical companies directly from them. \nBusiness Sweden’s Life Science in Tokyo team will also support with arrangement of one-on-one web meetings. After attending the webinar\, please send your non-confidential materials to Business Sweden Tokyo at Etsuko.yasuda@business-sweden.se indicating the companies you wish to have a follow-up meeting with\, and how your company fits their research priorities.  We will set up MS Teams meetings with those companies who agree to meet. \nSignup: No cost\, No later at 12:00 PM CET on 11th September 2023 \nProgram & the key interest areas of the Japanese Pharma companies \n8:00       Opening Remarks / Magnus Blondell\, Life Science Lead East Asia Pacific\, Business Sweden \n8:05       Japanese companies’ presentations \n\nKyouko Saita\, Ph.D.\, Business Development\, Astellas Pharma Inc.\nYuichi Tominaga\, Ph.D.\, Senior Director\, Global Business Development\, Daichi Sankyo Co.\, Ltd.\nShinobu Mitsuda\, Ph.D.\, Deputy Director\, Sohyaku Innovative Research Division\, Mitsubishi Tanabe Pharma Corporation\nHiroki Fujimoto\, Associate Director\, Business Development\, Otsuka Parmaceutical Co.\, Ltd.\nJun Hidaka\, Vice President\, Head of External Innovation\, External Innovation Department (EXID)\, Sumitomo Pharma Co.\, Ltd.\n\n8:50       Q&A \n9:00       Closing \nThe key interest areas of five Japanese Pharma companies are: \nAstellas Pharma Inc. \nAstellas is interested in cutting-edge science/technology which is leveraged in drug discovery including new biological insights\, platforms\, and modalities across multiple therapeutic areas. \n\nCell and gene therapy programs and technologies for regeneration of eye and other organs\nAAV gene therapy projects and technologies\nPrograms and technologies to modulate mitochondria related pathway\nNovel immuno-oncology programs\nTargeted protein degradation programs and technologies\nNew technologies and modalities for immune regulation\, including immunoregulatory cell therapy\nPrograms and Technologies in other emerging research areas including in vivo cell direct reprogramming\, chronobiology\, engineered phage therapy\n\nDaiichi Sankyo Co.\, Ltd. \nDaiichi Sankyo is interested in disruptive science in the preclinical phase and seeking early-stage technology platform-based opportunities for research collaboration with academia or startups. \nOncology \n\nNovel protein degradation technologies that are based on other than the ubiquitin-proteosome system\nCutting-edge technologies that enable targeting “undruggable” epigenetics-related molecules\nUnique antibodies or binders (e.g. Fab\, scFv) against tumor-associated antigens expressed on tumor\, immune\, or stromal cells that are applicable to antibody therapies and/or cell therapies\n\nCNS  \n\nPsychiatric diseases\n\n\nNovel target and psychiatric disease animal model induced by primary neuroinflammation. It is preferable there are biomarkers suitable to judge the therapeutic potential.\nResearch for endogenous ligand\, receptor\, or pathway which is expected to be involved in abnormal activity of specific brain area causing psychiatric disease. Abnormal activity of specific brain areas reported in patients and reproducibility in rodent models is recommended.\n\n\nNeurodegenerative diseases\n\n\nNovel research on glial cell function which can reveal the relevance of the progression of neurodegenerative diseases. Ideas with high originality regarding neuroinflammation\, cellular metabolism\, and senescence are of particular interest.\nResearch for finding novel therapeutic targets utilizing clinical information regarding prognosis and/or data from clinical trials.\n\nMitsubishi Tanabe Pharma Corporation \n\nDrug seeds realizing precision medicines for ALS\, MELAS\, MSA\, PSP\, FTD and ASD\nDrug seeds for targeted protein degradations or antibody drug conjugates for refractory cancers\nClinical samples\, cell models\, and animal models for above diseases\nTargeted protein degradation technologies regarding tissue specific E3 ligase\nDDS or formulation that enable oral administration of middle-molecular weight compounds\nBiomarkers that can be implemented in clinical trials for above diseases (including by wearable devices)\nMethods to identify interactions between small molecules and intrinsically disordered proteins (IDP) which cannot be isolated and purified (NMR is out of our interest)\n\nOtsuka Pharmaceutical Co.\, Ltd. \nOtsuka is focusing on Psychiatry\, Neurology\, Nephrology therapeutics and others including new MOAs\, modalities and platform technologies for our future drug discovery. \n\nEvolutionary/Innovative Science with drug candidate screening/design/selection system\nSmall molecules\, inhibit protein-protein interaction or work as protein degrader\nmRNA therapeutics with distinct nucleotide technology\nNon-viral gene therapy system\nNew and improve antibody/nucleotide delivery system (e.g. oral and high-volume SQ)\nAny novel modalities/molecules to reduce Amyloid beta oligomers or Synuclein fibrils\nTargeting DDS technology for renal and CNS diseases\n\nSumitomo Pharma Co.\, Ltd. \nSumitomo is exploring opportunities on early stage for Assets and Technologies in CNS and Oncology fields\, and Platform Technologies. \n\nPsychiatry: Drug discovery based on neural circuit pathology\nNeurology: Drug discovery based on molecular pathophysiological mechanisms\nOncology: Novel therapeutic targets or agents targeting context-dependent cancer vulnerabilities\, Novel immunotherapies\nPlatform Technologies: Drug discovery platform\, Drug delivery system\, Novel modality suitable for our focused areas
URL:https://www.kisciencepark.kisciencepark.hemsida.eu/event/reversed-pitching-from-major-japanese-pharma-companies/
ATTACH;FMTTYPE=image/jpeg:https://www.kisciencepark.kisciencepark.hemsida.eu/wp-content/uploads/2023/08/230912-bus-webevent-1.jpg
END:VEVENT
BEGIN:VEVENT
DTSTART;TZID=Europe/Stockholm:20230914T113000
DTEND;TZID=Europe/Stockholm:20230914T121500
DTSTAMP:20260422T211123
CREATED:20230913T203501Z
LAST-MODIFIED:20230913T204601Z
UID:10000027-1694691000-1694693700@www.kisciencepark.kisciencepark.hemsida.eu
SUMMARY:AWL Running club
DESCRIPTION:Looking to boost your fitness\, meet new people\, and enjoy the outdoors? \nThe AWL Running Club is open to all tenants and meet for eight weeks with a running coach from Urban Tribes. Every session will be 45 min and we will run 3\,5-4 km. \nTIME: Thursdays at 11:30\nLOCATION: Nanna Svartz väg 4\, Campus Solna \nRegister here! \nQuestions? Send an email to Armando at:  armando.cazareskorner@akademiskahus.se
URL:https://www.kisciencepark.kisciencepark.hemsida.eu/event/awl-running-club/
LOCATION:Innomedicum\, A Working Lab Cafe  |\, Nanna Svartz Väg 4\, Solna\, 171 65
ATTACH;FMTTYPE=image/jpeg:https://www.kisciencepark.kisciencepark.hemsida.eu/wp-content/uploads/2023/09/230914-running-club.jpg
END:VEVENT
BEGIN:VEVENT
DTSTART;VALUE=DATE:20230915
DTEND;VALUE=DATE:20230916
DTSTAMP:20260422T211123
CREATED:20230905T095934Z
LAST-MODIFIED:20230905T100020Z
UID:10000024-1694736000-1694822399@www.kisciencepark.kisciencepark.hemsida.eu
SUMMARY:Deadline: KI Internship program company project submission.
DESCRIPTION:Is your company looking for world-class talent in life sciences? \nThen be a part of the successful Karolinska Institutet internship program. We are looking for companies and organizations related to healthcare and life sciences who are interested in taking doctoral students and postdoctoral researchers as interns financed by KI. \nWe are now recruiting projects\, 1 to 3 months.\nOur carefully selected applicants are highly skilled\, self-driven and motivated to learn more about how to apply their transferable skills outside Academia. \nNext deadline to submit projects: September 15th\, 2023 \nInterested in knowing more?  \nInternship projects for postdocs and early career researchers \nInternship projects for PhD students \nContact us: career-service@ki.se\nKI Career Service: Ana Osório Oliveira\, Y. Vladimir Pabon-Martinez\nHead of the External Engagement Office: Richard Cowburn
URL:https://www.kisciencepark.kisciencepark.hemsida.eu/event/deadline-ki-internship-program-company-project-proposal/
ATTACH;FMTTYPE=image/jpeg:https://www.kisciencepark.kisciencepark.hemsida.eu/wp-content/uploads/2023/09/230915-deadline.jpg
END:VEVENT
BEGIN:VEVENT
DTSTART;TZID=Europe/Stockholm:20230919T120000
DTEND;TZID=Europe/Stockholm:20230919T123000
DTSTAMP:20260422T211123
CREATED:20230913T201335Z
LAST-MODIFIED:20230913T201335Z
UID:10000026-1695124800-1695126600@www.kisciencepark.kisciencepark.hemsida.eu
SUMMARY:Lunch & Learn with CHaSE
DESCRIPTION:Welcome to LUNCH & LEARN! Simply bring your lunch to the AWL Café\, listen to an interesting talk and hang out with friends and colleagues from the community  at Innomedicum – AWL & KI Science Park bring dessert! \n\nCHaSE is Stockholm’s premier career and jobs fair that connects employers within the life science and health sectors with potential employees and provides a platform for students to begin to plan for their post-university careers. \n\nHear Katerina Chatziargyri\, Corporate Relations Manager at CHaSE 2023\, talk about the fair and how companies can meet\npotential future employees there. \n  \n  \n\n  \n\n\n  \n 
URL:https://www.kisciencepark.kisciencepark.hemsida.eu/event/lunch-learn-with-chase/
LOCATION:Innomedicum\, A Working Lab Cafe  |\, Nanna Svartz Väg 4\, Solna\, 171 65
ATTACH;FMTTYPE=image/jpeg:https://www.kisciencepark.kisciencepark.hemsida.eu/wp-content/uploads/2023/09/230919-lunch-and-learn-chase.jpg
ORGANIZER;CN="KI Science Park":MAILTO:event@kisciencepark.se
END:VEVENT
BEGIN:VEVENT
DTSTART;TZID=Europe/Stockholm:20230921T113000
DTEND;TZID=Europe/Stockholm:20230921T121500
DTSTAMP:20260422T211123
CREATED:20230913T204914Z
LAST-MODIFIED:20230913T204914Z
UID:10000029-1695295800-1695298500@www.kisciencepark.kisciencepark.hemsida.eu
SUMMARY:AWL Running club
DESCRIPTION:Looking to boost your fitness\, meet new people\, and enjoy the outdoors? \nThe AWL Running Club is open to all tenants and meet for eight weeks with a running coach from Urban Tribes. Every session will be 45 min and we will run 3\,5-4 km. \nTIME: Thursdays at 11:30\nLOCATION: Nanna Svartz väg 4\, Campus Solna \nRegister here! \nQuestions? Send an email to Armando at:  armando.cazareskorner@akademiskahus.se
URL:https://www.kisciencepark.kisciencepark.hemsida.eu/event/awl-running-club-3/
LOCATION:Innomedicum\, A Working Lab Cafe  |\, Nanna Svartz Väg 4\, Solna\, 171 65
ATTACH;FMTTYPE=image/jpeg:https://www.kisciencepark.kisciencepark.hemsida.eu/wp-content/uploads/2023/09/230914-running-club.jpg
END:VEVENT
BEGIN:VEVENT
DTSTART;TZID=Europe/Stockholm:20230922T120000
DTEND;TZID=Europe/Stockholm:20230922T125500
DTSTAMP:20260422T211123
CREATED:20230711T124725Z
LAST-MODIFIED:20230901T112953Z
UID:10000013-1695384000-1695387300@www.kisciencepark.kisciencepark.hemsida.eu
SUMMARY:KI Science Park's CEO and Business Leader Lunch (by invitation only)
DESCRIPTION:Welcome to KI Science Park’s CEO and Business Leader Lunch! \n\n\nThe CEO and Business Leaders Lunch is a monthly networking event exclusively for CEOs and business leaders of our community. It fosters connections\, strengthens networks among KI Science Park members\, and welcomes new companies to Campus Solna. This invitation-only gathering is open to all member companies and occasionally special guests. It provides a platform for insightful discussions\, idea exchange\, and potential collaborations. Join us for this networking opportunity that combines lunch with influential minds. \nLimited seats  |  By invitation only  |  Invitation is sent by e-mail. \n 
URL:https://www.kisciencepark.kisciencepark.hemsida.eu/event/ki-science-parks-ceos-and-business-leaders-lunch-2/
LOCATION:Innomedicum\, KI Science Park AB office\, Nanna Svarts Väg 6a\, floor 4\, Solna\, 171 65\, Sweden
ATTACH;FMTTYPE=image/jpeg:https://www.kisciencepark.kisciencepark.hemsida.eu/wp-content/uploads/2023/05/VD-lunch-230526.jpg
ORGANIZER;CN="KI Science Park":MAILTO:event@kisciencepark.se
END:VEVENT
BEGIN:VEVENT
DTSTART;TZID=Europe/Stockholm:20230926T100000
DTEND;TZID=Europe/Stockholm:20230926T150000
DTSTAMP:20260422T211123
CREATED:20230825T125753Z
LAST-MODIFIED:20230913T210403Z
UID:10000021-1695722400-1695740400@www.kisciencepark.kisciencepark.hemsida.eu
SUMMARY:Innovationsfondens dag 2023
DESCRIPTION:Välkommen till Innovationsfonden dag 26 september!\n\n\n\n\nEtt unikt tillfälle att få inblick i hur en del av framtidens hälso- och sjukvård\, kollektivtrafik\, regional utveckling och kultur kommer att utformas om de goda innovationer som visas får råda! \n⊳ Träffa innovativa medarbetare som demonstrerar sina projekt \n⊳ Lyssna till forskare berättar om egna exempel i inspirationsföreläsningar och spännande panelsamtal* Möt företag och organisationer som arbetar med innovationsutveckling \n⊳ Få information om hur det går till att söka medel från Innovationsfonden \n⊳ Utbyt egna erfarenheter och skapa samarbeten \n⊳ Rösta på Årets Innovation och Bästa implementation \nAlla medarbetare\, förtroendevalda\, forskare\, innovatörer\, personer från samarbetsbetspartners\, patientorganisationer\, lärosäten och intresserade företag hälsas varmt välkomna! \nAnmälan senast 19 september till innovationsfonden.rlk@regionstockholm.se \nMER INFORMATION och uppdaterat program se regionstockholm.se/Innovationsfonden \nVILL DU PRESENTERA din innovation under Innovationsfondens dag kontakta innovationsfonden.rlk@regionstockholm.se
URL:https://www.kisciencepark.kisciencepark.hemsida.eu/event/innovationsfondens-dag-2023/
LOCATION:Sune Bergström Aula\, Karolinska Universitetssjukhuset\, Solnavägen 30\, Solna\, 171 65\, Sweden
ATTACH;FMTTYPE=image/jpeg:https://www.kisciencepark.kisciencepark.hemsida.eu/wp-content/uploads/2023/08/innovationsfonden.jpg
END:VEVENT
BEGIN:VEVENT
DTSTART;TZID=Europe/Stockholm:20230927T074000
DTEND;TZID=Europe/Stockholm:20230927T090000
DTSTAMP:20260422T211123
CREATED:20230714T201403Z
LAST-MODIFIED:20230920T084044Z
UID:10000016-1695800400-1695805200@www.kisciencepark.kisciencepark.hemsida.eu
SUMMARY:Business Breakfast
DESCRIPTION:Meet David Bejker at Business Breakfast\nDavid Bejker\, CEO at Affibody\, has an extensive background in the biotechnology industry\, both as investor and business developer. He has previous experience from the venture capital firm HealthCap. He is Board Director at Affibody AB\, Amylonix AB\, LIDDS AB\, Ablivia AB\, and Abliva Incentiva AB. At Business Breakfast David will talk about  his journey with Affibody –  from technology startup to revenue generating clinical stage pre-commercial company with the next generation biopharmaceutical platform. \nRegistration Closed. Even fully booked. \nHow it works\n7:40 – 8:00 Breakfast is served.\n8:00 – 8:05 Welcome by Sara Gunnerås\, KI Science Park\n8:05 – 8:35 Presentation by David Bejker\n8:35 – 9:00 Q&A \nTime & Place\n07:40 – 9:00. September 27st\nAWL Café\, Innomedicum\, Nanna Svartz Väg 4\, Campus Solna. \nAbout KI Science Park Business Breakfast\nBusiness Breakfast is a monthly networking event spotlighting current topics in Life Science. A place to meet old friends and broaden your network on Campus Solna and in Hagastaden. Bring your colleagues\, just remember to sign up! The language of the presentation is English. We hope this breakfast will boost your energy – simply a great way to start your day! \nAdditionally\, maximize the value of this knowledge sharing session by actively participating in the Q&A session and utilizing the opportunity to ask any questions you may have.
URL:https://www.kisciencepark.kisciencepark.hemsida.eu/event/business-breakfast-4/
LOCATION:Innomedicum\, A Working Lab Cafe  |\, Nanna Svartz Väg 4\, Solna\, 171 65
ATTACH;FMTTYPE=image/jpeg:https://www.kisciencepark.kisciencepark.hemsida.eu/wp-content/uploads/2023/07/230927-bb-david-bejker.jpg
ORGANIZER;CN="KI Science Park":MAILTO:event@kisciencepark.se
END:VEVENT
BEGIN:VEVENT
DTSTART;TZID=Europe/Stockholm:20230928T113000
DTEND;TZID=Europe/Stockholm:20230928T121500
DTSTAMP:20260422T211123
CREATED:20230913T204927Z
LAST-MODIFIED:20230913T204927Z
UID:10000030-1695900600-1695903300@www.kisciencepark.kisciencepark.hemsida.eu
SUMMARY:AWL Running club
DESCRIPTION:Looking to boost your fitness\, meet new people\, and enjoy the outdoors? \nThe AWL Running Club is open to all tenants and meet for eight weeks with a running coach from Urban Tribes. Every session will be 45 min and we will run 3\,5-4 km. \nTIME: Thursdays at 11:30\nLOCATION: Nanna Svartz väg 4\, Campus Solna \nRegister here! \nQuestions? Send an email to Armando at:  armando.cazareskorner@akademiskahus.se
URL:https://www.kisciencepark.kisciencepark.hemsida.eu/event/awl-running-club-4/
LOCATION:Innomedicum\, A Working Lab Cafe  |\, Nanna Svartz Väg 4\, Solna\, 171 65
ATTACH;FMTTYPE=image/jpeg:https://www.kisciencepark.kisciencepark.hemsida.eu/wp-content/uploads/2023/09/230914-running-club.jpg
END:VEVENT
BEGIN:VEVENT
DTSTART;TZID=Europe/Stockholm:20230928T150000
DTEND;TZID=Europe/Stockholm:20230928T170000
DTSTAMP:20260422T211123
CREATED:20230901T102525Z
LAST-MODIFIED:20230901T102921Z
UID:10000022-1695913200-1695920400@www.kisciencepark.kisciencepark.hemsida.eu
SUMMARY:KI Master Thesis Fair
DESCRIPTION:We arrange this thesis fair to assist companies in meeting students from of Karolinska Institutet’s master’s programs. This is a unique opportunity to meet a selection of KI’s master program students interested in industry projects. The students are looking for companies where they can carry out their 20-week- long thesis work in the spring of 2024. \n\n\n\n\n\nParticipating programmes\nStudents from the following programs will participate in the fair: \n• Master’s Program in Bioentrepreneurship Contact person: Susanna Von Holst\, susanna.von.holst@ki.se \n• Master’s Program in Health Informatics Contact person: Sabine Koch\, sabine.koch@ki.se \n• Master’s Program in Health Economics\, Policy\, and Management Contact person: Mathilde Sengoelge\, mathilde.sengoelge@ki.se \nIf you have any questions about thesis work and the programs\, you can reach out to the respective program’s contact person mentioned above. \n\n\n\n\n\nWhat to expect as an Exhibitor?\nWe are planning for a simple event where exhibitors will have the opportunity to meet students in a relaxed atmosphere. We are aiming for about 10-12 exhibitors. As an exhibitor you need to… \n\n\n\n\n\n• be interested in offering a thesis project if you meet the right student. • bring a roll-up banner that identifies your company. \n• prepare a one-minute pitch where you present what your company primarily works on and what you are looking for at the fair. \n\n\n\n\n\nNo cost\, the participation is free of charge. More organizational information will be provided after the final registration date. \n\n\n\n\n\nHow to register\nThe fair is open for companies interested in exhibiting and master students of the selected programs. \nTo register as a company contact  Sara Gunnerås \nIf you are student contact your program’s contact person mentioned above. \n\nHope to see you on the 28th. Warm welcome!
URL:https://www.kisciencepark.kisciencepark.hemsida.eu/event/ki-master-thesis-fair/
LOCATION:Widerströmska huset\, Tomtebodavägen 18\, Solna\, 171 65\, Sweden
ATTACH;FMTTYPE=image/jpeg:https://www.kisciencepark.kisciencepark.hemsida.eu/wp-content/uploads/2023/09/master-thesis-fair-28-sep-2023.jpg
ORGANIZER;CN="KI Science Park":MAILTO:event@kisciencepark.se
END:VEVENT
END:VCALENDAR