BEGIN:VCALENDAR
VERSION:2.0
PRODID:-//KI Science Park - ECPv6.15.0.1//NONSGML v1.0//EN
CALSCALE:GREGORIAN
METHOD:PUBLISH
X-WR-CALNAME:KI Science Park
X-ORIGINAL-URL:https://www.kisciencepark.kisciencepark.hemsida.eu
X-WR-CALDESC:Events for KI Science Park
REFRESH-INTERVAL;VALUE=DURATION:PT1H
X-Robots-Tag:noindex
X-PUBLISHED-TTL:PT1H
BEGIN:VTIMEZONE
TZID:Europe/Stockholm
BEGIN:DAYLIGHT
TZOFFSETFROM:+0100
TZOFFSETTO:+0200
TZNAME:CEST
DTSTART:20230326T010000
END:DAYLIGHT
BEGIN:STANDARD
TZOFFSETFROM:+0200
TZOFFSETTO:+0100
TZNAME:CET
DTSTART:20231029T010000
END:STANDARD
END:VTIMEZONE
BEGIN:VEVENT
DTSTART;VALUE=DATE:20230825
DTEND;VALUE=DATE:20230826
DTSTAMP:20260422T225442
CREATED:20230815T140600Z
LAST-MODIFIED:20230818T121847Z
UID:10000017-1692921600-1693007999@www.kisciencepark.kisciencepark.hemsida.eu
SUMMARY:Last day of applying to KI Innovations start-up Incubator DRIVE!
DESCRIPTION:Call for new start-ups: Application open for new start-ups Fall 2023 \nGrow your Health or Life Science Business Start-up in a unique environment in KI Innovations Start-up Incubator DRIVE \nThe application period is open from June 12 – August 25 \nOpen digital information session answering all your questions \nDate: June 13\, Time: 12.00-13.00. Digital information session via Teams link. No registration needed. Click here to join the meeting \nDate: June 29\, Time: 12.00-13.00. Digital information session via Teams link. No registration needed. Click here to join the meeting \nRead all about what do you receive\, who can apply\, what you get\, what you give and all the important dates here
URL:https://www.kisciencepark.kisciencepark.hemsida.eu/event/last-day-of-application-for-ki-innovations-start-up-incubator-drive/
ATTACH;FMTTYPE=image/jpeg:https://www.kisciencepark.kisciencepark.hemsida.eu/wp-content/uploads/2023/08/230825-drive.jpg
END:VEVENT
BEGIN:VEVENT
DTSTART;TZID=Europe/Stockholm:20230825T120000
DTEND;TZID=Europe/Stockholm:20230825T125500
DTSTAMP:20260422T225442
CREATED:20230710T213736Z
LAST-MODIFIED:20231024T113646Z
UID:10000011-1692964800-1692968100@www.kisciencepark.kisciencepark.hemsida.eu
SUMMARY:KI Science Park's CEO and Business Leader Lunch (by invitation only)
DESCRIPTION:Welcome to KI Science Park’s CEO and Business Leader Lunch! \n\n\nThe CEO and Business Leader Lunch is a monthly networking event exclusively for CEOs and business leaders of our community. It fosters connections\, strengthens networks among KI Science Park members\, and welcomes new companies to Campus Solna. This invitation-only gathering is open to all member companies and occasionally special guests. It provides a platform for insightful discussions\, idea exchange\, and potential collaborations. Join us for this networking opportunity that combines lunch with influential minds. \nLimited seats  |  By invitation only  |  Invitation is sent by e-mail. \n\nDid you not receive an invitation\, please contact: event@kisciencepark.se \n 
URL:https://www.kisciencepark.kisciencepark.hemsida.eu/event/ki-science-park-ceo-and-business-leaders-lunch-network-by-invitation-only/
LOCATION:Innomedicum\, KI Science Park AB office\, Nanna Svarts Väg 6a\, floor 4\, Solna\, 171 65\, Sweden
ATTACH;FMTTYPE=image/jpeg:https://www.kisciencepark.kisciencepark.hemsida.eu/wp-content/uploads/2023/07/230825-vd-lunch-flyer-3-1.jpg
ORGANIZER;CN="KI Science Park":MAILTO:event@kisciencepark.se
END:VEVENT
BEGIN:VEVENT
DTSTART;TZID=Europe/Stockholm:20230831T074000
DTEND;TZID=Europe/Stockholm:20230831T090000
DTSTAMP:20260422T225442
CREATED:20230711T144751Z
LAST-MODIFIED:20231024T113053Z
UID:10000014-1693467600-1693472400@www.kisciencepark.kisciencepark.hemsida.eu
SUMMARY:Business Breakfast with Gunilla Osswald - registrations closed. The event is fully booked!
DESCRIPTION:Meet Gunilla Osswald at Business Breakfast\nGunilla Osswald\, CEO of BioArctic has extensive experience in drug development\, with a documented track record of project delivery from preclinical to regulatory submission and launch. She is an inspiring leader and motivator with a strong track record of building successful organizations\, with broad experience include line management as well as cross functional project leadership. Her passion is developing drugs\, organizations\, and people. At business breakfast she will share her perspectives on the importance of adaptive leadership during a company’s growth journey. \n  \nFULLY BOOKED. REGISTRATION CLOSED. \n  \nHow it works\n7:40 – 8:00 Breakfast is served.\n8:00 – 8:05 Welcome by Sara Gunneras\, KI Science Park\n8:05 – 8:35 Presentation by Gunilla Osswald\n8:35 – 9:00 Q&A \n  \nTime & Place\n07:40 – 9:00. August 31st\nAWL Café\, Innomedicum\, Nanna Svartz Väg 4\, Campus Solna.\nNote: To secure your ticket\, register no later than: August 28th \n\nAbout KI Science Park Business Breakfast\nBusiness Breakfast is a monthly networking event spotlighting current topics in Life Science. A place to meet old friends and broaden your network on Campus Solna and in Hagastaden. Bring your colleagues\, just remember to sign up! The language of the presentation is English. We hope this breakfast will boost your energy – simply a great way to start your day!\nAdditionally\, maximize the value of this knowledge sharing session by actively participating in the Q&A session and utilizing the opportunity to ask any questions you may have.
URL:https://www.kisciencepark.kisciencepark.hemsida.eu/event/business-breakfast-3/
LOCATION:Innomedicum\, A Working Lab Cafe  |\, Nanna Svartz Väg 4\, Solna\, 171 65
ATTACH;FMTTYPE=image/jpeg:https://www.kisciencepark.kisciencepark.hemsida.eu/wp-content/uploads/2023/08/230831-business-breakfast-gunilla-osswald-inbjudan.jpg
ORGANIZER;CN="KI Science Park":MAILTO:event@kisciencepark.se
END:VEVENT
END:VCALENDAR